{"text_format":"1","workbook":"xlsx","n_sheets":9,"sheets":["1. Définitions","2. EF","3. Utilisation infra-sillons","4. Utilisation infra-trafic","5. Offre de transport","5.Data","6. Qualité service","7. Fréquentation","8. REF"],"not_rendered":{"charts":0,"images":2,"macros":1,"external_links":0,"defined_names":5,"comments":0,"pivot_tables":0},"unopened":[],"bounds":{"document_bytes":16777216,"sheet_cells":100000,"rows_first":2000,"rows_last":500,"rows_between":2000,"halvings":0,"cell_chars":16384,"cell_head_chars":4096},"cells_cut":0,"cells_raw":0,"read":"whole","date_system":"1900"}

{"sheet":"1. Définitions","index":0,"n_rows":95,"n_cols":9,"rows_kept":95,"cut":false,"hidden":false,"merged":[[39,2,39,3],[39,4,39,7],[40,2,40,3],[40,4,40,7],[73,2,73,3],[73,4,73,7],[1,1,1,8],[2,1,2,8],[4,1,4,8],[5,1,5,8],[6,1,6,8],[8,1,8,8],[71,1,71,8],[65,1,65,8],[17,1,17,8],[19,1,19,8],[20,1,20,8],[21,1,21,8],[23,7,23,8],[14,1,14,8],[15,1,15,8],[16,1,16,8],[10,1,10,8],[11,1,11,8],[12,1,12,8],[13,1,13,8],[37,2,37,3],[37,4,37,7],[38,2,38,3],[38,4,38,7],[30,1,30,8],[31,2,31,3],[31,4,31,7],[36,2,36,3],[36,4,36,7],[35,2,35,3],[35,4,35,7],[25,1,25,8],[26,1,26,8],[27,1,27,8],[29,1,29,8],[32,2,32,3],[32,4,32,7],[33,2,33,3],[33,4,33,7],[34,2,34,3],[34,4,34,7],[23,1,23,4],[43,2,43,3],[43,4,43,7],[44,2,44,3],[44,4,44,7],[57,2,57,3],[57,4,57,7],[46,2,46,3],[46,4,46,7],[47,2,47,3],[47,4,47,7],[56,2,56,3],[56,4,56,7],[48,2,48,3],[48,4,48,7],[49,2,49,3],[45,2,45,3],[45,4,45,7],[53,4,53,7],[49,4,49,7],[50,2,50,3],[50,4,50,7],[51,2,51,3],[51,4,51,7],[52,2,52,3],[68,2,68,3],[63,2,63,3],[63,4,63,7],[68,4,68,7],[53,2,53,3],[54,2,54,3],[54,4,54,7],[58,2,58,3],[82,2,82,3],[82,4,82,7],[59,2,59,3],[59,4,59,7],[60,2,60,3],[62,2,62,3],[64,2,64,3],[64,4,64,7],[66,2,66,3],[66,4,66,7],[67,2,67,3],[61,2,61,3],[61,4,61,7],[52,4,52,7],[67,4,67,7],[58,4,58,7],[23,5,23,6],[91,2,91,3],[91,4,91,7],[85,2,85,3],[85,4,85,7],[86,2,86,3],[86,4,86,7],[87,2,87,3],[87,4,87,7],[84,2,84,3],[84,4,84,7],[80,2,80,3],[76,2,76,3],[69,2,69,3],[60,4,60,7],[55,2,55,3],[55,4,55,7],[41,2,41,3],[41,4,41,7],[62,4,62,7],[69,4,69,7],[92,2,92,3],[92,4,92,7],[93,2,93,3],[93,4,93,7],[88,2,88,3],[88,4,88,7],[89,2,89,3],[89,4,89,7],[90,2,90,3],[90,4,90,7],[9,1,9,9],[94,2,94,3],[94,4,94,7],[42,1,42,8],[80,4,80,7],[81,2,81,3],[81,4,81,7],[83,2,83,3],[83,4,83,7],[77,2,77,3],[77,4,77,7],[78,2,78,3],[78,4,78,7],[79,2,79,3],[79,4,79,7],[74,2,74,3],[74,4,74,7],[75,2,75,3],[75,4,75,7],[76,4,76,7],[70,2,70,3],[70,4,70,7],[72,2,72,3],[72,4,72,7]]}
[]
[null,"Annexe 1 de la décision n° 2016-052 du 18 avril 2016 "]
[null,"Liste et définition des informations à transmettre à l'Autorité de régulation des activités ferroviaires et routières par les entreprises ferroviaires de voyageurs"]
[]
[null,"MODALITES "]
[null,"L'annexe complétée doit être envoyée à l'adresse suivante : observatoire@arafer.fr"]
[null,"Pour toutes demandes de précisions sur la présente annexe, merci de nous contacter également à cette adresse."]
[]
[null,"Ce fichier est composé de 8 onglets. "]
[null,"Les entreprises ferroviaires doivent compléter intégralement les cellules grisées des onglets 2 à 8 :"]
[null,"1. Définitions"]
[null,"2. Informations sur l'entreprise ferroviaire (onglet EF)"]
[null,"3. Utilisation de l'infrastructure - Allocation de capacités (onglet Utilisation infra-sillons)"]
[null,"4. Utilisation de l'infrastructure - Trafic (onglet Utilisation infra-trafic)"]
[null,"5. Consistance et caractéristiques de l'offre de transport (onglet Offre de transport)"]
[null,"6. Consistance et caractéristiques de l'offre de transport - Qualité de service (Onglet Qualité service)"]
[null,"7. Fréquentation des services (onglet fréquentation)"]
[null,"8. Résultats économiques et financiers (onglet REF)"]
[]
[null,"Le périmètre géographique des informations collectées est le réseau ferré national."]
[null,"- Pour la première collecte, les données à renseigner couvrent l'exercice 2015 et le premier trimestre 2016. Le fichier doit être transmis à l'Autorité au plus tard le 15 juin 2016."]
[null,"- Pour les données des trimestres 2, 3 et 4 de l'exercice 2016, les informations relatives à chaque trimestre d'activité sont transmises à l’Autorité au plus tard le 15 du deuxième mois suivant la fin du trimestre."]
[]
[null,"Merci de préciser la période couverte par les informations fournies dans ce fichier : ",null,null,null,"Du : JJ/MM/AAAA",null,"Au: JJ/MM/AAAA"]
[]
[null,"Les entreprises ferroviaires sont invitées à fournir à l'Autorité tous documents et/ou précisions complémentaires susceptibles de permettre à l'Autorité d'analyser au mieux les informations collectées dans le cadre de la présente Décision."]
[null,"Dans tout le document, l'acronyme GI désigne le gestionnaire d'infrastructure ferroviaire et EF signifie entreprise ferroviaire."]
[null,"Les informations listées ci-dessous doivent être spécifiées dans les onglets 3 à 8 de la présente annexe."]
[]
[null,"Informations sur l'utilisation de l'infrastructure"]
[null,"Sur les sillons et le trafic (onglets 3 et 4) :"]
[null,"Libellé","Format de l'information",null,"Définition",null,null,null,"Fréquence de collecte"]
[null,"Sillons réservés","Sillons-jour",null,"Sillons-jour réservés par l'EF au lot principal pour l'horaire de service 2015",null,null,null,"Annuelle"]
[null,"Sillons attribués \"ferme\"","Sillons-jour",null,"Sillons-jour retenus en \"attribution ferme\" par le GI pour les demandes adressées pour le lot principal de l'horaire de service 2015",null,null,null,"Annuelle"]
[null,"Sillons \"à l'étude\"","Sillons-jour",null,"Sillons-jour retenus \"à l'étude\" par le GI pour les demandes adressées lors du lot principal pour l'horaire de service 2015",null,null,null,"Annuelle"]
[null,"Sillons \"refusés\"","Sillons-jour",null,"Sillons-jour \"refusés\" par le GI pour les demandes adressées lors du lot principal pour l'horaire de service 2015",null,null,null,"Annuelle"]
[null,"Sillons commerciaux","Sillons-jour",null,"Sillons correspondant à une circulation à vocation commerciale (conventionnée ou non) sur voies principales",null,null,null,"Annuelle"]
[null,"Sillons non-commerciaux","Sillons-jour",null,"Sillons correspondant à une circulation à vocation non commerciale (haut-le-pied, W, circulations techniques)",null,null,null,"Annuelle"]
[null,"Trafic intérieur","Trains.km / Passagers.km\n",null,"Trafic dont l'origine et la destination se situent sur le territoire national.",null,null,null,"Trimestrielle"]
[null,"Trafic international","Trains.km / Passagers.km",null,"Trafic dont l'origine ou la destination se situent hors du territoire national. Cela comprend les trains dits \"nationaux avec prolongation internationale\". Les informations demandées sont celles ayant trait à la part effectuée sur le RFN. ",null,null,null,"Trimestrielle"]
[null,"Trafic régional","Trains.km / Passagers.km",null,"Trafic réalisé sous convention avec une AOT régionale.",null,null,null,"Trimestrielle"]
[null,"Trafic longue-distance","Trains.km / Passagers.km",null,"Trafic réalisé sous convention avec l'Etat ou trafic non-conventionné.",null,null,null,"Trimestrielle"]
[null,"Informations sur la consistance et sur les caractéristiques de l'offre de transport (onglets 5 et 6)"]
[null,"Libellé","Format de l'information",null,"Définition",null,null,null,"Fréquence de collecte"]
[null,"Ligne","Liste des origines-destinations",null,"Une ligne est définie par (1) une origine et une destination finale, et (2) une politique commerciale d'arrêt constante pour l'ensemble des arrêts desservis. \nSont donc comptabilisés en lignes distinctes les services différents ayant une même origine et destination finale (exemple: service direct, service omnibus).",null,null,null,"Trimestrielle"]
[null,"Liaison","Liste des origines-destinations",null,"Une liaison est définie comme une origine et une destination à l’intérieur d’une ligne, y compris l'origine et la destination finale de la ligne. Par exemple, la ligne n°1 allant de A à D peut contenir jusqu'à 6 liaisons : A-B ; A-C ; A-D ; B-C ; B-D ; C-D. Les valeurs par liaison sont à renseigner dans les deux sens de circulation (par exemple, sommer le nombre de passagers effectuant A-B et B-A pour la liaison \"A-B\"). ",null,null,null,"Trimestrielle"]
[null,"Service conventionné","Oui/Non",null,"Précise si la ligne est opérée dans le cadre d'une convention signée avec une AOT ou non",null,null,null,"Trimestrielle"]
[null,"Fréquence journalière moyenne","Nombre",null,"Formule de calcul : nombre total de trains ayant effectivement circulé dans les deux sens de circulation pendant le trimestre, divisé par le nombre de jours dans le trimestre",null,null,null,"Trimestrielle"]
[null,"Ligne inter-régionale","Oui/Non",null,"Lignes commerciales ou conventionnées traversant au moins deux régions administratives",null,null,null,"Trimestrielle"]
[null,"Ligne internationale","Oui/Non",null,"Lignes commerciales, y compris lignes commerciales conventionnées, dont le départ ou l'arrivée se situe hors du territoire national. Comprend les lignes nationales avec prolongation internationale",null,null,null,"Trimestrielle"]
[null,"Ligne grande-vitesse","Oui/Non",null,"Lignes commerciales, y compris lignes commerciales conventionnées, empruntant sur tout ou partie de son parcours une ligne à grande vitesse.",null,null,null,"Trimestrielle"]
[null,"Trains programmés","Nombre",null,"Est considéré comme dé-programmé (donc non pris en compte dans ces données) tout train supprimé, quel que soit le délai de déprogrammation du train. ",null,null,null,"Trimestrielle"]
[null,"Temps de trajet","Temps ou temps moyen, en minutes",null,"Temps de trajet annoncé entre l'origine et la destination pour chaque liaison. En cas de temps de trajet irréguliers, fournir un moyenne sur la période considérée.",null,null,null,"Trimestrielle"]
[null,"Train.km ","Nombre",null,"Nombre total de trains.km commerciaux. Ne pas compter en double les rames en UM",null,null,null,"Trimestrielle"]
[null,"Capacité d'emport moyenne","Nombre",null,"Nombre moyen de places (sièges et/ou couchettes) offertes sur une ligne. ",null,null,null,"Trimestrielle"]
[null,"Distance ferroviaire","kilomètres",null,"Distance ferroviaire parcourue par liaison",null,null,null,"Trimestrielle"]
[null,"Trains déprogrammés","Nombre",null,"Trains dont la programmation était connue des voyageurs et dont la circulation a été supprimée, même partiellement, quel que soit le délai entre la suppression et le départ prévu initialement. Par simplification, une annulation partielle (sur une partie du parcours) est assimilée à une déprogrammation.",null,null,null,"Trimestrielle"]
[null,"Voyageurs concernés par des déprogrammations","Nombre",null,"Nombre de passagers dont le train a été déprogrammé. La méthodologie exacte de calcul doit être précisée",null,null,null,"Trimestrielle"]
[null,"Trains annulés","Nombre",null,"Trains dont l'annulation a été annoncée après 16h la veille",null,null,null,"Trimestrielle"]
[null,"Voyageurs concernés par des annulations","Nombre",null,"Nombre de passagers dont le train a été annulé. La méthodologie exacte de calcul doit être précisée",null,null,null,"Trimestrielle"]
[null,"Arrivées retardées","Nombre",null,"Trains arrivés après l’horaire prévu au terminus de la ligne ferroviaire. Les retards sont ceux réellement perçus par les voyageurs et ne sont donc pas allégés des éventuelles neutralisations contractuelles pour raison externe exceptionnelle. Les seuils de retard sont précisés à l'onglet 6 et dépendent de la durée du trajet",null,null,null,"Trimestrielle"]
[null,"Voyageurs concernés par des arrivées retardées","Nombre",null,"Nombre de passagers qui ont voyagé sur la ligne dont l'arrivée a été retardée. La méthodologie exacte de calcul doit être précisée par l'entreprise",null,null,null,"Trimestrielle"]
[null,"Retard moyen à l'arrivée","Minutes",null,"Nombre moyen de minutes de retard constatées sur la ligne pour les trains arrivés en retard",null,null,null,"Trimestrielle"]
[null,"Minutes perdues","Minutes",null,"Minutes perdues causées par l'EF, par le GI ou pour causes externes, selon la classification prévue par le système d'amélioration des performances de SNCF Réseau. La mesure de la performance retenue est la perte de temps à partir de 5 minutes.",null,null,null,"Annuelle"]
[null,"Causes des minutes perdues","Minutes",null,"Répartition des causes des minutes perdues entre l'EF, le GI et les autres causes et répartition par \"familles de causes\", au sens défini par le système d'amélioration des performances de SNCF Réseau et rappelé à l'onglet 6. ",null,null,null,"Annuelle"]
[null,"Informations la fréquentation des services de transport (onglet 8)"]
[null,"Libellé","Format de l'information",null,"Définition",null,null,null,"Fréquence de collecte"]
[null,"Passagers et passager.km","Nombre",null,"Nombre de passagers transportés et passager.km. L'information est détaillée par liaison",null,null,null,"Trimestrielle"]
[null,"Répartition des passagers","Pourcentage",null,"Répartition du nombre de passagers par ligne selon la tarification appliquée. Voir onglet 7 pour le détail",null,null,null,"Trimestrielle"]
[null,"Recettes issues du trafic","k€",null,"Montant total des recettes tirées de la vente de billets et d'abonnements par ligne",null,null,null,"Trimestrielle"]
[null,"Répartition des recettes","Pourcentage",null,"Répartition des recettes par ligne selon la tarification appliquée. Voir onglet 7 pour le détail",null,null,null,"Trimestrielle"]
[null,"Informations économiques et financières (onglet 8)"]
[null,"Libellé","Format de l'information",null,"Définition",null,null,null,"Fréquence de collecte"]
[null,"Répartition des billets vendus par canal de distribution","%",null,"Part des passagers ayant acheté leur billet via chaque canal de distribution",null,null,null,"Annuelle"]
[null,"Redevances d'accès","k€ ",null,"Montant total annuel des redevances d'accès. Ce montant est détaillé par type de trafic",null,null,null,"Annuelle"]
[null,"Redevances de réservation","k€",null,"Montant total annuel des redevances de réservation. Ce montant est détaillé par type de trafic",null,null,null,"Annuelle"]
[null,"Redevances de circulation","k€",null,"Montant total annuel des redevances de circulation. Ce montant est détaillé par type de trafic",null,null,null,"Annuelle"]
[null,"Redevances de circulation électrique","k€",null,"Montant total annuel des redevances de circulation électrique. Ce montant est détaillé par type de trafic",null,null,null,"Annuelle"]
[null,"Redevances quai","k€",null,"Montant total annuel des redevances quai. Ce montant est détaillé par type de trafic",null,null,null,"Annuelle"]
[null,"Redevances gares de voyageurs","k€",null,"Montant total des redevances payées pour l'accès aux gares ferroviaires (hors redevances quai), détaillé par catégorie de gares (A,B,C)",null,null,null,"Annuelle"]
[null,"Redevances d'accès aux sites d'approvision-nement en combustible","k€",null,"Montant total payé pour l'utilisation des installations  d'approvisionnement",null,null,null,"Annuelle"]
[null,"Redevances pour les centres de maintenance","k€",null,"Montant total payé pour l'accès aux centres de maintenance ",null,null,null,"Annuelle"]
[null,"Redevances d'accès aux sites d'approvision-nement en sable","k€",null,"Montant total payé pour l'accès aux sites d'approvisionnement en sable ",null,null,null,"Annuelle"]
[null,"Redevances d'usage des voies de service","k€",null,"Montant total des charges payées pour l'accès aux voies de service. ",null,null,null,"Annuelle"]
[null,"Recettes issues du trafic","k€",null,"Montant total des recettes tirées de la vente de billets et d'abonnements",null,null,null,"Annuelle"]
[null,"Compensations tarifaires","k€",null,"Montant total des rémunérations publiques basées sur le remboursement de la politique de tarification sociale de l'AOT",null,null,null,"Annuelle"]
[null,"Contributions (hors compensations)","k€",null,"Montant total des rémunérations, subventions et compensations publiques (hors compensations tarifaires) dans le cadre d'aide au secteur ou à l'activité, ou encore dans le cadre d'une convention signée avec une AOT",null,null,null,"Annuelle"]
[null,"Autres recettes ","k€",null,"Montant total des autres recettes perçues dans l'activité de transport de voyageurs. Il est demandé de préciser la nature de ces autres recettes",null,null,null,"Annuelle"]
[null,"Autres produits d'exploitation","k€",null,"Montant total des autres produits d'exploitation perçus par l'EF (activités connexes, hors transport de voyageurs). Il est demandé de préciser la nature de ces autres produits d'exploitation",null,null,null,"Annuelle"]
[null,"Total des charges d'exploitation","k€",null,"Dépenses inhérentes à l'exploitation de l'entreprise",null,null,null,"Annuelle"]
[null,"Dont Péages","k€",null,"Total des charges d'accès à l'infrastructure ferroviaire ",null,null,null,"Annuelle"]
[null,"Dont location de matériels et engins","k€",null,"Charges relatives au matériel roulant (ex : maintenance, nettoyage…) ",null,null,null,"Annuelle"]
[null,"Dont Charges de personnel","k€",null,"Masse salariale de l'entreprise",null,null,null,"Annuelle"]
[null,"Dont Energie","k€",null,"Poste de dépenses relatif à l'énergie utilisée pour la circulation du matériel roulant ",null,null,null,"Annuelle"]
[null,"Effectif moyen \n(en ETP)","Nombre",null,"Nombre d'employés (équivalent temps plein) pour l'activité considérée",null,null,null,"Annuelle"]

{"sheet":"2. EF","index":1,"n_rows":18,"n_cols":4,"rows_kept":18,"cut":false,"hidden":false,"merged":[[16,1,16,3],[23,1,23,2],[24,1,24,2],[17,1,17,2],[18,1,18,2],[19,1,19,2],[20,1,20,2],[21,1,21,2],[22,1,22,2],[11,1,11,5],[11,7,11,14],[13,1,13,5],[13,7,13,14],[14,1,14,5],[14,7,14,14],[12,1,12,5],[12,7,12,14],[9,1,9,5],[9,7,9,14],[5,1,5,5],[5,7,5,14],[7,1,7,5],[7,7,7,14],[8,7,8,14],[6,1,6,5],[6,7,6,14]]}
[]
[null,"INFORMATIONS SUR L'ENTREPRISE"]
[]
[null,"Informations à compléter/mettre à jour à chaque envoi de fichier"]
[]
[null,"Nom de l'entreprise/ Dénomination sociale"]
[null,"Forme juridique de l'entreprise"]
[null,"N° SIREN de l'entreprise"]
[null,"Nom du groupe / Dénomination sociale du groupe, le cas échéant"]
[null,"N° SIREN du groupe, le cas échéant"]
[]
[null,"NOM et prénom de l'interlocuteur répondant"]
[null,"Fonction"]
[null,"Téléphone"]
[null,"Courriel"]
[]
[null,"Propriété / actionnariat de l'entreprise"]
[null,"Identité",null,"Parts (%)"]

{"sheet":"3. Utilisation infra-sillons","index":2,"n_rows":19,"n_cols":4,"rows_kept":19,"cut":false,"hidden":false,"merged":[[2,1,2,9],[4,1,4,11]]}
[]
[null,"INFORMATIONS SUR L'UTILISATION DE L'INFRASTRUCTURE"]
[null,"- Allocation de capacités -"]
[]
[null,"Fréquence de collecte : Annuelle\nPériode couverte : Horaire de service 2015, Horaire de service 2016\nEchéance d'envoi des informations : 15 juin 2016\n\nMerci de préciser les informations suivantes portant sur les quantités de sillons demandées et attribuées à votre entreprise au lot principal, en vous référant aux définitions fournies à l'onglet 1 de la présente annexe. Les sillons concernés sont ceux réservés et attribués pour les horaires de service 2015 et 2016."]
[]
[null,"HDS 2015","Sillons commerciaux","Sillons non-commerciaux"]
[null,null,"Sillons-jour","Sillons-jour"]
[null,"Sillons réservés"]
[null,"Sillons attribués \"fermes\""]
[null,"Sillons \"à l'étude\""]
[null,"Sillons refusés"]
[]
[null,"HDS 2016","Sillons commerciaux","Sillons non-commerciaux"]
[null,null,"Sillons-jour","Sillons-jour"]
[null,"Sillons réservés"]
[null,"Sillons attribués \"fermes\""]
[null,"Sillons \"à l'étude\""]
[null,"Sillons refusés"]

{"sheet":"4. Utilisation infra-trafic","index":3,"n_rows":30,"n_cols":14,"rows_kept":30,"cut":false,"hidden":false,"merged":[[29,1,29,4],[12,1,12,4],[27,1,27,4],[26,8,26,11],[24,8,24,11],[19,1,19,4],[28,1,28,4],[26,1,26,4],[15,8,15,11],[13,1,13,4],[20,1,20,4],[20,8,20,11],[23,8,23,11],[16,8,16,11],[17,8,17,11],[18,8,18,11],[10,1,10,4],[2,1,2,4],[4,1,4,13],[25,8,25,11],[14,1,14,4],[24,1,24,4],[8,1,8,4],[9,1,9,4],[11,1,11,4],[17,1,17,4],[16,1,16,4],[18,1,18,4],[21,1,21,4],[25,1,25,4],[19,8,19,11],[21,8,21,11]]}
[]
[null,"INFORMATIONS SUR L'UTILISATION DE L'INFRASTRUCTURE"]
[null,"- Trafic -"]
[]
[null,"Fréquence de collecte : \n- Annuelle pour l'exercice 2015 ;\n- Trimestrielle pour l'exercice 2016 \nEchéances d'envoi des informations :\n- le 15 juin 2016 pour la collecte annuelle portant sur l'exercice 2015 et la collecte trimestrielle pour le 1er trimestre 2016 ;\n- au plus tard le 15 du deuxième mois suivant la fin du trimestre concerné pour les informations relatives aux trimestres 2, 3 et 4 de l’exercice 2016.\nLes informations ci-dessous portent sur le trafic effectif commercial et non-commercial en trains.km. Merci de vous référer aux définitions fournies à l'onglet 1 de la présente annexe. \nPour le trafic international, il est demandé de remplir la part du trafic effectué sur le RFN. En option, si la part du trafic international réalisée hors RFN est disponible, merci de compléter l'information dans le tableau dédié."]
[]
[null,null,null,null,null,"2016\nActivité trimestrielle","2015\nActivité annuelle"]
[]
[null,"Trafic commercial intérieur \n(origine et destination en France)",null,null,null,"Trains.km","Trains.km"]
[null,"Trafic intérieur régional"]
[null,"Dont Ile-de-France (Transilien)"]
[null,"Trafic intérieur longue distance"]
[null,"Dont LGV"]
[null,"Dont conventionné"]
[null,"Total Trafic commercial intérieur",null,null,null,{"$f":"F10+F12","v":0},{"$f":"G10+G12","v":0}]
[null,null,null,null,null,null,null,null,"Information optionnelle",null,null,null,"2016\nActivité trimestrielle","2015\nActivité annuelle"]
[null,"Trafic commercial international - Part RFN\n(origine ou destination hors France)",null,null,null,"Trains.km","Trains.km",null,"Trafic commercial international - Part hors RFN\n(origine ou destination hors France)",null,null,null,"Trains.km","Trains.km"]
[null,"Trafic international régional",null,null,null,null,null,null,"Trafic international régional"]
[null,"Trafic international longue distance",null,null,null,null,null,null,"Trafic international longue distance"]
[null,"Dont LGV",null,null,null,null,null,null,"Dont LGV"]
[null,"Dont conventionné",null,null,null,null,null,null,"Dont conventionné"]
[null,"Total Trafic commercial international",null,null,null,{"$f":"F18+F19","v":0},{"$f":"G18+G19","v":0},null,"Total Trafic commercial international",null,null,null,{"$f":"M18+M19","v":0},{"$f":"N18+N19","v":0}]
[]
[]
[null,"Trafic non commercial",null,null,null,"Trains.km","Trains.km"]
[null,"Trafic non commercial régional"]
[null,"Trafic non commercial longue-distance"]
[null,"Dont LGV"]
[null,"Dont conventionné"]
[null,"Total trafic non commercial",null,null,null,{"$f":"F26+F27","v":0},{"$f":"G26+G27","v":0}]

{"sheet":"5. Offre de transport","index":4,"n_rows":99,"n_cols":302,"rows_kept":99,"cut":false,"hidden":false,"merged":[[3,2,3,8],[10,1,10,14],[64,1,65,1],[64,2,65,2],[64,3,65,3],[64,4,65,4],[5,1,5,6],[6,1,7,6],[60,1,60,18],[12,1,12,14],[14,1,14,3],[62,1,62,3]]}
[]
[]
[null,null,"INFORMATIONS SUR LA CONSISTANCE ET LES CARACTERISTIQUES DE L'OFFRE DE TRANSPORT"]
[null,null,"- Transport régional et longue-distance -"]
[]
[null,"Documents à fournir :"]
[null,"- La base de données des fréquences/arrêts/horaires par O/D \n(format tableur)"]
[]
[]
[]
[null,"Fréquence de collecte : \n- Annuelle pour l'exercice 2015 ;\n- Trimestrielle pour l'exercice 2016 \nEchéances d'envoi des informations :\n- le 15 juin 2016 pour la collecte annuelle portant sur l'exercice 2015 ;\n- le 15 juin 2016 pour le 1er trimestre 2016 ;\n- au plus tard le 15 du deuxième mois suivant la fin du trimestre concerné pour les informations relatives aux trimestres 2, 3 et 4 de l’exercice 2016."]
[]
[null,"Merci de fournir à l'Autorité la base des arrêts et des horaires journaliers pour l'horaire de service global de 2015 et chaque trimestre de l'horaire de service de 2016. Les bases doivent permettre à l'Autorité de retrouver les informations présentées ci-dessous, dans un format proposé uniquement à titre d'exemple.\nLes informations mises en évidence par des cases oranges sont celles pour lesquelles l'Autorité estime qu'a priori, l'information ne sera pas disponible ou \"retrouvable\" à partir de la base des arrêts et devra être ajoutée par l'entreprise ferroviaire."]
[]
[null,"Informations sur les lignes exploitées"]
[]
[null,"             n° de ligne\nn° d'arrêt",1,2,3,4,5,6,7,8,9,10,11,12,13,14,15,16,17,18,19,20,21,22,23,24,25,26,27,28,29,30,31,32,33,34,35,36,37,38,39,40,41,42,43,44,45,46,47,48,49,50,51,52,53,54,55,56,57,58,59,60,61,62,63,64,65,66,67,68,69,70,71,72,73,74,75,76,77,78,79,80,81,82,83,84,85,86,87,88,89,90,91,92,93,94,95,96,97,98,99,100,101,102,103,104,105,106,107,108,109,110,111,112,113,114,115,116,117,118,119,120,121,122,123,124,125,126,127,128,129,130,131,132,133,134,135,136,137,138,139,140,141,142,143,144,145,146,147,148,149,150,151,152,153,154,155,156,157,158,159,160,161,162,163,164,165,166,167,168,169,170,171,172,173,174,175,176,177,178,179,180,181,182,183,184,185,186,187,188,189,190,191,192,193,194,195,196,197,198,199,200,201,202,203,204,205,206,207,208,209,210,211,212,213,214,215,216,217,218,219,220,221,222,223,224,225,226,227,228,229,230,231,232,233,234,235,236,237,238,239,240,241,242,243,244,245,246,247,248,249,250,251,252,253,254,255,256,257,258,259,260,261,262,263,264,265,266,267,268,269,270,271,272,273,274,275,276,277,278,279,280,281,282,283,284,285,286,287,288,289,290,291,292,293,294,295,296,297,298,299,300]
[null,"0 (départ)","Ville/Arrêt  0","Ville/Arrêt  0"]
[null,1,"Ville/Arrêt  1","Ville/Arrêt  1"]
[null,2,"Ville/Arrêt  2","Ville/Arrêt  2"]
[null,3,"Ville/Arrêt  3","Ville/Arrêt  3"]
[null,4,"Ville/Arrêt  4","Ville/Arrêt  4"]
[null,5,"Ville/Arrêt  5"]
[null,6,"Ville/Arrêt  6"]
[null,7]
[null,8]
[null,9]
[null,10]
[null,11]
[null,12]
[null,13]
[null,14]
[null,15]
[null,16]
[null,17]
[null,18]
[null,19]
[null,20]
[null,21]
[null,22]
[null,23]
[null,24]
[null,25]
[null,26]
[null,27]
[null,28]
[null,29]
[null,30]
[null,"…","…","…","…","…"]
[]
[null,"n° de ligne",1,2,3,4,5,6,7,8,9,10,11,12,13,14,15,16,17,18,19,20,21,22,23,24,25,26,27,28,29,30,31,32,33,34,35,36,37,38,39,40,41,42,43,44,45,46,47,48,49,50,51,52,53,54,55,56,57,58,59,60,61,62,63,64,65,66,67,68,69,70,71,72,73,74,75,76,77,78,79,80,81,82,83,84,85,86,87,88,89,90,91,92,93,94,95,96,97,98,99,100,101,102,103,104,105,106,107,108,109,110,111,112,113,114,115,116,117,118,119,120,121,122,123,124,125,126,127,128,129,130,131,132,133,134,135,136,137,138,139,140,141,142,143,144,145,146,147,148,149,150,151,152,153,154,155,156,157,158,159,160,161,162,163,164,165,166,167,168,169,170,171,172,173,174,175,176,177,178,179,180,181,182,183,184,185,186,187,188,189,190,191,192,193,194,195,196,197,198,199,200,201,202,203,204,205,206,207,208,209,210,211,212,213,214,215,216,217,218,219,220,221,222,223,224,225,226,227,228,229,230,231,232,233,234,235,236,237,238,239,240,241,242,243,244,245,246,247,248,249,250,251,252,253,254,255,256,257,258,259,260,261,262,263,264,265,266,267,268,269,270,271,272,273,274,275,276,277,278,279,280,281,282,283,284,285,286,287,288,289,290,291,292,293,294,295,296,297,298,299,300]
[null,"Service conventionné ?\n(Oui/Non)"]
[null,"Si service conventionné, AOT correspondante"]
[null,"Fréquence journalière moyenne"]
[null,"Ligne inter-régionale? (Oui/Non)"]
[null,"Ligne internationale? (Oui/Non)"]
[null,"Ligne grande vitesse? (Oui/Non)"]
[null,"Trains programmés\n(Nombre)"]
[null,"Capacité d'emport moyenne (Nombre)"]
[]
[null,"Le tableau ci-dessous propose une solution afin d'automatiser le remplissage, dans l'exemple de 2 lignes desservant 7 villes chacune (arrêts numérotés de 0 à 6). Ce remplissage dépendant du nombre de lignes et du nombre d'arrêts au sein de chaque ligne, merci de l'adapter selon vos propres offres de services.\nPour chaque liaison, merci de préciser les informations indiquées portant sur l'offre de transport, en vous référant aux définitions fournies à l'onglet 1 de la présente annexe."]
[]
[null,"Informations par liaison (Origine/Destination)"]
[]
[null,"n° de ligne","n° de liaison","Origine","Destination","Temps de trajet moyen annoncé","Train.km","Distance ferroviaire"]
[null,null,null,null,null,"Minutes","Nombre","km"]
[null,1,1,"Ville/Arrêt  0","Ville/Arrêt  1"]
[null,1,2,"Ville/Arrêt  0","Ville/Arrêt  2"]
[null,1,3,"Ville/Arrêt  0","Ville/Arrêt  3"]
[null,1,4,"Ville/Arrêt  0","Ville/Arrêt  4"]
[null,1,5,"Ville/Arrêt  0","Ville/Arrêt  5"]
[null,1,6,"Ville/Arrêt  0","Ville/Arrêt  6"]
[null,1,7,"Ville/Arrêt  1","Ville/Arrêt  2"]
[null,1,8,"Ville/Arrêt  1","Ville/Arrêt  3"]
[null,1,9,"Ville/Arrêt  1","Ville/Arrêt  4"]
[null,1,10,"Ville/Arrêt  1","Ville/Arrêt  5"]
[null,1,11,"Ville/Arrêt  1","Ville/Arrêt  6"]
[null,1,12,"Ville/Arrêt  2","Ville/Arrêt  3"]
[null,1,13,"Ville/Arrêt  2","Ville/Arrêt  4"]
[null,1,14,"Ville/Arrêt  2","Ville/Arrêt  5"]
[null,1,15,"Ville/Arrêt  2","Ville/Arrêt  6"]
[null,1,16,"Ville/Arrêt  3","Ville/Arrêt  4"]
[null,1,17,"Ville/Arrêt  3","Ville/Arrêt  5"]
[null,1,18,"Ville/Arrêt  3","Ville/Arrêt  6"]
[null,1,19,"Ville/Arrêt  4","Ville/Arrêt  5"]
[null,1,20,"Ville/Arrêt  4","Ville/Arrêt  6"]
[null,1,21,"Ville/Arrêt  5","Ville/Arrêt  6"]
[null,"…","…","…","…"]
[null,2,22,"Ville/Arrêt  0","Ville/Arrêt  1"]
[null,2,23,"Ville/Arrêt  0","Ville/Arrêt  2"]
[null,2,24,"Ville/Arrêt  0","Ville/Arrêt  3"]
[null,2,25,"Ville/Arrêt  0","Ville/Arrêt  4"]
[null,2,26,"Ville/Arrêt  1","Ville/Arrêt  2"]
[null,2,27,"Ville/Arrêt  1","Ville/Arrêt  3"]
[null,2,28,"Ville/Arrêt  1","Ville/Arrêt  4"]
[null,2,29,"Ville/Arrêt  2","Ville/Arrêt  3"]
[null,2,30,"Ville/Arrêt  2","Ville/Arrêt  4"]
[null,2,31,"Ville/Arrêt  3","Ville/Arrêt  4"]
[null,"…","…","…","…"]

{"sheet":"5.Data","index":5,"n_rows":578,"n_cols":364,"rows_kept":578,"cut":false,"hidden":true,"merged":[]}
[]
[null,{"$f":"'5. Offre de transport'!B17","v":"             n° de ligne\nn° d'arrêt"},{"$f":"'5. Offre de transport'!C17","v":1},{"$f":"'5. Offre de transport'!D17","v":2},{"$f":"IF(E43=0,\"_\",'5. Offre de transport'!E17)","v":"_"},{"$f":"IF(F43=0,\"_\",'5. Offre de transport'!F17)","v":"_"},{"$f":"IF(G43=0,\"_\",'5. Offre de transport'!G17)","v":"_"},{"$f":"IF(H43=0,\"_\",'5. Offre de transport'!H17)","v":"_"},{"$f":"IF(I43=0,\"_\",'5. Offre de transport'!I17)","v":"_"},{"$f":"IF(J43=0,\"_\",'5. Offre de transport'!J17)","v":"_"},{"$f":"IF(K43=0,\"_\",'5. Offre de transport'!K17)","v":"_"},{"$f":"IF(L43=0,\"_\",'5. Offre de transport'!L17)","v":"_"},{"$f":"IF(M43=0,\"_\",'5. Offre de transport'!M17)","v":"_"},{"$f":"IF(N43=0,\"_\",'5. Offre de transport'!N17)","v":"_"},{"$f":"IF(O43=0,\"_\",'5. Offre de transport'!O17)","v":"_"},{"$f":"IF(P43=0,\"_\",'5. Offre de transport'!P17)","v":"_"},{"$f":"IF(Q43=0,\"_\",'5. Offre de transport'!Q17)","v":"_"},{"$f":"IF(R43=0,\"_\",'5. Offre de transport'!R17)","v":"_"},{"$f":"IF(S43=0,\"_\",'5. Offre de transport'!S17)","v":"_"},{"$f":"IF(T43=0,\"_\",'5. Offre de transport'!T17)","v":"_"},{"$f":"IF(U43=0,\"_\",'5. Offre de transport'!U17)","v":"_"},{"$f":"IF(V43=0,\"_\",'5. Offre de transport'!V17)","v":"_"},{"$f":"IF(W43=0,\"_\",'5. Offre de transport'!W17)","v":"_"},{"$f":"IF(X43=0,\"_\",'5. Offre de transport'!X17)","v":"_"},{"$f":"IF(Y43=0,\"_\",'5. Offre de transport'!Y17)","v":"_"},{"$f":"IF(Z43=0,\"_\",'5. Offre de transport'!Z17)","v":"_"},{"$f":"IF(AA43=0,\"_\",'5. Offre de transport'!AA17)","v":"_"},{"$f":"IF(AB43=0,\"_\",'5. Offre de transport'!AB17)","v":"_"},{"$f":"IF(AC43=0,\"_\",'5. Offre de transport'!AC17)","v":"_"},{"$f":"IF(AD43=0,\"_\",'5. Offre de transport'!AD17)","v":"_"},{"$f":"IF(AE43=0,\"_\",'5. Offre de transport'!AE17)","v":"_"},{"$f":"IF(AF43=0,\"_\",'5. Offre de transport'!AF17)","v":"_"},{"$f":"IF(AG43=0,\"_\",'5. Offre de transport'!AG17)","v":"_"},{"$f":"IF(AH43=0,\"_\",'5. Offre de transport'!AH17)","v":"_"},{"$f":"IF(AI43=0,\"_\",'5. Offre de transport'!AI17)","v":"_"},{"$f":"IF(AJ43=0,\"_\",'5. Offre de transport'!AJ17)","v":"_"},{"$f":"IF(AK43=0,\"_\",'5. Offre de transport'!AK17)","v":"_"},{"$f":"IF(AL43=0,\"_\",'5. Offre de transport'!AL17)","v":"_"},{"$f":"IF(AM43=0,\"_\",'5. Offre de transport'!AM17)","v":"_"},{"$f":"IF(AN43=0,\"_\",'5. Offre de transport'!AN17)","v":"_"},{"$f":"IF(AO43=0,\"_\",'5. Offre de transport'!AO17)","v":"_"},{"$f":"IF(AP43=0,\"_\",'5. Offre de transport'!AP17)","v":"_"},{"$f":"IF(AQ43=0,\"_\",'5. Offre de transport'!AQ17)","v":"_"},{"$f":"IF(AR43=0,\"_\",'5. Offre de transport'!AR17)","v":"_"},{"$f":"IF(AS43=0,\"_\",'5. Offre de transport'!AS17)","v":"_"},{"$f":"IF(AT43=0,\"_\",'5. Offre de transport'!AT17)","v":"_"},{"$f":"IF(AU43=0,\"_\",'5. Offre de transport'!AU17)","v":"_"},{"$f":"IF(AV43=0,\"_\",'5. Offre de transport'!AV17)","v":"_"},{"$f":"IF(AW43=0,\"_\",'5. Offre de transport'!AW17)","v":"_"},{"$f":"IF(AX43=0,\"_\",'5. Offre de transport'!AX17)","v":"_"},{"$f":"IF(AY43=0,\"_\",'5. Offre de transport'!AY17)","v":"_"},{"$f":"IF(AZ43=0,\"_\",'5. Offre de transport'!AZ17)","v":"_"},{"$f":"IF(BA43=0,\"_\",'5. Offre de transport'!BA17)","v":"_"},{"$f":"IF(BB43=0,\"_\",'5. Offre de transport'!BB17)","v":"_"},{"$f":"IF(BC43=0,\"_\",'5. Offre de transport'!BC17)","v":"_"},{"$f":"IF(BD43=0,\"_\",'5. Offre de transport'!BD17)","v":"_"},{"$f":"IF(BE43=0,\"_\",'5. Offre de transport'!BE17)","v":"_"},{"$f":"IF(BF43=0,\"_\",'5. Offre de transport'!BF17)","v":"_"},{"$f":"IF(BG43=0,\"_\",'5. Offre de transport'!BG17)","v":"_"},{"$f":"IF(BH43=0,\"_\",'5. Offre de transport'!BH17)","v":"_"},{"$f":"IF(BI43=0,\"_\",'5. Offre de transport'!BI17)","v":"_"},{"$f":"IF(BJ43=0,\"_\",'5. Offre de transport'!BJ17)","v":"_"},{"$f":"IF(BK43=0,\"_\",'5. Offre de transport'!BK17)","v":"_"},{"$f":"IF(BL43=0,\"_\",'5. Offre de transport'!BL17)","v":"_"},{"$f":"IF(BM43=0,\"_\",'5. Offre de transport'!BM17)","v":"_"},{"$f":"IF(BN43=0,\"_\",'5. Offre de transport'!BN17)","v":"_"},{"$f":"IF(BO43=0,\"_\",'5. Offre de transport'!BO17)","v":"_"},{"$f":"IF(BP43=0,\"_\",'5. Offre de transport'!BP17)","v":"_"},{"$f":"IF(BQ43=0,\"_\",'5. Offre de transport'!BQ17)","v":"_"},{"$f":"IF(BR43=0,\"_\",'5. Offre de transport'!BR17)","v":"_"},{"$f":"IF(BS43=0,\"_\",'5. Offre de transport'!BS17)","v":"_"},{"$f":"IF(BT43=0,\"_\",'5. Offre de transport'!BT17)","v":"_"},{"$f":"IF(BU43=0,\"_\",'5. Offre de transport'!BU17)","v":"_"},{"$f":"IF(BV43=0,\"_\",'5. Offre de transport'!BV17)","v":"_"},{"$f":"IF(BW43=0,\"_\",'5. Offre de transport'!BW17)","v":"_"},{"$f":"IF(BX43=0,\"_\",'5. Offre de transport'!BX17)","v":"_"},{"$f":"IF(BY43=0,\"_\",'5. Offre de transport'!BY17)","v":"_"},{"$f":"IF(BZ43=0,\"_\",'5. Offre de transport'!BZ17)","v":"_"},{"$f":"IF(CA43=0,\"_\",'5. Offre de transport'!CA17)","v":"_"},{"$f":"IF(CB43=0,\"_\",'5. Offre de transport'!CB17)","v":"_"},{"$f":"IF(CC43=0,\"_\",'5. Offre de transport'!CC17)","v":"_"},{"$f":"IF(CD43=0,\"_\",'5. Offre de transport'!CD17)","v":"_"},{"$f":"IF(CE43=0,\"_\",'5. Offre de transport'!CE17)","v":"_"},{"$f":"IF(CF43=0,\"_\",'5. Offre de transport'!CF17)","v":"_"},{"$f":"IF(CG43=0,\"_\",'5. Offre de transport'!CG17)","v":"_"},{"$f":"IF(CH43=0,\"_\",'5. Offre de transport'!CH17)","v":"_"},{"$f":"IF(CI43=0,\"_\",'5. Offre de transport'!CI17)","v":"_"},{"$f":"IF(CJ43=0,\"_\",'5. Offre de transport'!CJ17)","v":"_"},{"$f":"IF(CK43=0,\"_\",'5. Offre de transport'!CK17)","v":"_"},{"$f":"IF(CL43=0,\"_\",'5. Offre de transport'!CL17)","v":"_"},{"$f":"IF(CM43=0,\"_\",'5. Offre de transport'!CM17)","v":"_"},{"$f":"IF(CN43=0,\"_\",'5. Offre de transport'!CN17)","v":"_"},{"$f":"IF(CO43=0,\"_\",'5. Offre de transport'!CO17)","v":"_"},{"$f":"IF(CP43=0,\"_\",'5. Offre de transport'!CP17)","v":"_"},{"$f":"IF(CQ43=0,\"_\",'5. Offre de transport'!CQ17)","v":"_"},{"$f":"IF(CR43=0,\"_\",'5. Offre de transport'!CR17)","v":"_"},{"$f":"IF(CS43=0,\"_\",'5. Offre de transport'!CS17)","v":"_"},{"$f":"IF(CT43=0,\"_\",'5. Offre de transport'!CT17)","v":"_"},{"$f":"IF(CU43=0,\"_\",'5. Offre de transport'!CU17)","v":"_"},{"$f":"IF(CV43=0,\"_\",'5. Offre de transport'!CV17)","v":"_"},{"$f":"IF(CW43=0,\"_\",'5. Offre de transport'!CW17)","v":"_"},{"$f":"IF(CX43=0,\"_\",'5. Offre de transport'!CX17)","v":"_"},{"$f":"IF(CY43=0,\"_\",'5. Offre de transport'!CY17)","v":"_"},{"$f":"IF(CZ43=0,\"_\",'5. Offre de transport'!CZ17)","v":"_"},{"$f":"IF(DA43=0,\"_\",'5. Offre de transport'!DA17)","v":"_"},{"$f":"IF(DB43=0,\"_\",'5. Offre de transport'!DB17)","v":"_"},{"$f":"IF(DC43=0,\"_\",'5. Offre de transport'!DC17)","v":"_"},{"$f":"IF(DD43=0,\"_\",'5. Offre de transport'!DD17)","v":"_"},{"$f":"IF(DE43=0,\"_\",'5. Offre de transport'!DE17)","v":"_"},{"$f":"IF(DF43=0,\"_\",'5. Offre de transport'!DF17)","v":"_"},{"$f":"IF(DG43=0,\"_\",'5. Offre de transport'!DG17)","v":"_"},{"$f":"IF(DH43=0,\"_\",'5. Offre de transport'!DH17)","v":"_"},{"$f":"IF(DI43=0,\"_\",'5. Offre de transport'!DI17)","v":"_"},{"$f":"IF(DJ43=0,\"_\",'5. Offre de transport'!DJ17)","v":"_"},{"$f":"IF(DK43=0,\"_\",'5. Offre de transport'!DK17)","v":"_"},{"$f":"IF(DL43=0,\"_\",'5. Offre de transport'!DL17)","v":"_"},{"$f":"IF(DM43=0,\"_\",'5. Offre de transport'!DM17)","v":"_"},{"$f":"IF(DN43=0,\"_\",'5. Offre de transport'!DN17)","v":"_"},{"$f":"IF(DO43=0,\"_\",'5. Offre de transport'!DO17)","v":"_"},{"$f":"IF(DP43=0,\"_\",'5. Offre de transport'!DP17)","v":"_"},{"$f":"IF(DQ43=0,\"_\",'5. Offre de transport'!DQ17)","v":"_"},{"$f":"IF(DR43=0,\"_\",'5. Offre de transport'!DR17)","v":"_"},{"$f":"IF(DS43=0,\"_\",'5. Offre de transport'!DS17)","v":"_"},{"$f":"IF(DT43=0,\"_\",'5. Offre de transport'!DT17)","v":"_"},{"$f":"IF(DU43=0,\"_\",'5. Offre de transport'!DU17)","v":"_"},{"$f":"IF(DV43=0,\"_\",'5. Offre de transport'!DV17)","v":"_"},{"$f":"IF(DW43=0,\"_\",'5. Offre de transport'!DW17)","v":"_"},{"$f":"IF(DX43=0,\"_\",'5. Offre de transport'!DX17)","v":"_"},{"$f":"IF(DY43=0,\"_\",'5. Offre de transport'!DY17)","v":"_"},{"$f":"IF(DZ43=0,\"_\",'5. Offre de transport'!DZ17)","v":"_"},{"$f":"IF(EA43=0,\"_\",'5. Offre de transport'!EA17)","v":"_"},{"$f":"IF(EB43=0,\"_\",'5. Offre de transport'!EB17)","v":"_"},{"$f":"IF(EC43=0,\"_\",'5. Offre de transport'!EC17)","v":"_"},{"$f":"IF(ED43=0,\"_\",'5. Offre de transport'!ED17)","v":"_"},{"$f":"IF(EE43=0,\"_\",'5. Offre de transport'!EE17)","v":"_"},{"$f":"IF(EF43=0,\"_\",'5. Offre de transport'!EF17)","v":"_"},{"$f":"IF(EG43=0,\"_\",'5. Offre de transport'!EG17)","v":"_"},{"$f":"IF(EH43=0,\"_\",'5. Offre de transport'!EH17)","v":"_"},{"$f":"IF(EI43=0,\"_\",'5. Offre de transport'!EI17)","v":"_"},{"$f":"IF(EJ43=0,\"_\",'5. Offre de transport'!EJ17)","v":"_"},{"$f":"IF(EK43=0,\"_\",'5. Offre de transport'!EK17)","v":"_"},{"$f":"IF(EL43=0,\"_\",'5. Offre de transport'!EL17)","v":"_"},{"$f":"IF(EM43=0,\"_\",'5. Offre de transport'!EM17)","v":"_"},{"$f":"IF(EN43=0,\"_\",'5. Offre de transport'!EN17)","v":"_"},{"$f":"IF(EO43=0,\"_\",'5. Offre de transport'!EO17)","v":"_"},{"$f":"IF(EP43=0,\"_\",'5. Offre de transport'!EP17)","v":"_"},{"$f":"IF(EQ43=0,\"_\",'5. Offre de transport'!EQ17)","v":"_"},{"$f":"IF(ER43=0,\"_\",'5. Offre de transport'!ER17)","v":"_"},{"$f":"IF(ES43=0,\"_\",'5. Offre de transport'!ES17)","v":"_"},{"$f":"IF(ET43=0,\"_\",'5. Offre de transport'!ET17)","v":"_"},{"$f":"IF(EU43=0,\"_\",'5. Offre de transport'!EU17)","v":"_"},{"$f":"IF(EV43=0,\"_\",'5. Offre de transport'!EV17)","v":"_"},{"$f":"IF(EW43=0,\"_\",'5. Offre de transport'!EW17)","v":"_"},{"$f":"IF(EX43=0,\"_\",'5. Offre de transport'!EX17)","v":"_"},{"$f":"IF(EY43=0,\"_\",'5. Offre de transport'!EY17)","v":"_"},{"$f":"IF(EZ43=0,\"_\",'5. Offre de transport'!EZ17)","v":"_"},{"$f":"IF(FA43=0,\"_\",'5. Offre de transport'!FA17)","v":"_"},{"$f":"IF(FB43=0,\"_\",'5. Offre de transport'!FB17)","v":"_"},{"$f":"IF(FC43=0,\"_\",'5. Offre de transport'!FC17)","v":"_"},{"$f":"IF(FD43=0,\"_\",'5. Offre de transport'!FD17)","v":"_"},{"$f":"IF(FE43=0,\"_\",'5. Offre de transport'!FE17)","v":"_"},{"$f":"IF(FF43=0,\"_\",'5. Offre de transport'!FF17)","v":"_"},{"$f":"IF(FG43=0,\"_\",'5. Offre de transport'!FG17)","v":"_"},{"$f":"IF(FH43=0,\"_\",'5. Offre de transport'!FH17)","v":"_"},{"$f":"IF(FI43=0,\"_\",'5. Offre de transport'!FI17)","v":"_"},{"$f":"IF(FJ43=0,\"_\",'5. Offre de transport'!FJ17)","v":"_"},{"$f":"IF(FK43=0,\"_\",'5. Offre de transport'!FK17)","v":"_"},{"$f":"IF(FL43=0,\"_\",'5. Offre de transport'!FL17)","v":"_"},{"$f":"IF(FM43=0,\"_\",'5. Offre de transport'!FM17)","v":"_"},{"$f":"IF(FN43=0,\"_\",'5. Offre de transport'!FN17)","v":"_"},{"$f":"IF(FO43=0,\"_\",'5. Offre de transport'!FO17)","v":"_"},{"$f":"IF(FP43=0,\"_\",'5. Offre de transport'!FP17)","v":"_"},{"$f":"IF(FQ43=0,\"_\",'5. Offre de transport'!FQ17)","v":"_"},{"$f":"IF(FR43=0,\"_\",'5. Offre de transport'!FR17)","v":"_"},{"$f":"IF(FS43=0,\"_\",'5. Offre de transport'!FS17)","v":"_"},{"$f":"IF(FT43=0,\"_\",'5. Offre de transport'!FT17)","v":"_"},{"$f":"IF(FU43=0,\"_\",'5. Offre de transport'!FU17)","v":"_"},{"$f":"IF(FV43=0,\"_\",'5. Offre de transport'!FV17)","v":"_"},{"$f":"IF(FW43=0,\"_\",'5. Offre de transport'!FW17)","v":"_"},{"$f":"IF(FX43=0,\"_\",'5. Offre de transport'!FX17)","v":"_"},{"$f":"IF(FY43=0,\"_\",'5. Offre de transport'!FY17)","v":"_"},{"$f":"IF(FZ43=0,\"_\",'5. Offre de transport'!FZ17)","v":"_"},{"$f":"IF(GA43=0,\"_\",'5. Offre de transport'!GA17)","v":"_"},{"$f":"IF(GB43=0,\"_\",'5. Offre de transport'!GB17)","v":"_"},{"$f":"IF(GC43=0,\"_\",'5. Offre de transport'!GC17)","v":"_"},{"$f":"IF(GD43=0,\"_\",'5. Offre de transport'!GD17)","v":"_"},{"$f":"IF(GE43=0,\"_\",'5. Offre de transport'!GE17)","v":"_"},{"$f":"IF(GF43=0,\"_\",'5. Offre de transport'!GF17)","v":"_"},{"$f":"IF(GG43=0,\"_\",'5. Offre de transport'!GG17)","v":"_"},{"$f":"IF(GH43=0,\"_\",'5. Offre de transport'!GH17)","v":"_"},{"$f":"IF(GI43=0,\"_\",'5. Offre de transport'!GI17)","v":"_"},{"$f":"IF(GJ43=0,\"_\",'5. Offre de transport'!GJ17)","v":"_"},{"$f":"IF(GK43=0,\"_\",'5. Offre de transport'!GK17)","v":"_"},{"$f":"IF(GL43=0,\"_\",'5. Offre de transport'!GL17)","v":"_"},{"$f":"IF(GM43=0,\"_\",'5. Offre de transport'!GM17)","v":"_"},{"$f":"IF(GN43=0,\"_\",'5. Offre de transport'!GN17)","v":"_"},{"$f":"IF(GO43=0,\"_\",'5. Offre de transport'!GO17)","v":"_"},{"$f":"IF(GP43=0,\"_\",'5. Offre de transport'!GP17)","v":"_"},{"$f":"IF(GQ43=0,\"_\",'5. Offre de transport'!GQ17)","v":"_"},{"$f":"IF(GR43=0,\"_\",'5. Offre de transport'!GR17)","v":"_"},{"$f":"IF(GS43=0,\"_\",'5. Offre de transport'!GS17)","v":"_"},{"$f":"IF(GT43=0,\"_\",'5. Offre de transport'!GT17)","v":"_"},{"$f":"IF(GU43=0,\"_\",'5. Offre de transport'!GU17)","v":"_"},{"$f":"IF(GV43=0,\"_\",'5. Offre de transport'!GV17)","v":"_"},{"$f":"IF(GW43=0,\"_\",'5. Offre de transport'!GW17)","v":"_"},{"$f":"IF(GX43=0,\"_\",'5. Offre de transport'!GX17)","v":"_"},{"$f":"IF(GY43=0,\"_\",'5. Offre de transport'!GY17)","v":"_"},{"$f":"IF(GZ43=0,\"_\",'5. Offre de transport'!GZ17)","v":"_"},{"$f":"IF(HA43=0,\"_\",'5. Offre de transport'!HA17)","v":"_"},{"$f":"IF(HB43=0,\"_\",'5. Offre de transport'!HB17)","v":"_"},{"$f":"IF(HC43=0,\"_\",'5. Offre de transport'!HC17)","v":"_"},{"$f":"IF(HD43=0,\"_\",'5. Offre de transport'!HD17)","v":"_"},{"$f":"IF(HE43=0,\"_\",'5. Offre de transport'!HE17)","v":"_"},{"$f":"IF(HF43=0,\"_\",'5. Offre de transport'!HF17)","v":"_"},{"$f":"IF(HG43=0,\"_\",'5. Offre de transport'!HG17)","v":"_"},{"$f":"IF(HH43=0,\"_\",'5. Offre de transport'!HH17)","v":"_"},{"$f":"IF(HI43=0,\"_\",'5. Offre de transport'!HI17)","v":"_"},{"$f":"IF(HJ43=0,\"_\",'5. Offre de transport'!HJ17)","v":"_"},{"$f":"IF(HK43=0,\"_\",'5. Offre de transport'!HK17)","v":"_"},{"$f":"IF(HL43=0,\"_\",'5. Offre de transport'!HL17)","v":"_"},{"$f":"IF(HM43=0,\"_\",'5. Offre de transport'!HM17)","v":"_"},{"$f":"IF(HN43=0,\"_\",'5. Offre de transport'!HN17)","v":"_"},{"$f":"IF(HO43=0,\"_\",'5. Offre de transport'!HO17)","v":"_"},{"$f":"IF(HP43=0,\"_\",'5. Offre de transport'!HP17)","v":"_"},{"$f":"IF(HQ43=0,\"_\",'5. Offre de transport'!HQ17)","v":"_"},{"$f":"IF(HR43=0,\"_\",'5. Offre de transport'!HR17)","v":"_"},{"$f":"IF(HS43=0,\"_\",'5. Offre de transport'!HS17)","v":"_"},{"$f":"IF(HT43=0,\"_\",'5. Offre de transport'!HT17)","v":"_"},{"$f":"IF(HU43=0,\"_\",'5. Offre de transport'!HU17)","v":"_"},{"$f":"IF(HV43=0,\"_\",'5. Offre de transport'!HV17)","v":"_"},{"$f":"IF(HW43=0,\"_\",'5. Offre de transport'!HW17)","v":"_"},{"$f":"IF(HX43=0,\"_\",'5. Offre de transport'!HX17)","v":"_"},{"$f":"IF(HY43=0,\"_\",'5. Offre de transport'!HY17)","v":"_"},{"$f":"IF(HZ43=0,\"_\",'5. Offre de transport'!HZ17)","v":"_"},{"$f":"IF(IA43=0,\"_\",'5. Offre de transport'!IA17)","v":"_"},{"$f":"IF(IB43=0,\"_\",'5. Offre de transport'!IB17)","v":"_"},{"$f":"IF(IC43=0,\"_\",'5. Offre de transport'!IC17)","v":"_"},{"$f":"IF(ID43=0,\"_\",'5. Offre de transport'!ID17)","v":"_"},{"$f":"IF(IE43=0,\"_\",'5. Offre de transport'!IE17)","v":"_"},{"$f":"IF(IF43=0,\"_\",'5. Offre de transport'!IF17)","v":"_"},{"$f":"IF(IG43=0,\"_\",'5. Offre de transport'!IG17)","v":"_"},{"$f":"IF(IH43=0,\"_\",'5. Offre de transport'!IH17)","v":"_"},{"$f":"IF(II43=0,\"_\",'5. Offre de transport'!II17)","v":"_"},{"$f":"IF(IJ43=0,\"_\",'5. Offre de transport'!IJ17)","v":"_"},{"$f":"IF(IK43=0,\"_\",'5. Offre de transport'!IK17)","v":"_"},{"$f":"IF(IL43=0,\"_\",'5. Offre de transport'!IL17)","v":"_"},{"$f":"IF(IM43=0,\"_\",'5. Offre de transport'!IM17)","v":"_"},{"$f":"IF(IN43=0,\"_\",'5. Offre de transport'!IN17)","v":"_"},{"$f":"IF(IO43=0,\"_\",'5. Offre de transport'!IO17)","v":"_"},{"$f":"IF(IP43=0,\"_\",'5. Offre de transport'!IP17)","v":"_"},{"$f":"IF(IQ43=0,\"_\",'5. Offre de transport'!IQ17)","v":"_"},{"$f":"IF(IR43=0,\"_\",'5. Offre de transport'!IR17)","v":"_"},{"$f":"IF(IS43=0,\"_\",'5. Offre de transport'!IS17)","v":"_"},{"$f":"IF(IT43=0,\"_\",'5. Offre de transport'!IT17)","v":"_"},{"$f":"IF(IU43=0,\"_\",'5. Offre de transport'!IU17)","v":"_"},{"$f":"IF(IV43=0,\"_\",'5. Offre de transport'!IV17)","v":"_"},{"$f":"IF(IW43=0,\"_\",'5. Offre de transport'!IW17)","v":"_"},{"$f":"IF(IX43=0,\"_\",'5. Offre de transport'!IX17)","v":"_"},{"$f":"IF(IY43=0,\"_\",'5. Offre de transport'!IY17)","v":"_"},{"$f":"IF(IZ43=0,\"_\",'5. Offre de transport'!IZ17)","v":"_"},{"$f":"IF(JA43=0,\"_\",'5. Offre de transport'!JA17)","v":"_"},{"$f":"IF(JB43=0,\"_\",'5. Offre de transport'!JB17)","v":"_"},{"$f":"IF(JC43=0,\"_\",'5. Offre de transport'!JC17)","v":"_"},{"$f":"IF(JD43=0,\"_\",'5. Offre de transport'!JD17)","v":"_"},{"$f":"IF(JE43=0,\"_\",'5. Offre de transport'!JE17)","v":"_"},{"$f":"IF(JF43=0,\"_\",'5. Offre de transport'!JF17)","v":"_"},{"$f":"IF(JG43=0,\"_\",'5. Offre de transport'!JG17)","v":"_"},{"$f":"IF(JH43=0,\"_\",'5. Offre de transport'!JH17)","v":"_"},{"$f":"IF(JI43=0,\"_\",'5. Offre de transport'!JI17)","v":"_"},{"$f":"IF(JJ43=0,\"_\",'5. Offre de transport'!JJ17)","v":"_"},{"$f":"IF(JK43=0,\"_\",'5. Offre de transport'!JK17)","v":"_"},{"$f":"IF(JL43=0,\"_\",'5. Offre de transport'!JL17)","v":"_"},{"$f":"IF(JM43=0,\"_\",'5. Offre de transport'!JM17)","v":"_"},{"$f":"IF(JN43=0,\"_\",'5. Offre de transport'!JN17)","v":"_"},{"$f":"IF(JO43=0,\"_\",'5. Offre de transport'!JO17)","v":"_"},{"$f":"IF(JP43=0,\"_\",'5. Offre de transport'!JP17)","v":"_"},{"$f":"IF(JQ43=0,\"_\",'5. Offre de transport'!JQ17)","v":"_"},{"$f":"IF(JR43=0,\"_\",'5. Offre de transport'!JR17)","v":"_"},{"$f":"IF(JS43=0,\"_\",'5. Offre de transport'!JS17)","v":"_"},{"$f":"IF(JT43=0,\"_\",'5. Offre de transport'!JT17)","v":"_"},{"$f":"IF(JU43=0,\"_\",'5. Offre de transport'!JU17)","v":"_"},{"$f":"IF(JV43=0,\"_\",'5. Offre de transport'!JV17)","v":"_"},{"$f":"IF(JW43=0,\"_\",'5. Offre de transport'!JW17)","v":"_"},{"$f":"IF(JX43=0,\"_\",'5. Offre de transport'!JX17)","v":"_"},{"$f":"IF(JY43=0,\"_\",'5. Offre de transport'!JY17)","v":"_"},{"$f":"IF(JZ43=0,\"_\",'5. Offre de transport'!JZ17)","v":"_"},{"$f":"IF(KA43=0,\"_\",'5. Offre de transport'!KA17)","v":"_"},{"$f":"IF(KB43=0,\"_\",'5. Offre de transport'!KB17)","v":"_"},{"$f":"IF(KC43=0,\"_\",'5. Offre de transport'!KC17)","v":"_"},{"$f":"IF(KD43=0,\"_\",'5. Offre de transport'!KD17)","v":"_"},{"$f":"IF(KE43=0,\"_\",'5. Offre de transport'!KE17)","v":"_"},{"$f":"IF(KF43=0,\"_\",'5. Offre de transport'!KF17)","v":"_"},{"$f":"IF(KG43=0,\"_\",'5. Offre de transport'!KG17)","v":"_"},{"$f":"IF(KH43=0,\"_\",'5. Offre de transport'!KH17)","v":"_"},{"$f":"IF(KI43=0,\"_\",'5. Offre de transport'!KI17)","v":"_"},{"$f":"IF(KJ43=0,\"_\",'5. Offre de transport'!KJ17)","v":"_"},{"$f":"IF(KK43=0,\"_\",'5. Offre de transport'!KK17)","v":"_"},{"$f":"IF(KL43=0,\"_\",'5. Offre de transport'!KL17)","v":"_"},{"$f":"IF(KM43=0,\"_\",'5. Offre de transport'!KM17)","v":"_"},{"$f":"IF(KN43=0,\"_\",'5. Offre de transport'!KN17)","v":"_"},{"$f":"IF(KO43=0,\"_\",'5. Offre de transport'!KO17)","v":"_"},{"$f":"IF(KP43=0,\"_\",'5. Offre de transport'!KP17)","v":"_"},{"$f":"IF(KQ43=0,\"_\",'5. Offre de transport'!KQ17)","v":"_"},{"$f":"IF(KR43=0,\"_\",'5. Offre de transport'!KR17)","v":"_"},{"$f":"IF(KS43=0,\"_\",'5. Offre de transport'!KS17)","v":"_"},{"$f":"IF(KT43=0,\"_\",'5. Offre de transport'!KT17)","v":"_"},{"$f":"IF(KU43=0,\"_\",'5. Offre de transport'!KU17)","v":"_"},{"$f":"IF(KV43=0,\"_\",'5. Offre de transport'!KV17)","v":"_"},{"$f":"IF(KW43=0,\"_\",'5. Offre de transport'!KW17)","v":"_"},{"$f":"IF(KX43=0,\"_\",'5. Offre de transport'!KX17)","v":"_"},{"$f":"IF(KY43=0,\"_\",'5. Offre de transport'!KY17)","v":"_"},{"$f":"IF(KZ43=0,\"_\",'5. Offre de transport'!KZ17)","v":"_"},{"$f":"IF(LA43=0,\"_\",'5. Offre de transport'!LA17)","v":"_"},{"$f":"IF(LB43=0,\"_\",'5. Offre de transport'!LB17)","v":"_"},{"$f":"IF(LC43=0,\"_\",'5. Offre de transport'!LC17)","v":"_"},{"$f":"IF(LD43=0,\"_\",'5. Offre de transport'!LD17)","v":"_"},{"$f":"IF(LE43=0,\"_\",'5. Offre de transport'!LE17)","v":"_"},{"$f":"IF(LF43=0,\"_\",'5. Offre de transport'!LF17)","v":"_"},{"$f":"IF(LG43=0,\"_\",'5. Offre de transport'!LG17)","v":"_"},{"$f":"IF(LH43=0,\"_\",'5. Offre de transport'!LH17)","v":"_"},{"$f":"IF(LI43=0,\"_\",'5. Offre de transport'!LI17)","v":"_"},{"$f":"IF(LJ43=0,\"_\",'5. Offre de transport'!LJ17)","v":"_"},{"$f":"IF(LK43=0,\"_\",'5. Offre de transport'!LK17)","v":"_"},{"$f":"IF(LL43=0,\"_\",'5. Offre de transport'!LL17)","v":"_"},{"$f":"IF(LM43=0,\"_\",'5. Offre de transport'!LM17)","v":"_"},{"$f":"IF(LN43=0,\"_\",'5. Offre de transport'!LN17)","v":"_"},{"$f":"IF(LO43=0,\"_\",'5. Offre de transport'!LO17)","v":"_"},{"$f":"IF(LP43=0,\"_\",'5. Offre de transport'!LP17)","v":"_"},{"$f":"IF(LQ43=0,\"_\",'5. Offre de transport'!LQ17)","v":"_"},{"$f":"IF(LR43=0,\"_\",'5. Offre de transport'!LR17)","v":"_"},{"$f":"IF(LS43=0,\"_\",'5. Offre de transport'!LS17)","v":"_"},{"$f":"IF(LT43=0,\"_\",'5. Offre de transport'!LT17)","v":"_"},{"$f":"IF(LU43=0,\"_\",'5. Offre de transport'!LU17)","v":"_"},{"$f":"IF(LV43=0,\"_\",'5. Offre de transport'!LV17)","v":"_"},{"$f":"IF(LW43=0,\"_\",'5. Offre de transport'!LW17)","v":"_"},{"$f":"IF(LX43=0,\"_\",'5. Offre de transport'!LX17)","v":"_"},{"$f":"IF(LY43=0,\"_\",'5. Offre de transport'!LY17)","v":"_"},{"$f":"IF(LZ43=0,\"_\",'5. Offre de transport'!LZ17)","v":"_"},{"$f":"IF(MA43=0,\"_\",'5. Offre de transport'!MA17)","v":"_"},{"$f":"IF(MB43=0,\"_\",'5. Offre de transport'!MB17)","v":"_"},{"$f":"IF(MC43=0,\"_\",'5. Offre de transport'!MC17)","v":"_"},{"$f":"IF(MD43=0,\"_\",'5. Offre de transport'!MD17)","v":"_"},{"$f":"IF(ME43=0,\"_\",'5. Offre de transport'!ME17)","v":"_"},{"$f":"IF(MF43=0,\"_\",'5. Offre de transport'!MF17)","v":"_"},{"$f":"IF(MG43=0,\"_\",'5. Offre de transport'!MG17)","v":"_"},{"$f":"IF(MH43=0,\"_\",'5. Offre de transport'!MH17)","v":"_"},{"$f":"IF(MI43=0,\"_\",'5. Offre de transport'!MI17)","v":"_"},{"$f":"IF(MJ43=0,\"_\",'5. Offre de transport'!MJ17)","v":"_"},{"$f":"IF(MK43=0,\"_\",'5. Offre de transport'!MK17)","v":"_"},{"$f":"IF(ML43=0,\"_\",'5. Offre de transport'!ML17)","v":"_"},{"$f":"IF(MM43=0,\"_\",'5. Offre de transport'!MM17)","v":"_"},{"$f":"IF(MN43=0,\"_\",'5. Offre de transport'!MN17)","v":"_"},{"$f":"IF(MO43=0,\"_\",'5. Offre de transport'!MO17)","v":"_"},{"$f":"IF(MP43=0,\"_\",'5. Offre de transport'!MP17)","v":"_"},{"$f":"IF(MQ43=0,\"_\",'5. Offre de transport'!MQ17)","v":"_"},{"$f":"IF(MR43=0,\"_\",'5. Offre de transport'!MR17)","v":"_"},{"$f":"IF(MS43=0,\"_\",'5. Offre de transport'!MS17)","v":"_"},{"$f":"IF(MT43=0,\"_\",'5. Offre de transport'!MT17)","v":"_"},{"$f":"IF(MU43=0,\"_\",'5. Offre de transport'!MU17)","v":"_"},{"$f":"IF(MV43=0,\"_\",'5. Offre de transport'!MV17)","v":"_"},{"$f":"IF(MW43=0,\"_\",'5. Offre de transport'!MW17)","v":"_"},{"$f":"IF(MX43=0,\"_\",'5. Offre de transport'!MX17)","v":"_"},{"$f":"IF(MY43=0,\"_\",'5. Offre de transport'!MY17)","v":"_"},{"$f":"IF(MZ43=0,\"_\",'5. Offre de transport'!MZ17)","v":"_"}]
[null,{"$f":"'5. Offre de transport'!B18","v":"0 (départ)"},{"$f":"'5. Offre de transport'!C18","v":"Ville/Arrêt  0"},{"$f":"'5. Offre de transport'!D18","v":"Ville/Arrêt  0"},{"$f":"'5. Offre de transport'!E18","v":0},{"$f":"'5. Offre de transport'!F18","v":0},{"$f":"'5. Offre de transport'!G18","v":0},{"$f":"'5. Offre de transport'!H18","v":0},{"$f":"'5. Offre de transport'!I18","v":0},{"$f":"'5. Offre de transport'!J18","v":0},{"$f":"'5. Offre de transport'!K18","v":0},{"$f":"'5. Offre de transport'!L18","v":0},{"$f":"'5. Offre de transport'!M18","v":0},{"$f":"'5. Offre de transport'!N18","v":0},{"$f":"'5. Offre de transport'!O18","v":0},{"$f":"'5. Offre de transport'!P18","v":0},{"$f":"'5. Offre de transport'!Q18","v":0},{"$f":"'5. Offre de transport'!R18","v":0},{"$f":"'5. Offre de transport'!S18","v":0},{"$f":"'5. Offre de transport'!T18","v":0},{"$f":"'5. Offre de transport'!U18","v":0},{"$f":"'5. Offre de transport'!V18","v":0},{"$f":"'5. Offre de transport'!W18","v":0},{"$f":"'5. Offre de transport'!X18","v":0},{"$f":"'5. Offre de transport'!Y18","v":0},{"$f":"'5. Offre de transport'!Z18","v":0},{"$f":"'5. Offre de transport'!AA18","v":0},{"$f":"'5. Offre de transport'!AB18","v":0},{"$f":"'5. Offre de transport'!AC18","v":0},{"$f":"'5. Offre de transport'!AD18","v":0},{"$f":"'5. Offre de transport'!AE18","v":0},{"$f":"'5. Offre de transport'!AF18","v":0},{"$f":"'5. Offre de transport'!AG18","v":0},{"$f":"'5. Offre de transport'!AH18","v":0},{"$f":"'5. Offre de transport'!AI18","v":0},{"$f":"'5. Offre de transport'!AJ18","v":0},{"$f":"'5. Offre de transport'!AK18","v":0},{"$f":"'5. Offre de transport'!AL18","v":0},{"$f":"'5. Offre de transport'!AM18","v":0},{"$f":"'5. Offre de transport'!AN18","v":0},{"$f":"'5. Offre de transport'!AO18","v":0},{"$f":"'5. Offre de transport'!AP18","v":0},{"$f":"'5. Offre de transport'!AQ18","v":0},{"$f":"'5. Offre de transport'!AR18","v":0},{"$f":"'5. Offre de transport'!AS18","v":0},{"$f":"'5. Offre de transport'!AT18","v":0},{"$f":"'5. Offre de transport'!AU18","v":0},{"$f":"'5. Offre de transport'!AV18","v":0},{"$f":"'5. Offre de transport'!AW18","v":0},{"$f":"'5. Offre de transport'!AX18","v":0},{"$f":"'5. Offre de transport'!AY18","v":0},{"$f":"'5. Offre de transport'!AZ18","v":0},{"$f":"'5. Offre de transport'!BA18","v":0},{"$f":"'5. Offre de transport'!BB18","v":0},{"$f":"'5. Offre de transport'!BC18","v":0},{"$f":"'5. Offre de transport'!BD18","v":0},{"$f":"'5. Offre de transport'!BE18","v":0},{"$f":"'5. Offre de transport'!BF18","v":0},{"$f":"'5. Offre de transport'!BG18","v":0},{"$f":"'5. Offre de transport'!BH18","v":0},{"$f":"'5. Offre de transport'!BI18","v":0},{"$f":"'5. Offre de transport'!BJ18","v":0},{"$f":"'5. Offre de transport'!BK18","v":0},{"$f":"'5. Offre de transport'!BL18","v":0},{"$f":"'5. Offre de transport'!BM18","v":0},{"$f":"'5. Offre de transport'!BN18","v":0},{"$f":"'5. Offre de transport'!BO18","v":0},{"$f":"'5. Offre de transport'!BP18","v":0},{"$f":"'5. Offre de transport'!BQ18","v":0},{"$f":"'5. Offre de transport'!BR18","v":0},{"$f":"'5. Offre de transport'!BS18","v":0},{"$f":"'5. Offre de transport'!BT18","v":0},{"$f":"'5. Offre de transport'!BU18","v":0},{"$f":"'5. Offre de transport'!BV18","v":0},{"$f":"'5. Offre de transport'!BW18","v":0},{"$f":"'5. Offre de transport'!BX18","v":0},{"$f":"'5. Offre de transport'!BY18","v":0},{"$f":"'5. Offre de transport'!BZ18","v":0},{"$f":"'5. Offre de transport'!CA18","v":0},{"$f":"'5. Offre de transport'!CB18","v":0},{"$f":"'5. Offre de transport'!CC18","v":0},{"$f":"'5. Offre de transport'!CD18","v":0},{"$f":"'5. Offre de transport'!CE18","v":0},{"$f":"'5. Offre de transport'!CF18","v":0},{"$f":"'5. Offre de transport'!CG18","v":0},{"$f":"'5. Offre de transport'!CH18","v":0},{"$f":"'5. Offre de transport'!CI18","v":0},{"$f":"'5. Offre de transport'!CJ18","v":0},{"$f":"'5. Offre de transport'!CK18","v":0},{"$f":"'5. Offre de transport'!CL18","v":0},{"$f":"'5. Offre de transport'!CM18","v":0},{"$f":"'5. Offre de transport'!CN18","v":0},{"$f":"'5. Offre de transport'!CO18","v":0},{"$f":"'5. Offre de transport'!CP18","v":0},{"$f":"'5. Offre de transport'!CQ18","v":0},{"$f":"'5. Offre de transport'!CR18","v":0},{"$f":"'5. Offre de transport'!CS18","v":0},{"$f":"'5. Offre de transport'!CT18","v":0},{"$f":"'5. Offre de transport'!CU18","v":0},{"$f":"'5. Offre de transport'!CV18","v":0},{"$f":"'5. Offre de transport'!CW18","v":0},{"$f":"'5. Offre de transport'!CX18","v":0},{"$f":"'5. Offre de transport'!CY18","v":0},{"$f":"'5. Offre de transport'!CZ18","v":0},{"$f":"'5. Offre de transport'!DA18","v":0},{"$f":"'5. Offre de transport'!DB18","v":0},{"$f":"'5. Offre de transport'!DC18","v":0},{"$f":"'5. Offre de transport'!DD18","v":0},{"$f":"'5. Offre de transport'!DE18","v":0},{"$f":"'5. Offre de transport'!DF18","v":0},{"$f":"'5. Offre de transport'!DG18","v":0},{"$f":"'5. Offre de transport'!DH18","v":0},{"$f":"'5. Offre de transport'!DI18","v":0},{"$f":"'5. Offre de transport'!DJ18","v":0},{"$f":"'5. Offre de transport'!DK18","v":0},{"$f":"'5. Offre de transport'!DL18","v":0},{"$f":"'5. Offre de transport'!DM18","v":0},{"$f":"'5. Offre de transport'!DN18","v":0},{"$f":"'5. Offre de transport'!DO18","v":0},{"$f":"'5. Offre de transport'!DP18","v":0},{"$f":"'5. Offre de transport'!DQ18","v":0},{"$f":"'5. Offre de transport'!DR18","v":0},{"$f":"'5. Offre de transport'!DS18","v":0},{"$f":"'5. Offre de transport'!DT18","v":0},{"$f":"'5. Offre de transport'!DU18","v":0},{"$f":"'5. Offre de transport'!DV18","v":0},{"$f":"'5. Offre de transport'!DW18","v":0},{"$f":"'5. Offre de transport'!DX18","v":0},{"$f":"'5. Offre de transport'!DY18","v":0},{"$f":"'5. Offre de transport'!DZ18","v":0},{"$f":"'5. Offre de transport'!EA18","v":0},{"$f":"'5. Offre de transport'!EB18","v":0},{"$f":"'5. Offre de transport'!EC18","v":0},{"$f":"'5. Offre de transport'!ED18","v":0},{"$f":"'5. Offre de transport'!EE18","v":0},{"$f":"'5. Offre de transport'!EF18","v":0},{"$f":"'5. Offre de transport'!EG18","v":0},{"$f":"'5. Offre de transport'!EH18","v":0},{"$f":"'5. Offre de transport'!EI18","v":0},{"$f":"'5. Offre de transport'!EJ18","v":0},{"$f":"'5. Offre de transport'!EK18","v":0},{"$f":"'5. Offre de transport'!EL18","v":0},{"$f":"'5. Offre de transport'!EM18","v":0},{"$f":"'5. Offre de transport'!EN18","v":0},{"$f":"'5. Offre de transport'!EO18","v":0},{"$f":"'5. Offre de transport'!EP18","v":0},{"$f":"'5. Offre de transport'!EQ18","v":0},{"$f":"'5. Offre de transport'!ER18","v":0},{"$f":"'5. Offre de transport'!ES18","v":0},{"$f":"'5. Offre de transport'!ET18","v":0},{"$f":"'5. Offre de transport'!EU18","v":0},{"$f":"'5. Offre de transport'!EV18","v":0},{"$f":"'5. Offre de transport'!EW18","v":0},{"$f":"'5. Offre de transport'!EX18","v":0},{"$f":"'5. Offre de transport'!EY18","v":0},{"$f":"'5. Offre de transport'!EZ18","v":0},{"$f":"'5. Offre de transport'!FA18","v":0},{"$f":"'5. Offre de transport'!FB18","v":0},{"$f":"'5. Offre de transport'!FC18","v":0},{"$f":"'5. Offre de transport'!FD18","v":0},{"$f":"'5. Offre de transport'!FE18","v":0},{"$f":"'5. Offre de transport'!FF18","v":0},{"$f":"'5. Offre de transport'!FG18","v":0},{"$f":"'5. Offre de transport'!FH18","v":0},{"$f":"'5. Offre de transport'!FI18","v":0},{"$f":"'5. Offre de transport'!FJ18","v":0},{"$f":"'5. Offre de transport'!FK18","v":0},{"$f":"'5. Offre de transport'!FL18","v":0},{"$f":"'5. Offre de transport'!FM18","v":0},{"$f":"'5. Offre de transport'!FN18","v":0},{"$f":"'5. Offre de transport'!FO18","v":0},{"$f":"'5. Offre de transport'!FP18","v":0},{"$f":"'5. Offre de transport'!FQ18","v":0},{"$f":"'5. Offre de transport'!FR18","v":0},{"$f":"'5. Offre de transport'!FS18","v":0},{"$f":"'5. Offre de transport'!FT18","v":0},{"$f":"'5. Offre de transport'!FU18","v":0},{"$f":"'5. Offre de transport'!FV18","v":0},{"$f":"'5. Offre de transport'!FW18","v":0},{"$f":"'5. Offre de transport'!FX18","v":0},{"$f":"'5. Offre de transport'!FY18","v":0},{"$f":"'5. Offre de transport'!FZ18","v":0},{"$f":"'5. Offre de transport'!GA18","v":0},{"$f":"'5. Offre de transport'!GB18","v":0},{"$f":"'5. Offre de transport'!GC18","v":0},{"$f":"'5. Offre de transport'!GD18","v":0},{"$f":"'5. Offre de transport'!GE18","v":0},{"$f":"'5. Offre de transport'!GF18","v":0},{"$f":"'5. Offre de transport'!GG18","v":0},{"$f":"'5. Offre de transport'!GH18","v":0},{"$f":"'5. Offre de transport'!GI18","v":0},{"$f":"'5. Offre de transport'!GJ18","v":0},{"$f":"'5. Offre de transport'!GK18","v":0},{"$f":"'5. Offre de transport'!GL18","v":0},{"$f":"'5. Offre de transport'!GM18","v":0},{"$f":"'5. Offre de transport'!GN18","v":0},{"$f":"'5. Offre de transport'!GO18","v":0},{"$f":"'5. Offre de transport'!GP18","v":0},{"$f":"'5. Offre de transport'!GQ18","v":0},{"$f":"'5. Offre de transport'!GR18","v":0},{"$f":"'5. Offre de transport'!GS18","v":0},{"$f":"'5. Offre de transport'!GT18","v":0},{"$f":"'5. Offre de transport'!GU18","v":0},{"$f":"'5. Offre de transport'!GV18","v":0},{"$f":"'5. Offre de transport'!GW18","v":0},{"$f":"'5. Offre de transport'!GX18","v":0},{"$f":"'5. Offre de transport'!GY18","v":0},{"$f":"'5. Offre de transport'!GZ18","v":0},{"$f":"'5. Offre de transport'!HA18","v":0},{"$f":"'5. Offre de transport'!HB18","v":0},{"$f":"'5. Offre de transport'!HC18","v":0},{"$f":"'5. Offre de transport'!HD18","v":0},{"$f":"'5. Offre de transport'!HE18","v":0},{"$f":"'5. Offre de transport'!HF18","v":0},{"$f":"'5. Offre de transport'!HG18","v":0},{"$f":"'5. Offre de transport'!HH18","v":0},{"$f":"'5. Offre de transport'!HI18","v":0},{"$f":"'5. Offre de transport'!HJ18","v":0},{"$f":"'5. Offre de transport'!HK18","v":0},{"$f":"'5. Offre de transport'!HL18","v":0},{"$f":"'5. Offre de transport'!HM18","v":0},{"$f":"'5. Offre de transport'!HN18","v":0},{"$f":"'5. Offre de transport'!HO18","v":0},{"$f":"'5. Offre de transport'!HP18","v":0},{"$f":"'5. Offre de transport'!HQ18","v":0},{"$f":"'5. Offre de transport'!HR18","v":0},{"$f":"'5. Offre de transport'!HS18","v":0},{"$f":"'5. Offre de transport'!HT18","v":0},{"$f":"'5. Offre de transport'!HU18","v":0},{"$f":"'5. Offre de transport'!HV18","v":0},{"$f":"'5. Offre de transport'!HW18","v":0},{"$f":"'5. Offre de transport'!HX18","v":0},{"$f":"'5. Offre de transport'!HY18","v":0},{"$f":"'5. Offre de transport'!HZ18","v":0},{"$f":"'5. Offre de transport'!IA18","v":0},{"$f":"'5. Offre de transport'!IB18","v":0},{"$f":"'5. Offre de transport'!IC18","v":0},{"$f":"'5. Offre de transport'!ID18","v":0},{"$f":"'5. Offre de transport'!IE18","v":0},{"$f":"'5. Offre de transport'!IF18","v":0},{"$f":"'5. Offre de transport'!IG18","v":0},{"$f":"'5. Offre de transport'!IH18","v":0},{"$f":"'5. Offre de transport'!II18","v":0},{"$f":"'5. Offre de transport'!IJ18","v":0},{"$f":"'5. Offre de transport'!IK18","v":0},{"$f":"'5. Offre de transport'!IL18","v":0},{"$f":"'5. Offre de transport'!IM18","v":0},{"$f":"'5. Offre de transport'!IN18","v":0},{"$f":"'5. Offre de transport'!IO18","v":0},{"$f":"'5. Offre de transport'!IP18","v":0},{"$f":"'5. Offre de transport'!IQ18","v":0},{"$f":"'5. Offre de transport'!IR18","v":0},{"$f":"'5. Offre de transport'!IS18","v":0},{"$f":"'5. Offre de transport'!IT18","v":0},{"$f":"'5. Offre de transport'!IU18","v":0},{"$f":"'5. Offre de transport'!IV18","v":0},{"$f":"'5. Offre de transport'!IW18","v":0},{"$f":"'5. Offre de transport'!IX18","v":0},{"$f":"'5. Offre de transport'!IY18","v":0},{"$f":"'5. Offre de transport'!IZ18","v":0},{"$f":"'5. Offre de transport'!JA18","v":0},{"$f":"'5. Offre de transport'!JB18","v":0},{"$f":"'5. Offre de transport'!JC18","v":0},{"$f":"'5. Offre de transport'!JD18","v":0},{"$f":"'5. Offre de transport'!JE18","v":0},{"$f":"'5. Offre de transport'!JF18","v":0},{"$f":"'5. Offre de transport'!JG18","v":0},{"$f":"'5. Offre de transport'!JH18","v":0},{"$f":"'5. Offre de transport'!JI18","v":0},{"$f":"'5. Offre de transport'!JJ18","v":0},{"$f":"'5. Offre de transport'!JK18","v":0},{"$f":"'5. Offre de transport'!JL18","v":0},{"$f":"'5. Offre de transport'!JM18","v":0},{"$f":"'5. Offre de transport'!JN18","v":0},{"$f":"'5. Offre de transport'!JO18","v":0},{"$f":"'5. Offre de transport'!JP18","v":0},{"$f":"'5. Offre de transport'!JQ18","v":0},{"$f":"'5. Offre de transport'!JR18","v":0},{"$f":"'5. Offre de transport'!JS18","v":0},{"$f":"'5. Offre de transport'!JT18","v":0},{"$f":"'5. Offre de transport'!JU18","v":0},{"$f":"'5. Offre de transport'!JV18","v":0},{"$f":"'5. Offre de transport'!JW18","v":0},{"$f":"'5. Offre de transport'!JX18","v":0},{"$f":"'5. Offre de transport'!JY18","v":0},{"$f":"'5. Offre de transport'!JZ18","v":0},{"$f":"'5. Offre de transport'!KA18","v":0},{"$f":"'5. Offre de transport'!KB18","v":0},{"$f":"'5. Offre de transport'!KC18","v":0},{"$f":"'5. Offre de transport'!KD18","v":0},{"$f":"'5. Offre de transport'!KE18","v":0},{"$f":"'5. Offre de transport'!KF18","v":0},{"$f":"'5. Offre de transport'!KG18","v":0},{"$f":"'5. Offre de transport'!KH18","v":0},{"$f":"'5. Offre de transport'!KI18","v":0},{"$f":"'5. Offre de transport'!KJ18","v":0},{"$f":"'5. Offre de transport'!KK18","v":0},{"$f":"'5. Offre de transport'!KL18","v":0},{"$f":"'5. Offre de transport'!KM18","v":0},{"$f":"'5. Offre de transport'!KN18","v":0},{"$f":"'5. Offre de transport'!KO18","v":0},{"$f":"'5. Offre de transport'!KP18","v":0},{"$f":"'5. Offre de transport'!KQ18","v":0},{"$f":"'5. Offre de transport'!KR18","v":0},{"$f":"'5. Offre de transport'!KS18","v":0},{"$f":"'5. Offre de transport'!KT18","v":0},{"$f":"'5. Offre de transport'!KU18","v":0},{"$f":"'5. Offre de transport'!KV18","v":0},{"$f":"'5. Offre de transport'!KW18","v":0},{"$f":"'5. Offre de transport'!KX18","v":0},{"$f":"'5. Offre de transport'!KY18","v":0},{"$f":"'5. Offre de transport'!KZ18","v":0},{"$f":"'5. Offre de transport'!LA18","v":0},{"$f":"'5. Offre de transport'!LB18","v":0},{"$f":"'5. Offre de transport'!LC18","v":0},{"$f":"'5. Offre de transport'!LD18","v":0},{"$f":"'5. Offre de transport'!LE18","v":0},{"$f":"'5. Offre de transport'!LF18","v":0},{"$f":"'5. Offre de transport'!LG18","v":0},{"$f":"'5. Offre de transport'!LH18","v":0},{"$f":"'5. Offre de transport'!LI18","v":0},{"$f":"'5. Offre de transport'!LJ18","v":0},{"$f":"'5. Offre de transport'!LK18","v":0},{"$f":"'5. Offre de transport'!LL18","v":0},{"$f":"'5. Offre de transport'!LM18","v":0},{"$f":"'5. Offre de transport'!LN18","v":0},{"$f":"'5. Offre de transport'!LO18","v":0},{"$f":"'5. Offre de transport'!LP18","v":0},{"$f":"'5. Offre de transport'!LQ18","v":0},{"$f":"'5. Offre de transport'!LR18","v":0},{"$f":"'5. Offre de transport'!LS18","v":0},{"$f":"'5. Offre de transport'!LT18","v":0},{"$f":"'5. Offre de transport'!LU18","v":0},{"$f":"'5. Offre de transport'!LV18","v":0},{"$f":"'5. Offre de transport'!LW18","v":0},{"$f":"'5. Offre de transport'!LX18","v":0},{"$f":"'5. Offre de transport'!LY18","v":0},{"$f":"'5. Offre de transport'!LZ18","v":0},{"$f":"'5. Offre de transport'!MA18","v":0},{"$f":"'5. Offre de transport'!MB18","v":0},{"$f":"'5. Offre de transport'!MC18","v":0},{"$f":"'5. Offre de transport'!MD18","v":0},{"$f":"'5. Offre de transport'!ME18","v":0},{"$f":"'5. Offre de transport'!MF18","v":0},{"$f":"'5. Offre de transport'!MG18","v":0},{"$f":"'5. Offre de transport'!MH18","v":0},{"$f":"'5. Offre de transport'!MI18","v":0},{"$f":"'5. Offre de transport'!MJ18","v":0},{"$f":"'5. Offre de transport'!MK18","v":0},{"$f":"'5. Offre de transport'!ML18","v":0},{"$f":"'5. Offre de transport'!MM18","v":0},{"$f":"'5. Offre de transport'!MN18","v":0},{"$f":"'5. Offre de transport'!MO18","v":0},{"$f":"'5. Offre de transport'!MP18","v":0},{"$f":"'5. Offre de transport'!MQ18","v":0},{"$f":"'5. Offre de transport'!MR18","v":0},{"$f":"'5. Offre de transport'!MS18","v":0},{"$f":"'5. Offre de transport'!MT18","v":0},{"$f":"'5. Offre de transport'!MU18","v":0},{"$f":"'5. Offre de transport'!MV18","v":0},{"$f":"'5. Offre de transport'!MW18","v":0},{"$f":"'5. Offre de transport'!MX18","v":0},{"$f":"'5. Offre de transport'!MY18","v":0},{"$f":"'5. Offre de transport'!MZ18","v":0}]
[null,{"$f":"'5. Offre de transport'!B19","v":1},{"$f":"'5. Offre de transport'!C19","v":"Ville/Arrêt  1"},{"$f":"'5. Offre de transport'!D19","v":"Ville/Arrêt  1"},{"$f":"'5. Offre de transport'!E19","v":0},{"$f":"'5. Offre de transport'!F19","v":0},{"$f":"'5. Offre de transport'!G19","v":0},{"$f":"'5. Offre de transport'!H19","v":0},{"$f":"'5. Offre de transport'!I19","v":0},{"$f":"'5. Offre de transport'!J19","v":0},{"$f":"'5. Offre de transport'!K19","v":0},{"$f":"'5. Offre de transport'!L19","v":0},{"$f":"'5. Offre de transport'!M19","v":0},{"$f":"'5. Offre de transport'!N19","v":0},{"$f":"'5. Offre de transport'!O19","v":0},{"$f":"'5. Offre de transport'!P19","v":0},{"$f":"'5. Offre de transport'!Q19","v":0},{"$f":"'5. Offre de transport'!R19","v":0},{"$f":"'5. Offre de transport'!S19","v":0},{"$f":"'5. Offre de transport'!T19","v":0},{"$f":"'5. Offre de transport'!U19","v":0},{"$f":"'5. Offre de transport'!V19","v":0},{"$f":"'5. Offre de transport'!W19","v":0},{"$f":"'5. Offre de transport'!X19","v":0},{"$f":"'5. Offre de transport'!Y19","v":0},{"$f":"'5. Offre de transport'!Z19","v":0},{"$f":"'5. Offre de transport'!AA19","v":0},{"$f":"'5. Offre de transport'!AB19","v":0},{"$f":"'5. Offre de transport'!AC19","v":0},{"$f":"'5. Offre de transport'!AD19","v":0},{"$f":"'5. Offre de transport'!AE19","v":0},{"$f":"'5. Offre de transport'!AF19","v":0},{"$f":"'5. Offre de transport'!AG19","v":0},{"$f":"'5. Offre de transport'!AH19","v":0},{"$f":"'5. Offre de transport'!AI19","v":0},{"$f":"'5. Offre de transport'!AJ19","v":0},{"$f":"'5. Offre de transport'!AK19","v":0},{"$f":"'5. Offre de transport'!AL19","v":0},{"$f":"'5. Offre de transport'!AM19","v":0},{"$f":"'5. Offre de transport'!AN19","v":0},{"$f":"'5. Offre de transport'!AO19","v":0},{"$f":"'5. Offre de transport'!AP19","v":0},{"$f":"'5. Offre de transport'!AQ19","v":0},{"$f":"'5. Offre de transport'!AR19","v":0},{"$f":"'5. Offre de transport'!AS19","v":0},{"$f":"'5. Offre de transport'!AT19","v":0},{"$f":"'5. Offre de transport'!AU19","v":0},{"$f":"'5. Offre de transport'!AV19","v":0},{"$f":"'5. Offre de transport'!AW19","v":0},{"$f":"'5. Offre de transport'!AX19","v":0},{"$f":"'5. Offre de transport'!AY19","v":0},{"$f":"'5. Offre de transport'!AZ19","v":0},{"$f":"'5. Offre de transport'!BA19","v":0},{"$f":"'5. Offre de transport'!BB19","v":0},{"$f":"'5. Offre de transport'!BC19","v":0},{"$f":"'5. Offre de transport'!BD19","v":0},{"$f":"'5. Offre de transport'!BE19","v":0},{"$f":"'5. Offre de transport'!BF19","v":0},{"$f":"'5. Offre de transport'!BG19","v":0},{"$f":"'5. Offre de transport'!BH19","v":0},{"$f":"'5. Offre de transport'!BI19","v":0},{"$f":"'5. Offre de transport'!BJ19","v":0},{"$f":"'5. Offre de transport'!BK19","v":0},{"$f":"'5. Offre de transport'!BL19","v":0},{"$f":"'5. Offre de transport'!BM19","v":0},{"$f":"'5. Offre de transport'!BN19","v":0},{"$f":"'5. Offre de transport'!BO19","v":0},{"$f":"'5. Offre de transport'!BP19","v":0},{"$f":"'5. Offre de transport'!BQ19","v":0},{"$f":"'5. Offre de transport'!BR19","v":0},{"$f":"'5. Offre de transport'!BS19","v":0},{"$f":"'5. Offre de transport'!BT19","v":0},{"$f":"'5. Offre de transport'!BU19","v":0},{"$f":"'5. Offre de transport'!BV19","v":0},{"$f":"'5. Offre de transport'!BW19","v":0},{"$f":"'5. Offre de transport'!BX19","v":0},{"$f":"'5. Offre de transport'!BY19","v":0},{"$f":"'5. Offre de transport'!BZ19","v":0},{"$f":"'5. Offre de transport'!CA19","v":0},{"$f":"'5. Offre de transport'!CB19","v":0},{"$f":"'5. Offre de transport'!CC19","v":0},{"$f":"'5. Offre de transport'!CD19","v":0},{"$f":"'5. Offre de transport'!CE19","v":0},{"$f":"'5. Offre de transport'!CF19","v":0},{"$f":"'5. Offre de transport'!CG19","v":0},{"$f":"'5. Offre de transport'!CH19","v":0},{"$f":"'5. Offre de transport'!CI19","v":0},{"$f":"'5. Offre de transport'!CJ19","v":0},{"$f":"'5. Offre de transport'!CK19","v":0},{"$f":"'5. Offre de transport'!CL19","v":0},{"$f":"'5. Offre de transport'!CM19","v":0},{"$f":"'5. Offre de transport'!CN19","v":0},{"$f":"'5. Offre de transport'!CO19","v":0},{"$f":"'5. Offre de transport'!CP19","v":0},{"$f":"'5. Offre de transport'!CQ19","v":0},{"$f":"'5. Offre de transport'!CR19","v":0},{"$f":"'5. Offre de transport'!CS19","v":0},{"$f":"'5. Offre de transport'!CT19","v":0},{"$f":"'5. Offre de transport'!CU19","v":0},{"$f":"'5. Offre de transport'!CV19","v":0},{"$f":"'5. Offre de transport'!CW19","v":0},{"$f":"'5. Offre de transport'!CX19","v":0},{"$f":"'5. Offre de transport'!CY19","v":0},{"$f":"'5. Offre de transport'!CZ19","v":0},{"$f":"'5. Offre de transport'!DA19","v":0},{"$f":"'5. Offre de transport'!DB19","v":0},{"$f":"'5. Offre de transport'!DC19","v":0},{"$f":"'5. Offre de transport'!DD19","v":0},{"$f":"'5. Offre de transport'!DE19","v":0},{"$f":"'5. Offre de transport'!DF19","v":0},{"$f":"'5. Offre de transport'!DG19","v":0},{"$f":"'5. Offre de transport'!DH19","v":0},{"$f":"'5. Offre de transport'!DI19","v":0},{"$f":"'5. Offre de transport'!DJ19","v":0},{"$f":"'5. Offre de transport'!DK19","v":0},{"$f":"'5. Offre de transport'!DL19","v":0},{"$f":"'5. Offre de transport'!DM19","v":0},{"$f":"'5. Offre de transport'!DN19","v":0},{"$f":"'5. Offre de transport'!DO19","v":0},{"$f":"'5. Offre de transport'!DP19","v":0},{"$f":"'5. Offre de transport'!DQ19","v":0},{"$f":"'5. Offre de transport'!DR19","v":0},{"$f":"'5. Offre de transport'!DS19","v":0},{"$f":"'5. Offre de transport'!DT19","v":0},{"$f":"'5. Offre de transport'!DU19","v":0},{"$f":"'5. Offre de transport'!DV19","v":0},{"$f":"'5. Offre de transport'!DW19","v":0},{"$f":"'5. Offre de transport'!DX19","v":0},{"$f":"'5. Offre de transport'!DY19","v":0},{"$f":"'5. Offre de transport'!DZ19","v":0},{"$f":"'5. Offre de transport'!EA19","v":0},{"$f":"'5. Offre de transport'!EB19","v":0},{"$f":"'5. Offre de transport'!EC19","v":0},{"$f":"'5. Offre de transport'!ED19","v":0},{"$f":"'5. Offre de transport'!EE19","v":0},{"$f":"'5. Offre de transport'!EF19","v":0},{"$f":"'5. Offre de transport'!EG19","v":0},{"$f":"'5. Offre de transport'!EH19","v":0},{"$f":"'5. Offre de transport'!EI19","v":0},{"$f":"'5. Offre de transport'!EJ19","v":0},{"$f":"'5. Offre de transport'!EK19","v":0},{"$f":"'5. Offre de transport'!EL19","v":0},{"$f":"'5. Offre de transport'!EM19","v":0},{"$f":"'5. Offre de transport'!EN19","v":0},{"$f":"'5. Offre de transport'!EO19","v":0},{"$f":"'5. Offre de transport'!EP19","v":0},{"$f":"'5. Offre de transport'!EQ19","v":0},{"$f":"'5. Offre de transport'!ER19","v":0},{"$f":"'5. Offre de transport'!ES19","v":0},{"$f":"'5. Offre de transport'!ET19","v":0},{"$f":"'5. Offre de transport'!EU19","v":0},{"$f":"'5. Offre de transport'!EV19","v":0},{"$f":"'5. Offre de transport'!EW19","v":0},{"$f":"'5. Offre de transport'!EX19","v":0},{"$f":"'5. Offre de transport'!EY19","v":0},{"$f":"'5. Offre de transport'!EZ19","v":0},{"$f":"'5. Offre de transport'!FA19","v":0},{"$f":"'5. Offre de transport'!FB19","v":0},{"$f":"'5. Offre de transport'!FC19","v":0},{"$f":"'5. Offre de transport'!FD19","v":0},{"$f":"'5. Offre de transport'!FE19","v":0},{"$f":"'5. Offre de transport'!FF19","v":0},{"$f":"'5. Offre de transport'!FG19","v":0},{"$f":"'5. Offre de transport'!FH19","v":0},{"$f":"'5. Offre de transport'!FI19","v":0},{"$f":"'5. Offre de transport'!FJ19","v":0},{"$f":"'5. Offre de transport'!FK19","v":0},{"$f":"'5. Offre de transport'!FL19","v":0},{"$f":"'5. Offre de transport'!FM19","v":0},{"$f":"'5. Offre de transport'!FN19","v":0},{"$f":"'5. Offre de transport'!FO19","v":0},{"$f":"'5. Offre de transport'!FP19","v":0},{"$f":"'5. Offre de transport'!FQ19","v":0},{"$f":"'5. Offre de transport'!FR19","v":0},{"$f":"'5. Offre de transport'!FS19","v":0},{"$f":"'5. Offre de transport'!FT19","v":0},{"$f":"'5. Offre de transport'!FU19","v":0},{"$f":"'5. Offre de transport'!FV19","v":0},{"$f":"'5. Offre de transport'!FW19","v":0},{"$f":"'5. Offre de transport'!FX19","v":0},{"$f":"'5. Offre de transport'!FY19","v":0},{"$f":"'5. Offre de transport'!FZ19","v":0},{"$f":"'5. Offre de transport'!GA19","v":0},{"$f":"'5. Offre de transport'!GB19","v":0},{"$f":"'5. Offre de transport'!GC19","v":0},{"$f":"'5. Offre de transport'!GD19","v":0},{"$f":"'5. Offre de transport'!GE19","v":0},{"$f":"'5. Offre de transport'!GF19","v":0},{"$f":"'5. Offre de transport'!GG19","v":0},{"$f":"'5. Offre de transport'!GH19","v":0},{"$f":"'5. Offre de transport'!GI19","v":0},{"$f":"'5. Offre de transport'!GJ19","v":0},{"$f":"'5. Offre de transport'!GK19","v":0},{"$f":"'5. Offre de transport'!GL19","v":0},{"$f":"'5. Offre de transport'!GM19","v":0},{"$f":"'5. Offre de transport'!GN19","v":0},{"$f":"'5. Offre de transport'!GO19","v":0},{"$f":"'5. Offre de transport'!GP19","v":0},{"$f":"'5. Offre de transport'!GQ19","v":0},{"$f":"'5. Offre de transport'!GR19","v":0},{"$f":"'5. Offre de transport'!GS19","v":0},{"$f":"'5. Offre de transport'!GT19","v":0},{"$f":"'5. Offre de transport'!GU19","v":0},{"$f":"'5. Offre de transport'!GV19","v":0},{"$f":"'5. Offre de transport'!GW19","v":0},{"$f":"'5. Offre de transport'!GX19","v":0},{"$f":"'5. Offre de transport'!GY19","v":0},{"$f":"'5. Offre de transport'!GZ19","v":0},{"$f":"'5. Offre de transport'!HA19","v":0},{"$f":"'5. Offre de transport'!HB19","v":0},{"$f":"'5. Offre de transport'!HC19","v":0},{"$f":"'5. Offre de transport'!HD19","v":0},{"$f":"'5. Offre de transport'!HE19","v":0},{"$f":"'5. Offre de transport'!HF19","v":0},{"$f":"'5. Offre de transport'!HG19","v":0},{"$f":"'5. Offre de transport'!HH19","v":0},{"$f":"'5. Offre de transport'!HI19","v":0},{"$f":"'5. Offre de transport'!HJ19","v":0},{"$f":"'5. Offre de transport'!HK19","v":0},{"$f":"'5. Offre de transport'!HL19","v":0},{"$f":"'5. Offre de transport'!HM19","v":0},{"$f":"'5. Offre de transport'!HN19","v":0},{"$f":"'5. Offre de transport'!HO19","v":0},{"$f":"'5. Offre de transport'!HP19","v":0},{"$f":"'5. Offre de transport'!HQ19","v":0},{"$f":"'5. Offre de transport'!HR19","v":0},{"$f":"'5. Offre de transport'!HS19","v":0},{"$f":"'5. Offre de transport'!HT19","v":0},{"$f":"'5. Offre de transport'!HU19","v":0},{"$f":"'5. Offre de transport'!HV19","v":0},{"$f":"'5. Offre de transport'!HW19","v":0},{"$f":"'5. Offre de transport'!HX19","v":0},{"$f":"'5. Offre de transport'!HY19","v":0},{"$f":"'5. Offre de transport'!HZ19","v":0},{"$f":"'5. Offre de transport'!IA19","v":0},{"$f":"'5. Offre de transport'!IB19","v":0},{"$f":"'5. Offre de transport'!IC19","v":0},{"$f":"'5. Offre de transport'!ID19","v":0},{"$f":"'5. Offre de transport'!IE19","v":0},{"$f":"'5. Offre de transport'!IF19","v":0},{"$f":"'5. Offre de transport'!IG19","v":0},{"$f":"'5. Offre de transport'!IH19","v":0},{"$f":"'5. Offre de transport'!II19","v":0},{"$f":"'5. Offre de transport'!IJ19","v":0},{"$f":"'5. Offre de transport'!IK19","v":0},{"$f":"'5. Offre de transport'!IL19","v":0},{"$f":"'5. Offre de transport'!IM19","v":0},{"$f":"'5. Offre de transport'!IN19","v":0},{"$f":"'5. Offre de transport'!IO19","v":0},{"$f":"'5. Offre de transport'!IP19","v":0},{"$f":"'5. Offre de transport'!IQ19","v":0},{"$f":"'5. Offre de transport'!IR19","v":0},{"$f":"'5. Offre de transport'!IS19","v":0},{"$f":"'5. Offre de transport'!IT19","v":0},{"$f":"'5. Offre de transport'!IU19","v":0},{"$f":"'5. Offre de transport'!IV19","v":0},{"$f":"'5. Offre de transport'!IW19","v":0},{"$f":"'5. Offre de transport'!IX19","v":0},{"$f":"'5. Offre de transport'!IY19","v":0},{"$f":"'5. Offre de transport'!IZ19","v":0},{"$f":"'5. Offre de transport'!JA19","v":0},{"$f":"'5. Offre de transport'!JB19","v":0},{"$f":"'5. Offre de transport'!JC19","v":0},{"$f":"'5. Offre de transport'!JD19","v":0},{"$f":"'5. Offre de transport'!JE19","v":0},{"$f":"'5. Offre de transport'!JF19","v":0},{"$f":"'5. Offre de transport'!JG19","v":0},{"$f":"'5. Offre de transport'!JH19","v":0},{"$f":"'5. Offre de transport'!JI19","v":0},{"$f":"'5. Offre de transport'!JJ19","v":0},{"$f":"'5. Offre de transport'!JK19","v":0},{"$f":"'5. Offre de transport'!JL19","v":0},{"$f":"'5. Offre de transport'!JM19","v":0},{"$f":"'5. Offre de transport'!JN19","v":0},{"$f":"'5. Offre de transport'!JO19","v":0},{"$f":"'5. Offre de transport'!JP19","v":0},{"$f":"'5. Offre de transport'!JQ19","v":0},{"$f":"'5. Offre de transport'!JR19","v":0},{"$f":"'5. Offre de transport'!JS19","v":0},{"$f":"'5. Offre de transport'!JT19","v":0},{"$f":"'5. Offre de transport'!JU19","v":0},{"$f":"'5. Offre de transport'!JV19","v":0},{"$f":"'5. Offre de transport'!JW19","v":0},{"$f":"'5. Offre de transport'!JX19","v":0},{"$f":"'5. Offre de transport'!JY19","v":0},{"$f":"'5. Offre de transport'!JZ19","v":0},{"$f":"'5. Offre de transport'!KA19","v":0},{"$f":"'5. Offre de transport'!KB19","v":0},{"$f":"'5. Offre de transport'!KC19","v":0},{"$f":"'5. Offre de transport'!KD19","v":0},{"$f":"'5. Offre de transport'!KE19","v":0},{"$f":"'5. Offre de transport'!KF19","v":0},{"$f":"'5. Offre de transport'!KG19","v":0},{"$f":"'5. Offre de transport'!KH19","v":0},{"$f":"'5. Offre de transport'!KI19","v":0},{"$f":"'5. Offre de transport'!KJ19","v":0},{"$f":"'5. Offre de transport'!KK19","v":0},{"$f":"'5. Offre de transport'!KL19","v":0},{"$f":"'5. Offre de transport'!KM19","v":0},{"$f":"'5. Offre de transport'!KN19","v":0},{"$f":"'5. Offre de transport'!KO19","v":0},{"$f":"'5. Offre de transport'!KP19","v":0},{"$f":"'5. Offre de transport'!KQ19","v":0},{"$f":"'5. Offre de transport'!KR19","v":0},{"$f":"'5. Offre de transport'!KS19","v":0},{"$f":"'5. Offre de transport'!KT19","v":0},{"$f":"'5. Offre de transport'!KU19","v":0},{"$f":"'5. Offre de transport'!KV19","v":0},{"$f":"'5. Offre de transport'!KW19","v":0},{"$f":"'5. Offre de transport'!KX19","v":0},{"$f":"'5. Offre de transport'!KY19","v":0},{"$f":"'5. Offre de transport'!KZ19","v":0},{"$f":"'5. Offre de transport'!LA19","v":0},{"$f":"'5. Offre de transport'!LB19","v":0},{"$f":"'5. Offre de transport'!LC19","v":0},{"$f":"'5. Offre de transport'!LD19","v":0},{"$f":"'5. Offre de transport'!LE19","v":0},{"$f":"'5. Offre de transport'!LF19","v":0},{"$f":"'5. Offre de transport'!LG19","v":0},{"$f":"'5. Offre de transport'!LH19","v":0},{"$f":"'5. Offre de transport'!LI19","v":0},{"$f":"'5. Offre de transport'!LJ19","v":0},{"$f":"'5. Offre de transport'!LK19","v":0},{"$f":"'5. Offre de transport'!LL19","v":0},{"$f":"'5. Offre de transport'!LM19","v":0},{"$f":"'5. Offre de transport'!LN19","v":0},{"$f":"'5. Offre de transport'!LO19","v":0},{"$f":"'5. Offre de transport'!LP19","v":0},{"$f":"'5. Offre de transport'!LQ19","v":0},{"$f":"'5. Offre de transport'!LR19","v":0},{"$f":"'5. Offre de transport'!LS19","v":0},{"$f":"'5. Offre de transport'!LT19","v":0},{"$f":"'5. Offre de transport'!LU19","v":0},{"$f":"'5. Offre de transport'!LV19","v":0},{"$f":"'5. Offre de transport'!LW19","v":0},{"$f":"'5. Offre de transport'!LX19","v":0},{"$f":"'5. Offre de transport'!LY19","v":0},{"$f":"'5. Offre de transport'!LZ19","v":0},{"$f":"'5. Offre de transport'!MA19","v":0},{"$f":"'5. Offre de transport'!MB19","v":0},{"$f":"'5. Offre de transport'!MC19","v":0},{"$f":"'5. Offre de transport'!MD19","v":0},{"$f":"'5. Offre de transport'!ME19","v":0},{"$f":"'5. Offre de transport'!MF19","v":0},{"$f":"'5. Offre de transport'!MG19","v":0},{"$f":"'5. Offre de transport'!MH19","v":0},{"$f":"'5. Offre de transport'!MI19","v":0},{"$f":"'5. Offre de transport'!MJ19","v":0},{"$f":"'5. Offre de transport'!MK19","v":0},{"$f":"'5. Offre de transport'!ML19","v":0},{"$f":"'5. Offre de transport'!MM19","v":0},{"$f":"'5. Offre de transport'!MN19","v":0},{"$f":"'5. Offre de transport'!MO19","v":0},{"$f":"'5. Offre de transport'!MP19","v":0},{"$f":"'5. Offre de transport'!MQ19","v":0},{"$f":"'5. Offre de transport'!MR19","v":0},{"$f":"'5. Offre de transport'!MS19","v":0},{"$f":"'5. Offre de transport'!MT19","v":0},{"$f":"'5. Offre de transport'!MU19","v":0},{"$f":"'5. Offre de transport'!MV19","v":0},{"$f":"'5. Offre de transport'!MW19","v":0},{"$f":"'5. Offre de transport'!MX19","v":0},{"$f":"'5. Offre de transport'!MY19","v":0},{"$f":"'5. Offre de transport'!MZ19","v":0}]
[null,{"$f":"'5. Offre de transport'!B20","v":2},{"$f":"'5. Offre de transport'!C20","v":"Ville/Arrêt  2"},{"$f":"'5. Offre de transport'!D20","v":"Ville/Arrêt  2"},{"$f":"'5. Offre de transport'!E20","v":0},{"$f":"'5. Offre de transport'!F20","v":0},{"$f":"'5. Offre de transport'!G20","v":0},{"$f":"'5. Offre de transport'!H20","v":0},{"$f":"'5. Offre de transport'!I20","v":0},{"$f":"'5. Offre de transport'!J20","v":0},{"$f":"'5. Offre de transport'!K20","v":0},{"$f":"'5. Offre de transport'!L20","v":0},{"$f":"'5. Offre de transport'!M20","v":0},{"$f":"'5. Offre de transport'!N20","v":0},{"$f":"'5. Offre de transport'!O20","v":0},{"$f":"'5. Offre de transport'!P20","v":0},{"$f":"'5. Offre de transport'!Q20","v":0},{"$f":"'5. Offre de transport'!R20","v":0},{"$f":"'5. Offre de transport'!S20","v":0},{"$f":"'5. Offre de transport'!T20","v":0},{"$f":"'5. Offre de transport'!U20","v":0},{"$f":"'5. Offre de transport'!V20","v":0},{"$f":"'5. Offre de transport'!W20","v":0},{"$f":"'5. Offre de transport'!X20","v":0},{"$f":"'5. Offre de transport'!Y20","v":0},{"$f":"'5. Offre de transport'!Z20","v":0},{"$f":"'5. Offre de transport'!AA20","v":0},{"$f":"'5. Offre de transport'!AB20","v":0},{"$f":"'5. Offre de transport'!AC20","v":0},{"$f":"'5. Offre de transport'!AD20","v":0},{"$f":"'5. Offre de transport'!AE20","v":0},{"$f":"'5. Offre de transport'!AF20","v":0},{"$f":"'5. Offre de transport'!AG20","v":0},{"$f":"'5. Offre de transport'!AH20","v":0},{"$f":"'5. Offre de transport'!AI20","v":0},{"$f":"'5. Offre de transport'!AJ20","v":0},{"$f":"'5. Offre de transport'!AK20","v":0},{"$f":"'5. Offre de transport'!AL20","v":0},{"$f":"'5. Offre de transport'!AM20","v":0},{"$f":"'5. Offre de transport'!AN20","v":0},{"$f":"'5. Offre de transport'!AO20","v":0},{"$f":"'5. Offre de transport'!AP20","v":0},{"$f":"'5. Offre de transport'!AQ20","v":0},{"$f":"'5. Offre de transport'!AR20","v":0},{"$f":"'5. Offre de transport'!AS20","v":0},{"$f":"'5. Offre de transport'!AT20","v":0},{"$f":"'5. Offre de transport'!AU20","v":0},{"$f":"'5. Offre de transport'!AV20","v":0},{"$f":"'5. Offre de transport'!AW20","v":0},{"$f":"'5. Offre de transport'!AX20","v":0},{"$f":"'5. Offre de transport'!AY20","v":0},{"$f":"'5. Offre de transport'!AZ20","v":0},{"$f":"'5. Offre de transport'!BA20","v":0},{"$f":"'5. Offre de transport'!BB20","v":0},{"$f":"'5. Offre de transport'!BC20","v":0},{"$f":"'5. Offre de transport'!BD20","v":0},{"$f":"'5. Offre de transport'!BE20","v":0},{"$f":"'5. Offre de transport'!BF20","v":0},{"$f":"'5. Offre de transport'!BG20","v":0},{"$f":"'5. Offre de transport'!BH20","v":0},{"$f":"'5. Offre de transport'!BI20","v":0},{"$f":"'5. Offre de transport'!BJ20","v":0},{"$f":"'5. Offre de transport'!BK20","v":0},{"$f":"'5. Offre de transport'!BL20","v":0},{"$f":"'5. Offre de transport'!BM20","v":0},{"$f":"'5. Offre de transport'!BN20","v":0},{"$f":"'5. Offre de transport'!BO20","v":0},{"$f":"'5. Offre de transport'!BP20","v":0},{"$f":"'5. Offre de transport'!BQ20","v":0},{"$f":"'5. Offre de transport'!BR20","v":0},{"$f":"'5. Offre de transport'!BS20","v":0},{"$f":"'5. Offre de transport'!BT20","v":0},{"$f":"'5. Offre de transport'!BU20","v":0},{"$f":"'5. Offre de transport'!BV20","v":0},{"$f":"'5. Offre de transport'!BW20","v":0},{"$f":"'5. Offre de transport'!BX20","v":0},{"$f":"'5. Offre de transport'!BY20","v":0},{"$f":"'5. Offre de transport'!BZ20","v":0},{"$f":"'5. Offre de transport'!CA20","v":0},{"$f":"'5. Offre de transport'!CB20","v":0},{"$f":"'5. Offre de transport'!CC20","v":0},{"$f":"'5. Offre de transport'!CD20","v":0},{"$f":"'5. Offre de transport'!CE20","v":0},{"$f":"'5. Offre de transport'!CF20","v":0},{"$f":"'5. Offre de transport'!CG20","v":0},{"$f":"'5. Offre de transport'!CH20","v":0},{"$f":"'5. Offre de transport'!CI20","v":0},{"$f":"'5. Offre de transport'!CJ20","v":0},{"$f":"'5. Offre de transport'!CK20","v":0},{"$f":"'5. Offre de transport'!CL20","v":0},{"$f":"'5. Offre de transport'!CM20","v":0},{"$f":"'5. Offre de transport'!CN20","v":0},{"$f":"'5. Offre de transport'!CO20","v":0},{"$f":"'5. Offre de transport'!CP20","v":0},{"$f":"'5. Offre de transport'!CQ20","v":0},{"$f":"'5. Offre de transport'!CR20","v":0},{"$f":"'5. Offre de transport'!CS20","v":0},{"$f":"'5. Offre de transport'!CT20","v":0},{"$f":"'5. Offre de transport'!CU20","v":0},{"$f":"'5. Offre de transport'!CV20","v":0},{"$f":"'5. Offre de transport'!CW20","v":0},{"$f":"'5. Offre de transport'!CX20","v":0},{"$f":"'5. Offre de transport'!CY20","v":0},{"$f":"'5. Offre de transport'!CZ20","v":0},{"$f":"'5. Offre de transport'!DA20","v":0},{"$f":"'5. Offre de transport'!DB20","v":0},{"$f":"'5. Offre de transport'!DC20","v":0},{"$f":"'5. Offre de transport'!DD20","v":0},{"$f":"'5. Offre de transport'!DE20","v":0},{"$f":"'5. Offre de transport'!DF20","v":0},{"$f":"'5. Offre de transport'!DG20","v":0},{"$f":"'5. Offre de transport'!DH20","v":0},{"$f":"'5. Offre de transport'!DI20","v":0},{"$f":"'5. Offre de transport'!DJ20","v":0},{"$f":"'5. Offre de transport'!DK20","v":0},{"$f":"'5. Offre de transport'!DL20","v":0},{"$f":"'5. Offre de transport'!DM20","v":0},{"$f":"'5. Offre de transport'!DN20","v":0},{"$f":"'5. Offre de transport'!DO20","v":0},{"$f":"'5. Offre de transport'!DP20","v":0},{"$f":"'5. Offre de transport'!DQ20","v":0},{"$f":"'5. Offre de transport'!DR20","v":0},{"$f":"'5. Offre de transport'!DS20","v":0},{"$f":"'5. Offre de transport'!DT20","v":0},{"$f":"'5. Offre de transport'!DU20","v":0},{"$f":"'5. Offre de transport'!DV20","v":0},{"$f":"'5. Offre de transport'!DW20","v":0},{"$f":"'5. Offre de transport'!DX20","v":0},{"$f":"'5. Offre de transport'!DY20","v":0},{"$f":"'5. Offre de transport'!DZ20","v":0},{"$f":"'5. Offre de transport'!EA20","v":0},{"$f":"'5. Offre de transport'!EB20","v":0},{"$f":"'5. Offre de transport'!EC20","v":0},{"$f":"'5. Offre de transport'!ED20","v":0},{"$f":"'5. Offre de transport'!EE20","v":0},{"$f":"'5. Offre de transport'!EF20","v":0},{"$f":"'5. Offre de transport'!EG20","v":0},{"$f":"'5. Offre de transport'!EH20","v":0},{"$f":"'5. Offre de transport'!EI20","v":0},{"$f":"'5. Offre de transport'!EJ20","v":0},{"$f":"'5. Offre de transport'!EK20","v":0},{"$f":"'5. Offre de transport'!EL20","v":0},{"$f":"'5. Offre de transport'!EM20","v":0},{"$f":"'5. Offre de transport'!EN20","v":0},{"$f":"'5. Offre de transport'!EO20","v":0},{"$f":"'5. Offre de transport'!EP20","v":0},{"$f":"'5. Offre de transport'!EQ20","v":0},{"$f":"'5. Offre de transport'!ER20","v":0},{"$f":"'5. Offre de transport'!ES20","v":0},{"$f":"'5. Offre de transport'!ET20","v":0},{"$f":"'5. Offre de transport'!EU20","v":0},{"$f":"'5. Offre de transport'!EV20","v":0},{"$f":"'5. Offre de transport'!EW20","v":0},{"$f":"'5. Offre de transport'!EX20","v":0},{"$f":"'5. Offre de transport'!EY20","v":0},{"$f":"'5. Offre de transport'!EZ20","v":0},{"$f":"'5. Offre de transport'!FA20","v":0},{"$f":"'5. Offre de transport'!FB20","v":0},{"$f":"'5. Offre de transport'!FC20","v":0},{"$f":"'5. Offre de transport'!FD20","v":0},{"$f":"'5. Offre de transport'!FE20","v":0},{"$f":"'5. Offre de transport'!FF20","v":0},{"$f":"'5. Offre de transport'!FG20","v":0},{"$f":"'5. Offre de transport'!FH20","v":0},{"$f":"'5. Offre de transport'!FI20","v":0},{"$f":"'5. Offre de transport'!FJ20","v":0},{"$f":"'5. Offre de transport'!FK20","v":0},{"$f":"'5. Offre de transport'!FL20","v":0},{"$f":"'5. Offre de transport'!FM20","v":0},{"$f":"'5. Offre de transport'!FN20","v":0},{"$f":"'5. Offre de transport'!FO20","v":0},{"$f":"'5. Offre de transport'!FP20","v":0},{"$f":"'5. Offre de transport'!FQ20","v":0},{"$f":"'5. Offre de transport'!FR20","v":0},{"$f":"'5. Offre de transport'!FS20","v":0},{"$f":"'5. Offre de transport'!FT20","v":0},{"$f":"'5. Offre de transport'!FU20","v":0},{"$f":"'5. Offre de transport'!FV20","v":0},{"$f":"'5. Offre de transport'!FW20","v":0},{"$f":"'5. Offre de transport'!FX20","v":0},{"$f":"'5. Offre de transport'!FY20","v":0},{"$f":"'5. Offre de transport'!FZ20","v":0},{"$f":"'5. Offre de transport'!GA20","v":0},{"$f":"'5. Offre de transport'!GB20","v":0},{"$f":"'5. Offre de transport'!GC20","v":0},{"$f":"'5. Offre de transport'!GD20","v":0},{"$f":"'5. Offre de transport'!GE20","v":0},{"$f":"'5. Offre de transport'!GF20","v":0},{"$f":"'5. Offre de transport'!GG20","v":0},{"$f":"'5. Offre de transport'!GH20","v":0},{"$f":"'5. Offre de transport'!GI20","v":0},{"$f":"'5. Offre de transport'!GJ20","v":0},{"$f":"'5. Offre de transport'!GK20","v":0},{"$f":"'5. Offre de transport'!GL20","v":0},{"$f":"'5. Offre de transport'!GM20","v":0},{"$f":"'5. Offre de transport'!GN20","v":0},{"$f":"'5. Offre de transport'!GO20","v":0},{"$f":"'5. Offre de transport'!GP20","v":0},{"$f":"'5. Offre de transport'!GQ20","v":0},{"$f":"'5. Offre de transport'!GR20","v":0},{"$f":"'5. Offre de transport'!GS20","v":0},{"$f":"'5. Offre de transport'!GT20","v":0},{"$f":"'5. Offre de transport'!GU20","v":0},{"$f":"'5. Offre de transport'!GV20","v":0},{"$f":"'5. Offre de transport'!GW20","v":0},{"$f":"'5. Offre de transport'!GX20","v":0},{"$f":"'5. Offre de transport'!GY20","v":0},{"$f":"'5. Offre de transport'!GZ20","v":0},{"$f":"'5. Offre de transport'!HA20","v":0},{"$f":"'5. Offre de transport'!HB20","v":0},{"$f":"'5. Offre de transport'!HC20","v":0},{"$f":"'5. Offre de transport'!HD20","v":0},{"$f":"'5. Offre de transport'!HE20","v":0},{"$f":"'5. Offre de transport'!HF20","v":0},{"$f":"'5. Offre de transport'!HG20","v":0},{"$f":"'5. Offre de transport'!HH20","v":0},{"$f":"'5. Offre de transport'!HI20","v":0},{"$f":"'5. Offre de transport'!HJ20","v":0},{"$f":"'5. Offre de transport'!HK20","v":0},{"$f":"'5. Offre de transport'!HL20","v":0},{"$f":"'5. Offre de transport'!HM20","v":0},{"$f":"'5. Offre de transport'!HN20","v":0},{"$f":"'5. Offre de transport'!HO20","v":0},{"$f":"'5. Offre de transport'!HP20","v":0},{"$f":"'5. Offre de transport'!HQ20","v":0},{"$f":"'5. Offre de transport'!HR20","v":0},{"$f":"'5. Offre de transport'!HS20","v":0},{"$f":"'5. Offre de transport'!HT20","v":0},{"$f":"'5. Offre de transport'!HU20","v":0},{"$f":"'5. Offre de transport'!HV20","v":0},{"$f":"'5. Offre de transport'!HW20","v":0},{"$f":"'5. Offre de transport'!HX20","v":0},{"$f":"'5. Offre de transport'!HY20","v":0},{"$f":"'5. Offre de transport'!HZ20","v":0},{"$f":"'5. Offre de transport'!IA20","v":0},{"$f":"'5. Offre de transport'!IB20","v":0},{"$f":"'5. Offre de transport'!IC20","v":0},{"$f":"'5. Offre de transport'!ID20","v":0},{"$f":"'5. Offre de transport'!IE20","v":0},{"$f":"'5. Offre de transport'!IF20","v":0},{"$f":"'5. Offre de transport'!IG20","v":0},{"$f":"'5. Offre de transport'!IH20","v":0},{"$f":"'5. Offre de transport'!II20","v":0},{"$f":"'5. Offre de transport'!IJ20","v":0},{"$f":"'5. Offre de transport'!IK20","v":0},{"$f":"'5. Offre de transport'!IL20","v":0},{"$f":"'5. Offre de transport'!IM20","v":0},{"$f":"'5. Offre de transport'!IN20","v":0},{"$f":"'5. Offre de transport'!IO20","v":0},{"$f":"'5. Offre de transport'!IP20","v":0},{"$f":"'5. Offre de transport'!IQ20","v":0},{"$f":"'5. Offre de transport'!IR20","v":0},{"$f":"'5. Offre de transport'!IS20","v":0},{"$f":"'5. Offre de transport'!IT20","v":0},{"$f":"'5. Offre de transport'!IU20","v":0},{"$f":"'5. Offre de transport'!IV20","v":0},{"$f":"'5. Offre de transport'!IW20","v":0},{"$f":"'5. Offre de transport'!IX20","v":0},{"$f":"'5. Offre de transport'!IY20","v":0},{"$f":"'5. Offre de transport'!IZ20","v":0},{"$f":"'5. Offre de transport'!JA20","v":0},{"$f":"'5. Offre de transport'!JB20","v":0},{"$f":"'5. Offre de transport'!JC20","v":0},{"$f":"'5. Offre de transport'!JD20","v":0},{"$f":"'5. Offre de transport'!JE20","v":0},{"$f":"'5. Offre de transport'!JF20","v":0},{"$f":"'5. Offre de transport'!JG20","v":0},{"$f":"'5. Offre de transport'!JH20","v":0},{"$f":"'5. Offre de transport'!JI20","v":0},{"$f":"'5. Offre de transport'!JJ20","v":0},{"$f":"'5. Offre de transport'!JK20","v":0},{"$f":"'5. Offre de transport'!JL20","v":0},{"$f":"'5. Offre de transport'!JM20","v":0},{"$f":"'5. Offre de transport'!JN20","v":0},{"$f":"'5. Offre de transport'!JO20","v":0},{"$f":"'5. Offre de transport'!JP20","v":0},{"$f":"'5. Offre de transport'!JQ20","v":0},{"$f":"'5. Offre de transport'!JR20","v":0},{"$f":"'5. Offre de transport'!JS20","v":0},{"$f":"'5. Offre de transport'!JT20","v":0},{"$f":"'5. Offre de transport'!JU20","v":0},{"$f":"'5. Offre de transport'!JV20","v":0},{"$f":"'5. Offre de transport'!JW20","v":0},{"$f":"'5. Offre de transport'!JX20","v":0},{"$f":"'5. Offre de transport'!JY20","v":0},{"$f":"'5. Offre de transport'!JZ20","v":0},{"$f":"'5. Offre de transport'!KA20","v":0},{"$f":"'5. Offre de transport'!KB20","v":0},{"$f":"'5. Offre de transport'!KC20","v":0},{"$f":"'5. Offre de transport'!KD20","v":0},{"$f":"'5. Offre de transport'!KE20","v":0},{"$f":"'5. Offre de transport'!KF20","v":0},{"$f":"'5. Offre de transport'!KG20","v":0},{"$f":"'5. Offre de transport'!KH20","v":0},{"$f":"'5. Offre de transport'!KI20","v":0},{"$f":"'5. Offre de transport'!KJ20","v":0},{"$f":"'5. Offre de transport'!KK20","v":0},{"$f":"'5. Offre de transport'!KL20","v":0},{"$f":"'5. Offre de transport'!KM20","v":0},{"$f":"'5. Offre de transport'!KN20","v":0},{"$f":"'5. Offre de transport'!KO20","v":0},{"$f":"'5. Offre de transport'!KP20","v":0},{"$f":"'5. Offre de transport'!KQ20","v":0},{"$f":"'5. Offre de transport'!KR20","v":0},{"$f":"'5. Offre de transport'!KS20","v":0},{"$f":"'5. Offre de transport'!KT20","v":0},{"$f":"'5. Offre de transport'!KU20","v":0},{"$f":"'5. Offre de transport'!KV20","v":0},{"$f":"'5. Offre de transport'!KW20","v":0},{"$f":"'5. Offre de transport'!KX20","v":0},{"$f":"'5. Offre de transport'!KY20","v":0},{"$f":"'5. Offre de transport'!KZ20","v":0},{"$f":"'5. Offre de transport'!LA20","v":0},{"$f":"'5. Offre de transport'!LB20","v":0},{"$f":"'5. Offre de transport'!LC20","v":0},{"$f":"'5. Offre de transport'!LD20","v":0},{"$f":"'5. Offre de transport'!LE20","v":0},{"$f":"'5. Offre de transport'!LF20","v":0},{"$f":"'5. Offre de transport'!LG20","v":0},{"$f":"'5. Offre de transport'!LH20","v":0},{"$f":"'5. Offre de transport'!LI20","v":0},{"$f":"'5. Offre de transport'!LJ20","v":0},{"$f":"'5. Offre de transport'!LK20","v":0},{"$f":"'5. Offre de transport'!LL20","v":0},{"$f":"'5. Offre de transport'!LM20","v":0},{"$f":"'5. Offre de transport'!LN20","v":0},{"$f":"'5. Offre de transport'!LO20","v":0},{"$f":"'5. Offre de transport'!LP20","v":0},{"$f":"'5. Offre de transport'!LQ20","v":0},{"$f":"'5. Offre de transport'!LR20","v":0},{"$f":"'5. Offre de transport'!LS20","v":0},{"$f":"'5. Offre de transport'!LT20","v":0},{"$f":"'5. Offre de transport'!LU20","v":0},{"$f":"'5. Offre de transport'!LV20","v":0},{"$f":"'5. Offre de transport'!LW20","v":0},{"$f":"'5. Offre de transport'!LX20","v":0},{"$f":"'5. Offre de transport'!LY20","v":0},{"$f":"'5. Offre de transport'!LZ20","v":0},{"$f":"'5. Offre de transport'!MA20","v":0},{"$f":"'5. Offre de transport'!MB20","v":0},{"$f":"'5. Offre de transport'!MC20","v":0},{"$f":"'5. Offre de transport'!MD20","v":0},{"$f":"'5. Offre de transport'!ME20","v":0},{"$f":"'5. Offre de transport'!MF20","v":0},{"$f":"'5. Offre de transport'!MG20","v":0},{"$f":"'5. Offre de transport'!MH20","v":0},{"$f":"'5. Offre de transport'!MI20","v":0},{"$f":"'5. Offre de transport'!MJ20","v":0},{"$f":"'5. Offre de transport'!MK20","v":0},{"$f":"'5. Offre de transport'!ML20","v":0},{"$f":"'5. Offre de transport'!MM20","v":0},{"$f":"'5. Offre de transport'!MN20","v":0},{"$f":"'5. Offre de transport'!MO20","v":0},{"$f":"'5. Offre de transport'!MP20","v":0},{"$f":"'5. Offre de transport'!MQ20","v":0},{"$f":"'5. Offre de transport'!MR20","v":0},{"$f":"'5. Offre de transport'!MS20","v":0},{"$f":"'5. Offre de transport'!MT20","v":0},{"$f":"'5. Offre de transport'!MU20","v":0},{"$f":"'5. Offre de transport'!MV20","v":0},{"$f":"'5. Offre de transport'!MW20","v":0},{"$f":"'5. Offre de transport'!MX20","v":0},{"$f":"'5. Offre de transport'!MY20","v":0},{"$f":"'5. Offre de transport'!MZ20","v":0}]
[null,{"$f":"'5. Offre de transport'!B21","v":3},{"$f":"'5. Offre de transport'!C21","v":"Ville/Arrêt  3"},{"$f":"'5. Offre de transport'!D21","v":"Ville/Arrêt  3"},{"$f":"'5. Offre de transport'!E21","v":0},{"$f":"'5. Offre de transport'!F21","v":0},{"$f":"'5. Offre de transport'!G21","v":0},{"$f":"'5. Offre de transport'!H21","v":0},{"$f":"'5. Offre de transport'!I21","v":0},{"$f":"'5. Offre de transport'!J21","v":0},{"$f":"'5. Offre de transport'!K21","v":0},{"$f":"'5. Offre de transport'!L21","v":0},{"$f":"'5. Offre de transport'!M21","v":0},{"$f":"'5. Offre de transport'!N21","v":0},{"$f":"'5. Offre de transport'!O21","v":0},{"$f":"'5. Offre de transport'!P21","v":0},{"$f":"'5. Offre de transport'!Q21","v":0},{"$f":"'5. Offre de transport'!R21","v":0},{"$f":"'5. Offre de transport'!S21","v":0},{"$f":"'5. Offre de transport'!T21","v":0},{"$f":"'5. Offre de transport'!U21","v":0},{"$f":"'5. Offre de transport'!V21","v":0},{"$f":"'5. Offre de transport'!W21","v":0},{"$f":"'5. Offre de transport'!X21","v":0},{"$f":"'5. Offre de transport'!Y21","v":0},{"$f":"'5. Offre de transport'!Z21","v":0},{"$f":"'5. Offre de transport'!AA21","v":0},{"$f":"'5. Offre de transport'!AB21","v":0},{"$f":"'5. Offre de transport'!AC21","v":0},{"$f":"'5. Offre de transport'!AD21","v":0},{"$f":"'5. Offre de transport'!AE21","v":0},{"$f":"'5. Offre de transport'!AF21","v":0},{"$f":"'5. Offre de transport'!AG21","v":0},{"$f":"'5. Offre de transport'!AH21","v":0},{"$f":"'5. Offre de transport'!AI21","v":0},{"$f":"'5. Offre de transport'!AJ21","v":0},{"$f":"'5. Offre de transport'!AK21","v":0},{"$f":"'5. Offre de transport'!AL21","v":0},{"$f":"'5. Offre de transport'!AM21","v":0},{"$f":"'5. Offre de transport'!AN21","v":0},{"$f":"'5. Offre de transport'!AO21","v":0},{"$f":"'5. Offre de transport'!AP21","v":0},{"$f":"'5. Offre de transport'!AQ21","v":0},{"$f":"'5. Offre de transport'!AR21","v":0},{"$f":"'5. Offre de transport'!AS21","v":0},{"$f":"'5. Offre de transport'!AT21","v":0},{"$f":"'5. Offre de transport'!AU21","v":0},{"$f":"'5. Offre de transport'!AV21","v":0},{"$f":"'5. Offre de transport'!AW21","v":0},{"$f":"'5. Offre de transport'!AX21","v":0},{"$f":"'5. Offre de transport'!AY21","v":0},{"$f":"'5. Offre de transport'!AZ21","v":0},{"$f":"'5. Offre de transport'!BA21","v":0},{"$f":"'5. Offre de transport'!BB21","v":0},{"$f":"'5. Offre de transport'!BC21","v":0},{"$f":"'5. Offre de transport'!BD21","v":0},{"$f":"'5. Offre de transport'!BE21","v":0},{"$f":"'5. Offre de transport'!BF21","v":0},{"$f":"'5. Offre de transport'!BG21","v":0},{"$f":"'5. Offre de transport'!BH21","v":0},{"$f":"'5. Offre de transport'!BI21","v":0},{"$f":"'5. Offre de transport'!BJ21","v":0},{"$f":"'5. Offre de transport'!BK21","v":0},{"$f":"'5. Offre de transport'!BL21","v":0},{"$f":"'5. Offre de transport'!BM21","v":0},{"$f":"'5. Offre de transport'!BN21","v":0},{"$f":"'5. Offre de transport'!BO21","v":0},{"$f":"'5. Offre de transport'!BP21","v":0},{"$f":"'5. Offre de transport'!BQ21","v":0},{"$f":"'5. Offre de transport'!BR21","v":0},{"$f":"'5. Offre de transport'!BS21","v":0},{"$f":"'5. Offre de transport'!BT21","v":0},{"$f":"'5. Offre de transport'!BU21","v":0},{"$f":"'5. Offre de transport'!BV21","v":0},{"$f":"'5. Offre de transport'!BW21","v":0},{"$f":"'5. Offre de transport'!BX21","v":0},{"$f":"'5. Offre de transport'!BY21","v":0},{"$f":"'5. Offre de transport'!BZ21","v":0},{"$f":"'5. Offre de transport'!CA21","v":0},{"$f":"'5. Offre de transport'!CB21","v":0},{"$f":"'5. Offre de transport'!CC21","v":0},{"$f":"'5. Offre de transport'!CD21","v":0},{"$f":"'5. Offre de transport'!CE21","v":0},{"$f":"'5. Offre de transport'!CF21","v":0},{"$f":"'5. Offre de transport'!CG21","v":0},{"$f":"'5. Offre de transport'!CH21","v":0},{"$f":"'5. Offre de transport'!CI21","v":0},{"$f":"'5. Offre de transport'!CJ21","v":0},{"$f":"'5. Offre de transport'!CK21","v":0},{"$f":"'5. Offre de transport'!CL21","v":0},{"$f":"'5. Offre de transport'!CM21","v":0},{"$f":"'5. Offre de transport'!CN21","v":0},{"$f":"'5. Offre de transport'!CO21","v":0},{"$f":"'5. Offre de transport'!CP21","v":0},{"$f":"'5. Offre de transport'!CQ21","v":0},{"$f":"'5. Offre de transport'!CR21","v":0},{"$f":"'5. Offre de transport'!CS21","v":0},{"$f":"'5. Offre de transport'!CT21","v":0},{"$f":"'5. Offre de transport'!CU21","v":0},{"$f":"'5. Offre de transport'!CV21","v":0},{"$f":"'5. Offre de transport'!CW21","v":0},{"$f":"'5. Offre de transport'!CX21","v":0},{"$f":"'5. Offre de transport'!CY21","v":0},{"$f":"'5. Offre de transport'!CZ21","v":0},{"$f":"'5. Offre de transport'!DA21","v":0},{"$f":"'5. Offre de transport'!DB21","v":0},{"$f":"'5. Offre de transport'!DC21","v":0},{"$f":"'5. Offre de transport'!DD21","v":0},{"$f":"'5. Offre de transport'!DE21","v":0},{"$f":"'5. Offre de transport'!DF21","v":0},{"$f":"'5. Offre de transport'!DG21","v":0},{"$f":"'5. Offre de transport'!DH21","v":0},{"$f":"'5. Offre de transport'!DI21","v":0},{"$f":"'5. Offre de transport'!DJ21","v":0},{"$f":"'5. Offre de transport'!DK21","v":0},{"$f":"'5. Offre de transport'!DL21","v":0},{"$f":"'5. Offre de transport'!DM21","v":0},{"$f":"'5. Offre de transport'!DN21","v":0},{"$f":"'5. Offre de transport'!DO21","v":0},{"$f":"'5. Offre de transport'!DP21","v":0},{"$f":"'5. Offre de transport'!DQ21","v":0},{"$f":"'5. Offre de transport'!DR21","v":0},{"$f":"'5. Offre de transport'!DS21","v":0},{"$f":"'5. Offre de transport'!DT21","v":0},{"$f":"'5. Offre de transport'!DU21","v":0},{"$f":"'5. Offre de transport'!DV21","v":0},{"$f":"'5. Offre de transport'!DW21","v":0},{"$f":"'5. Offre de transport'!DX21","v":0},{"$f":"'5. Offre de transport'!DY21","v":0},{"$f":"'5. Offre de transport'!DZ21","v":0},{"$f":"'5. Offre de transport'!EA21","v":0},{"$f":"'5. Offre de transport'!EB21","v":0},{"$f":"'5. Offre de transport'!EC21","v":0},{"$f":"'5. Offre de transport'!ED21","v":0},{"$f":"'5. Offre de transport'!EE21","v":0},{"$f":"'5. Offre de transport'!EF21","v":0},{"$f":"'5. Offre de transport'!EG21","v":0},{"$f":"'5. Offre de transport'!EH21","v":0},{"$f":"'5. Offre de transport'!EI21","v":0},{"$f":"'5. Offre de transport'!EJ21","v":0},{"$f":"'5. Offre de transport'!EK21","v":0},{"$f":"'5. Offre de transport'!EL21","v":0},{"$f":"'5. Offre de transport'!EM21","v":0},{"$f":"'5. Offre de transport'!EN21","v":0},{"$f":"'5. Offre de transport'!EO21","v":0},{"$f":"'5. Offre de transport'!EP21","v":0},{"$f":"'5. Offre de transport'!EQ21","v":0},{"$f":"'5. Offre de transport'!ER21","v":0},{"$f":"'5. Offre de transport'!ES21","v":0},{"$f":"'5. Offre de transport'!ET21","v":0},{"$f":"'5. Offre de transport'!EU21","v":0},{"$f":"'5. Offre de transport'!EV21","v":0},{"$f":"'5. Offre de transport'!EW21","v":0},{"$f":"'5. Offre de transport'!EX21","v":0},{"$f":"'5. Offre de transport'!EY21","v":0},{"$f":"'5. Offre de transport'!EZ21","v":0},{"$f":"'5. Offre de transport'!FA21","v":0},{"$f":"'5. Offre de transport'!FB21","v":0},{"$f":"'5. Offre de transport'!FC21","v":0},{"$f":"'5. Offre de transport'!FD21","v":0},{"$f":"'5. Offre de transport'!FE21","v":0},{"$f":"'5. Offre de transport'!FF21","v":0},{"$f":"'5. Offre de transport'!FG21","v":0},{"$f":"'5. Offre de transport'!FH21","v":0},{"$f":"'5. Offre de transport'!FI21","v":0},{"$f":"'5. Offre de transport'!FJ21","v":0},{"$f":"'5. Offre de transport'!FK21","v":0},{"$f":"'5. Offre de transport'!FL21","v":0},{"$f":"'5. Offre de transport'!FM21","v":0},{"$f":"'5. Offre de transport'!FN21","v":0},{"$f":"'5. Offre de transport'!FO21","v":0},{"$f":"'5. Offre de transport'!FP21","v":0},{"$f":"'5. Offre de transport'!FQ21","v":0},{"$f":"'5. Offre de transport'!FR21","v":0},{"$f":"'5. Offre de transport'!FS21","v":0},{"$f":"'5. Offre de transport'!FT21","v":0},{"$f":"'5. Offre de transport'!FU21","v":0},{"$f":"'5. Offre de transport'!FV21","v":0},{"$f":"'5. Offre de transport'!FW21","v":0},{"$f":"'5. Offre de transport'!FX21","v":0},{"$f":"'5. Offre de transport'!FY21","v":0},{"$f":"'5. Offre de transport'!FZ21","v":0},{"$f":"'5. Offre de transport'!GA21","v":0},{"$f":"'5. Offre de transport'!GB21","v":0},{"$f":"'5. Offre de transport'!GC21","v":0},{"$f":"'5. Offre de transport'!GD21","v":0},{"$f":"'5. Offre de transport'!GE21","v":0},{"$f":"'5. Offre de transport'!GF21","v":0},{"$f":"'5. Offre de transport'!GG21","v":0},{"$f":"'5. Offre de transport'!GH21","v":0},{"$f":"'5. Offre de transport'!GI21","v":0},{"$f":"'5. Offre de transport'!GJ21","v":0},{"$f":"'5. Offre de transport'!GK21","v":0},{"$f":"'5. Offre de transport'!GL21","v":0},{"$f":"'5. Offre de transport'!GM21","v":0},{"$f":"'5. Offre de transport'!GN21","v":0},{"$f":"'5. Offre de transport'!GO21","v":0},{"$f":"'5. Offre de transport'!GP21","v":0},{"$f":"'5. Offre de transport'!GQ21","v":0},{"$f":"'5. Offre de transport'!GR21","v":0},{"$f":"'5. Offre de transport'!GS21","v":0},{"$f":"'5. Offre de transport'!GT21","v":0},{"$f":"'5. Offre de transport'!GU21","v":0},{"$f":"'5. Offre de transport'!GV21","v":0},{"$f":"'5. Offre de transport'!GW21","v":0},{"$f":"'5. Offre de transport'!GX21","v":0},{"$f":"'5. Offre de transport'!GY21","v":0},{"$f":"'5. Offre de transport'!GZ21","v":0},{"$f":"'5. Offre de transport'!HA21","v":0},{"$f":"'5. Offre de transport'!HB21","v":0},{"$f":"'5. Offre de transport'!HC21","v":0},{"$f":"'5. Offre de transport'!HD21","v":0},{"$f":"'5. Offre de transport'!HE21","v":0},{"$f":"'5. Offre de transport'!HF21","v":0},{"$f":"'5. Offre de transport'!HG21","v":0},{"$f":"'5. Offre de transport'!HH21","v":0},{"$f":"'5. Offre de transport'!HI21","v":0},{"$f":"'5. Offre de transport'!HJ21","v":0},{"$f":"'5. Offre de transport'!HK21","v":0},{"$f":"'5. Offre de transport'!HL21","v":0},{"$f":"'5. Offre de transport'!HM21","v":0},{"$f":"'5. Offre de transport'!HN21","v":0},{"$f":"'5. Offre de transport'!HO21","v":0},{"$f":"'5. Offre de transport'!HP21","v":0},{"$f":"'5. Offre de transport'!HQ21","v":0},{"$f":"'5. Offre de transport'!HR21","v":0},{"$f":"'5. Offre de transport'!HS21","v":0},{"$f":"'5. Offre de transport'!HT21","v":0},{"$f":"'5. Offre de transport'!HU21","v":0},{"$f":"'5. Offre de transport'!HV21","v":0},{"$f":"'5. Offre de transport'!HW21","v":0},{"$f":"'5. Offre de transport'!HX21","v":0},{"$f":"'5. Offre de transport'!HY21","v":0},{"$f":"'5. Offre de transport'!HZ21","v":0},{"$f":"'5. Offre de transport'!IA21","v":0},{"$f":"'5. Offre de transport'!IB21","v":0},{"$f":"'5. Offre de transport'!IC21","v":0},{"$f":"'5. Offre de transport'!ID21","v":0},{"$f":"'5. Offre de transport'!IE21","v":0},{"$f":"'5. Offre de transport'!IF21","v":0},{"$f":"'5. Offre de transport'!IG21","v":0},{"$f":"'5. Offre de transport'!IH21","v":0},{"$f":"'5. Offre de transport'!II21","v":0},{"$f":"'5. Offre de transport'!IJ21","v":0},{"$f":"'5. Offre de transport'!IK21","v":0},{"$f":"'5. Offre de transport'!IL21","v":0},{"$f":"'5. Offre de transport'!IM21","v":0},{"$f":"'5. Offre de transport'!IN21","v":0},{"$f":"'5. Offre de transport'!IO21","v":0},{"$f":"'5. Offre de transport'!IP21","v":0},{"$f":"'5. Offre de transport'!IQ21","v":0},{"$f":"'5. Offre de transport'!IR21","v":0},{"$f":"'5. Offre de transport'!IS21","v":0},{"$f":"'5. Offre de transport'!IT21","v":0},{"$f":"'5. Offre de transport'!IU21","v":0},{"$f":"'5. Offre de transport'!IV21","v":0},{"$f":"'5. Offre de transport'!IW21","v":0},{"$f":"'5. Offre de transport'!IX21","v":0},{"$f":"'5. Offre de transport'!IY21","v":0},{"$f":"'5. Offre de transport'!IZ21","v":0},{"$f":"'5. Offre de transport'!JA21","v":0},{"$f":"'5. Offre de transport'!JB21","v":0},{"$f":"'5. Offre de transport'!JC21","v":0},{"$f":"'5. Offre de transport'!JD21","v":0},{"$f":"'5. Offre de transport'!JE21","v":0},{"$f":"'5. Offre de transport'!JF21","v":0},{"$f":"'5. Offre de transport'!JG21","v":0},{"$f":"'5. Offre de transport'!JH21","v":0},{"$f":"'5. Offre de transport'!JI21","v":0},{"$f":"'5. Offre de transport'!JJ21","v":0},{"$f":"'5. Offre de transport'!JK21","v":0},{"$f":"'5. Offre de transport'!JL21","v":0},{"$f":"'5. Offre de transport'!JM21","v":0},{"$f":"'5. Offre de transport'!JN21","v":0},{"$f":"'5. Offre de transport'!JO21","v":0},{"$f":"'5. Offre de transport'!JP21","v":0},{"$f":"'5. Offre de transport'!JQ21","v":0},{"$f":"'5. Offre de transport'!JR21","v":0},{"$f":"'5. Offre de transport'!JS21","v":0},{"$f":"'5. Offre de transport'!JT21","v":0},{"$f":"'5. Offre de transport'!JU21","v":0},{"$f":"'5. Offre de transport'!JV21","v":0},{"$f":"'5. Offre de transport'!JW21","v":0},{"$f":"'5. Offre de transport'!JX21","v":0},{"$f":"'5. Offre de transport'!JY21","v":0},{"$f":"'5. Offre de transport'!JZ21","v":0},{"$f":"'5. Offre de transport'!KA21","v":0},{"$f":"'5. Offre de transport'!KB21","v":0},{"$f":"'5. Offre de transport'!KC21","v":0},{"$f":"'5. Offre de transport'!KD21","v":0},{"$f":"'5. Offre de transport'!KE21","v":0},{"$f":"'5. Offre de transport'!KF21","v":0},{"$f":"'5. Offre de transport'!KG21","v":0},{"$f":"'5. Offre de transport'!KH21","v":0},{"$f":"'5. Offre de transport'!KI21","v":0},{"$f":"'5. Offre de transport'!KJ21","v":0},{"$f":"'5. Offre de transport'!KK21","v":0},{"$f":"'5. Offre de transport'!KL21","v":0},{"$f":"'5. Offre de transport'!KM21","v":0},{"$f":"'5. Offre de transport'!KN21","v":0},{"$f":"'5. Offre de transport'!KO21","v":0},{"$f":"'5. Offre de transport'!KP21","v":0},{"$f":"'5. Offre de transport'!KQ21","v":0},{"$f":"'5. Offre de transport'!KR21","v":0},{"$f":"'5. Offre de transport'!KS21","v":0},{"$f":"'5. Offre de transport'!KT21","v":0},{"$f":"'5. Offre de transport'!KU21","v":0},{"$f":"'5. Offre de transport'!KV21","v":0},{"$f":"'5. Offre de transport'!KW21","v":0},{"$f":"'5. Offre de transport'!KX21","v":0},{"$f":"'5. Offre de transport'!KY21","v":0},{"$f":"'5. Offre de transport'!KZ21","v":0},{"$f":"'5. Offre de transport'!LA21","v":0},{"$f":"'5. Offre de transport'!LB21","v":0},{"$f":"'5. Offre de transport'!LC21","v":0},{"$f":"'5. Offre de transport'!LD21","v":0},{"$f":"'5. Offre de transport'!LE21","v":0},{"$f":"'5. Offre de transport'!LF21","v":0},{"$f":"'5. Offre de transport'!LG21","v":0},{"$f":"'5. Offre de transport'!LH21","v":0},{"$f":"'5. Offre de transport'!LI21","v":0},{"$f":"'5. Offre de transport'!LJ21","v":0},{"$f":"'5. Offre de transport'!LK21","v":0},{"$f":"'5. Offre de transport'!LL21","v":0},{"$f":"'5. Offre de transport'!LM21","v":0},{"$f":"'5. Offre de transport'!LN21","v":0},{"$f":"'5. Offre de transport'!LO21","v":0},{"$f":"'5. Offre de transport'!LP21","v":0},{"$f":"'5. Offre de transport'!LQ21","v":0},{"$f":"'5. Offre de transport'!LR21","v":0},{"$f":"'5. Offre de transport'!LS21","v":0},{"$f":"'5. Offre de transport'!LT21","v":0},{"$f":"'5. Offre de transport'!LU21","v":0},{"$f":"'5. Offre de transport'!LV21","v":0},{"$f":"'5. Offre de transport'!LW21","v":0},{"$f":"'5. Offre de transport'!LX21","v":0},{"$f":"'5. Offre de transport'!LY21","v":0},{"$f":"'5. Offre de transport'!LZ21","v":0},{"$f":"'5. Offre de transport'!MA21","v":0},{"$f":"'5. Offre de transport'!MB21","v":0},{"$f":"'5. Offre de transport'!MC21","v":0},{"$f":"'5. Offre de transport'!MD21","v":0},{"$f":"'5. Offre de transport'!ME21","v":0},{"$f":"'5. Offre de transport'!MF21","v":0},{"$f":"'5. Offre de transport'!MG21","v":0},{"$f":"'5. Offre de transport'!MH21","v":0},{"$f":"'5. Offre de transport'!MI21","v":0},{"$f":"'5. Offre de transport'!MJ21","v":0},{"$f":"'5. Offre de transport'!MK21","v":0},{"$f":"'5. Offre de transport'!ML21","v":0},{"$f":"'5. Offre de transport'!MM21","v":0},{"$f":"'5. Offre de transport'!MN21","v":0},{"$f":"'5. Offre de transport'!MO21","v":0},{"$f":"'5. Offre de transport'!MP21","v":0},{"$f":"'5. Offre de transport'!MQ21","v":0},{"$f":"'5. Offre de transport'!MR21","v":0},{"$f":"'5. Offre de transport'!MS21","v":0},{"$f":"'5. Offre de transport'!MT21","v":0},{"$f":"'5. Offre de transport'!MU21","v":0},{"$f":"'5. Offre de transport'!MV21","v":0},{"$f":"'5. Offre de transport'!MW21","v":0},{"$f":"'5. Offre de transport'!MX21","v":0},{"$f":"'5. Offre de transport'!MY21","v":0},{"$f":"'5. Offre de transport'!MZ21","v":0}]
[null,{"$f":"'5. Offre de transport'!B22","v":4},{"$f":"'5. Offre de transport'!C22","v":"Ville/Arrêt  4"},{"$f":"'5. Offre de transport'!D22","v":"Ville/Arrêt  4"},{"$f":"'5. Offre de transport'!E22","v":0},{"$f":"'5. Offre de transport'!F22","v":0},{"$f":"'5. Offre de transport'!G22","v":0},{"$f":"'5. Offre de transport'!H22","v":0},{"$f":"'5. Offre de transport'!I22","v":0},{"$f":"'5. Offre de transport'!J22","v":0},{"$f":"'5. Offre de transport'!K22","v":0},{"$f":"'5. Offre de transport'!L22","v":0},{"$f":"'5. Offre de transport'!M22","v":0},{"$f":"'5. Offre de transport'!N22","v":0},{"$f":"'5. Offre de transport'!O22","v":0},{"$f":"'5. Offre de transport'!P22","v":0},{"$f":"'5. Offre de transport'!Q22","v":0},{"$f":"'5. Offre de transport'!R22","v":0},{"$f":"'5. Offre de transport'!S22","v":0},{"$f":"'5. Offre de transport'!T22","v":0},{"$f":"'5. Offre de transport'!U22","v":0},{"$f":"'5. Offre de transport'!V22","v":0},{"$f":"'5. Offre de transport'!W22","v":0},{"$f":"'5. Offre de transport'!X22","v":0},{"$f":"'5. Offre de transport'!Y22","v":0},{"$f":"'5. Offre de transport'!Z22","v":0},{"$f":"'5. Offre de transport'!AA22","v":0},{"$f":"'5. Offre de transport'!AB22","v":0},{"$f":"'5. Offre de transport'!AC22","v":0},{"$f":"'5. Offre de transport'!AD22","v":0},{"$f":"'5. Offre de transport'!AE22","v":0},{"$f":"'5. Offre de transport'!AF22","v":0},{"$f":"'5. Offre de transport'!AG22","v":0},{"$f":"'5. Offre de transport'!AH22","v":0},{"$f":"'5. Offre de transport'!AI22","v":0},{"$f":"'5. Offre de transport'!AJ22","v":0},{"$f":"'5. Offre de transport'!AK22","v":0},{"$f":"'5. Offre de transport'!AL22","v":0},{"$f":"'5. Offre de transport'!AM22","v":0},{"$f":"'5. Offre de transport'!AN22","v":0},{"$f":"'5. Offre de transport'!AO22","v":0},{"$f":"'5. Offre de transport'!AP22","v":0},{"$f":"'5. Offre de transport'!AQ22","v":0},{"$f":"'5. Offre de transport'!AR22","v":0},{"$f":"'5. Offre de transport'!AS22","v":0},{"$f":"'5. Offre de transport'!AT22","v":0},{"$f":"'5. Offre de transport'!AU22","v":0},{"$f":"'5. Offre de transport'!AV22","v":0},{"$f":"'5. Offre de transport'!AW22","v":0},{"$f":"'5. Offre de transport'!AX22","v":0},{"$f":"'5. Offre de transport'!AY22","v":0},{"$f":"'5. Offre de transport'!AZ22","v":0},{"$f":"'5. Offre de transport'!BA22","v":0},{"$f":"'5. Offre de transport'!BB22","v":0},{"$f":"'5. Offre de transport'!BC22","v":0},{"$f":"'5. Offre de transport'!BD22","v":0},{"$f":"'5. Offre de transport'!BE22","v":0},{"$f":"'5. Offre de transport'!BF22","v":0},{"$f":"'5. Offre de transport'!BG22","v":0},{"$f":"'5. Offre de transport'!BH22","v":0},{"$f":"'5. Offre de transport'!BI22","v":0},{"$f":"'5. Offre de transport'!BJ22","v":0},{"$f":"'5. Offre de transport'!BK22","v":0},{"$f":"'5. Offre de transport'!BL22","v":0},{"$f":"'5. Offre de transport'!BM22","v":0},{"$f":"'5. Offre de transport'!BN22","v":0},{"$f":"'5. Offre de transport'!BO22","v":0},{"$f":"'5. Offre de transport'!BP22","v":0},{"$f":"'5. Offre de transport'!BQ22","v":0},{"$f":"'5. Offre de transport'!BR22","v":0},{"$f":"'5. Offre de transport'!BS22","v":0},{"$f":"'5. Offre de transport'!BT22","v":0},{"$f":"'5. Offre de transport'!BU22","v":0},{"$f":"'5. Offre de transport'!BV22","v":0},{"$f":"'5. Offre de transport'!BW22","v":0},{"$f":"'5. Offre de transport'!BX22","v":0},{"$f":"'5. Offre de transport'!BY22","v":0},{"$f":"'5. Offre de transport'!BZ22","v":0},{"$f":"'5. Offre de transport'!CA22","v":0},{"$f":"'5. Offre de transport'!CB22","v":0},{"$f":"'5. Offre de transport'!CC22","v":0},{"$f":"'5. Offre de transport'!CD22","v":0},{"$f":"'5. Offre de transport'!CE22","v":0},{"$f":"'5. Offre de transport'!CF22","v":0},{"$f":"'5. Offre de transport'!CG22","v":0},{"$f":"'5. Offre de transport'!CH22","v":0},{"$f":"'5. Offre de transport'!CI22","v":0},{"$f":"'5. Offre de transport'!CJ22","v":0},{"$f":"'5. Offre de transport'!CK22","v":0},{"$f":"'5. Offre de transport'!CL22","v":0},{"$f":"'5. Offre de transport'!CM22","v":0},{"$f":"'5. Offre de transport'!CN22","v":0},{"$f":"'5. Offre de transport'!CO22","v":0},{"$f":"'5. Offre de transport'!CP22","v":0},{"$f":"'5. Offre de transport'!CQ22","v":0},{"$f":"'5. Offre de transport'!CR22","v":0},{"$f":"'5. Offre de transport'!CS22","v":0},{"$f":"'5. Offre de transport'!CT22","v":0},{"$f":"'5. Offre de transport'!CU22","v":0},{"$f":"'5. Offre de transport'!CV22","v":0},{"$f":"'5. Offre de transport'!CW22","v":0},{"$f":"'5. Offre de transport'!CX22","v":0},{"$f":"'5. Offre de transport'!CY22","v":0},{"$f":"'5. Offre de transport'!CZ22","v":0},{"$f":"'5. Offre de transport'!DA22","v":0},{"$f":"'5. Offre de transport'!DB22","v":0},{"$f":"'5. Offre de transport'!DC22","v":0},{"$f":"'5. Offre de transport'!DD22","v":0},{"$f":"'5. Offre de transport'!DE22","v":0},{"$f":"'5. Offre de transport'!DF22","v":0},{"$f":"'5. Offre de transport'!DG22","v":0},{"$f":"'5. Offre de transport'!DH22","v":0},{"$f":"'5. Offre de transport'!DI22","v":0},{"$f":"'5. Offre de transport'!DJ22","v":0},{"$f":"'5. Offre de transport'!DK22","v":0},{"$f":"'5. Offre de transport'!DL22","v":0},{"$f":"'5. Offre de transport'!DM22","v":0},{"$f":"'5. Offre de transport'!DN22","v":0},{"$f":"'5. Offre de transport'!DO22","v":0},{"$f":"'5. Offre de transport'!DP22","v":0},{"$f":"'5. Offre de transport'!DQ22","v":0},{"$f":"'5. Offre de transport'!DR22","v":0},{"$f":"'5. Offre de transport'!DS22","v":0},{"$f":"'5. Offre de transport'!DT22","v":0},{"$f":"'5. Offre de transport'!DU22","v":0},{"$f":"'5. Offre de transport'!DV22","v":0},{"$f":"'5. Offre de transport'!DW22","v":0},{"$f":"'5. Offre de transport'!DX22","v":0},{"$f":"'5. Offre de transport'!DY22","v":0},{"$f":"'5. Offre de transport'!DZ22","v":0},{"$f":"'5. Offre de transport'!EA22","v":0},{"$f":"'5. Offre de transport'!EB22","v":0},{"$f":"'5. Offre de transport'!EC22","v":0},{"$f":"'5. Offre de transport'!ED22","v":0},{"$f":"'5. Offre de transport'!EE22","v":0},{"$f":"'5. Offre de transport'!EF22","v":0},{"$f":"'5. Offre de transport'!EG22","v":0},{"$f":"'5. Offre de transport'!EH22","v":0},{"$f":"'5. Offre de transport'!EI22","v":0},{"$f":"'5. Offre de transport'!EJ22","v":0},{"$f":"'5. Offre de transport'!EK22","v":0},{"$f":"'5. Offre de transport'!EL22","v":0},{"$f":"'5. Offre de transport'!EM22","v":0},{"$f":"'5. Offre de transport'!EN22","v":0},{"$f":"'5. Offre de transport'!EO22","v":0},{"$f":"'5. Offre de transport'!EP22","v":0},{"$f":"'5. Offre de transport'!EQ22","v":0},{"$f":"'5. Offre de transport'!ER22","v":0},{"$f":"'5. Offre de transport'!ES22","v":0},{"$f":"'5. Offre de transport'!ET22","v":0},{"$f":"'5. Offre de transport'!EU22","v":0},{"$f":"'5. Offre de transport'!EV22","v":0},{"$f":"'5. Offre de transport'!EW22","v":0},{"$f":"'5. Offre de transport'!EX22","v":0},{"$f":"'5. Offre de transport'!EY22","v":0},{"$f":"'5. Offre de transport'!EZ22","v":0},{"$f":"'5. Offre de transport'!FA22","v":0},{"$f":"'5. Offre de transport'!FB22","v":0},{"$f":"'5. Offre de transport'!FC22","v":0},{"$f":"'5. Offre de transport'!FD22","v":0},{"$f":"'5. Offre de transport'!FE22","v":0},{"$f":"'5. Offre de transport'!FF22","v":0},{"$f":"'5. Offre de transport'!FG22","v":0},{"$f":"'5. Offre de transport'!FH22","v":0},{"$f":"'5. Offre de transport'!FI22","v":0},{"$f":"'5. Offre de transport'!FJ22","v":0},{"$f":"'5. Offre de transport'!FK22","v":0},{"$f":"'5. Offre de transport'!FL22","v":0},{"$f":"'5. Offre de transport'!FM22","v":0},{"$f":"'5. Offre de transport'!FN22","v":0},{"$f":"'5. Offre de transport'!FO22","v":0},{"$f":"'5. Offre de transport'!FP22","v":0},{"$f":"'5. Offre de transport'!FQ22","v":0},{"$f":"'5. Offre de transport'!FR22","v":0},{"$f":"'5. Offre de transport'!FS22","v":0},{"$f":"'5. Offre de transport'!FT22","v":0},{"$f":"'5. Offre de transport'!FU22","v":0},{"$f":"'5. Offre de transport'!FV22","v":0},{"$f":"'5. Offre de transport'!FW22","v":0},{"$f":"'5. Offre de transport'!FX22","v":0},{"$f":"'5. Offre de transport'!FY22","v":0},{"$f":"'5. Offre de transport'!FZ22","v":0},{"$f":"'5. Offre de transport'!GA22","v":0},{"$f":"'5. Offre de transport'!GB22","v":0},{"$f":"'5. Offre de transport'!GC22","v":0},{"$f":"'5. Offre de transport'!GD22","v":0},{"$f":"'5. Offre de transport'!GE22","v":0},{"$f":"'5. Offre de transport'!GF22","v":0},{"$f":"'5. Offre de transport'!GG22","v":0},{"$f":"'5. Offre de transport'!GH22","v":0},{"$f":"'5. Offre de transport'!GI22","v":0},{"$f":"'5. Offre de transport'!GJ22","v":0},{"$f":"'5. Offre de transport'!GK22","v":0},{"$f":"'5. Offre de transport'!GL22","v":0},{"$f":"'5. Offre de transport'!GM22","v":0},{"$f":"'5. Offre de transport'!GN22","v":0},{"$f":"'5. Offre de transport'!GO22","v":0},{"$f":"'5. Offre de transport'!GP22","v":0},{"$f":"'5. Offre de transport'!GQ22","v":0},{"$f":"'5. Offre de transport'!GR22","v":0},{"$f":"'5. Offre de transport'!GS22","v":0},{"$f":"'5. Offre de transport'!GT22","v":0},{"$f":"'5. Offre de transport'!GU22","v":0},{"$f":"'5. Offre de transport'!GV22","v":0},{"$f":"'5. Offre de transport'!GW22","v":0},{"$f":"'5. Offre de transport'!GX22","v":0},{"$f":"'5. Offre de transport'!GY22","v":0},{"$f":"'5. Offre de transport'!GZ22","v":0},{"$f":"'5. Offre de transport'!HA22","v":0},{"$f":"'5. Offre de transport'!HB22","v":0},{"$f":"'5. Offre de transport'!HC22","v":0},{"$f":"'5. Offre de transport'!HD22","v":0},{"$f":"'5. Offre de transport'!HE22","v":0},{"$f":"'5. Offre de transport'!HF22","v":0},{"$f":"'5. Offre de transport'!HG22","v":0},{"$f":"'5. Offre de transport'!HH22","v":0},{"$f":"'5. Offre de transport'!HI22","v":0},{"$f":"'5. Offre de transport'!HJ22","v":0},{"$f":"'5. Offre de transport'!HK22","v":0},{"$f":"'5. Offre de transport'!HL22","v":0},{"$f":"'5. Offre de transport'!HM22","v":0},{"$f":"'5. Offre de transport'!HN22","v":0},{"$f":"'5. Offre de transport'!HO22","v":0},{"$f":"'5. Offre de transport'!HP22","v":0},{"$f":"'5. Offre de transport'!HQ22","v":0},{"$f":"'5. Offre de transport'!HR22","v":0},{"$f":"'5. Offre de transport'!HS22","v":0},{"$f":"'5. Offre de transport'!HT22","v":0},{"$f":"'5. Offre de transport'!HU22","v":0},{"$f":"'5. Offre de transport'!HV22","v":0},{"$f":"'5. Offre de transport'!HW22","v":0},{"$f":"'5. Offre de transport'!HX22","v":0},{"$f":"'5. Offre de transport'!HY22","v":0},{"$f":"'5. Offre de transport'!HZ22","v":0},{"$f":"'5. Offre de transport'!IA22","v":0},{"$f":"'5. Offre de transport'!IB22","v":0},{"$f":"'5. Offre de transport'!IC22","v":0},{"$f":"'5. Offre de transport'!ID22","v":0},{"$f":"'5. Offre de transport'!IE22","v":0},{"$f":"'5. Offre de transport'!IF22","v":0},{"$f":"'5. Offre de transport'!IG22","v":0},{"$f":"'5. Offre de transport'!IH22","v":0},{"$f":"'5. Offre de transport'!II22","v":0},{"$f":"'5. Offre de transport'!IJ22","v":0},{"$f":"'5. Offre de transport'!IK22","v":0},{"$f":"'5. Offre de transport'!IL22","v":0},{"$f":"'5. Offre de transport'!IM22","v":0},{"$f":"'5. Offre de transport'!IN22","v":0},{"$f":"'5. Offre de transport'!IO22","v":0},{"$f":"'5. Offre de transport'!IP22","v":0},{"$f":"'5. Offre de transport'!IQ22","v":0},{"$f":"'5. Offre de transport'!IR22","v":0},{"$f":"'5. Offre de transport'!IS22","v":0},{"$f":"'5. Offre de transport'!IT22","v":0},{"$f":"'5. Offre de transport'!IU22","v":0},{"$f":"'5. Offre de transport'!IV22","v":0},{"$f":"'5. Offre de transport'!IW22","v":0},{"$f":"'5. Offre de transport'!IX22","v":0},{"$f":"'5. Offre de transport'!IY22","v":0},{"$f":"'5. Offre de transport'!IZ22","v":0},{"$f":"'5. Offre de transport'!JA22","v":0},{"$f":"'5. Offre de transport'!JB22","v":0},{"$f":"'5. Offre de transport'!JC22","v":0},{"$f":"'5. Offre de transport'!JD22","v":0},{"$f":"'5. Offre de transport'!JE22","v":0},{"$f":"'5. Offre de transport'!JF22","v":0},{"$f":"'5. Offre de transport'!JG22","v":0},{"$f":"'5. Offre de transport'!JH22","v":0},{"$f":"'5. Offre de transport'!JI22","v":0},{"$f":"'5. Offre de transport'!JJ22","v":0},{"$f":"'5. Offre de transport'!JK22","v":0},{"$f":"'5. Offre de transport'!JL22","v":0},{"$f":"'5. Offre de transport'!JM22","v":0},{"$f":"'5. Offre de transport'!JN22","v":0},{"$f":"'5. Offre de transport'!JO22","v":0},{"$f":"'5. Offre de transport'!JP22","v":0},{"$f":"'5. Offre de transport'!JQ22","v":0},{"$f":"'5. Offre de transport'!JR22","v":0},{"$f":"'5. Offre de transport'!JS22","v":0},{"$f":"'5. Offre de transport'!JT22","v":0},{"$f":"'5. Offre de transport'!JU22","v":0},{"$f":"'5. Offre de transport'!JV22","v":0},{"$f":"'5. Offre de transport'!JW22","v":0},{"$f":"'5. Offre de transport'!JX22","v":0},{"$f":"'5. Offre de transport'!JY22","v":0},{"$f":"'5. Offre de transport'!JZ22","v":0},{"$f":"'5. Offre de transport'!KA22","v":0},{"$f":"'5. Offre de transport'!KB22","v":0},{"$f":"'5. Offre de transport'!KC22","v":0},{"$f":"'5. Offre de transport'!KD22","v":0},{"$f":"'5. Offre de transport'!KE22","v":0},{"$f":"'5. Offre de transport'!KF22","v":0},{"$f":"'5. Offre de transport'!KG22","v":0},{"$f":"'5. Offre de transport'!KH22","v":0},{"$f":"'5. Offre de transport'!KI22","v":0},{"$f":"'5. Offre de transport'!KJ22","v":0},{"$f":"'5. Offre de transport'!KK22","v":0},{"$f":"'5. Offre de transport'!KL22","v":0},{"$f":"'5. Offre de transport'!KM22","v":0},{"$f":"'5. Offre de transport'!KN22","v":0},{"$f":"'5. Offre de transport'!KO22","v":0},{"$f":"'5. Offre de transport'!KP22","v":0},{"$f":"'5. Offre de transport'!KQ22","v":0},{"$f":"'5. Offre de transport'!KR22","v":0},{"$f":"'5. Offre de transport'!KS22","v":0},{"$f":"'5. Offre de transport'!KT22","v":0},{"$f":"'5. Offre de transport'!KU22","v":0},{"$f":"'5. Offre de transport'!KV22","v":0},{"$f":"'5. Offre de transport'!KW22","v":0},{"$f":"'5. Offre de transport'!KX22","v":0},{"$f":"'5. Offre de transport'!KY22","v":0},{"$f":"'5. Offre de transport'!KZ22","v":0},{"$f":"'5. Offre de transport'!LA22","v":0},{"$f":"'5. Offre de transport'!LB22","v":0},{"$f":"'5. Offre de transport'!LC22","v":0},{"$f":"'5. Offre de transport'!LD22","v":0},{"$f":"'5. Offre de transport'!LE22","v":0},{"$f":"'5. Offre de transport'!LF22","v":0},{"$f":"'5. Offre de transport'!LG22","v":0},{"$f":"'5. Offre de transport'!LH22","v":0},{"$f":"'5. Offre de transport'!LI22","v":0},{"$f":"'5. Offre de transport'!LJ22","v":0},{"$f":"'5. Offre de transport'!LK22","v":0},{"$f":"'5. Offre de transport'!LL22","v":0},{"$f":"'5. Offre de transport'!LM22","v":0},{"$f":"'5. Offre de transport'!LN22","v":0},{"$f":"'5. Offre de transport'!LO22","v":0},{"$f":"'5. Offre de transport'!LP22","v":0},{"$f":"'5. Offre de transport'!LQ22","v":0},{"$f":"'5. Offre de transport'!LR22","v":0},{"$f":"'5. Offre de transport'!LS22","v":0},{"$f":"'5. Offre de transport'!LT22","v":0},{"$f":"'5. Offre de transport'!LU22","v":0},{"$f":"'5. Offre de transport'!LV22","v":0},{"$f":"'5. Offre de transport'!LW22","v":0},{"$f":"'5. Offre de transport'!LX22","v":0},{"$f":"'5. Offre de transport'!LY22","v":0},{"$f":"'5. Offre de transport'!LZ22","v":0},{"$f":"'5. Offre de transport'!MA22","v":0},{"$f":"'5. Offre de transport'!MB22","v":0},{"$f":"'5. Offre de transport'!MC22","v":0},{"$f":"'5. Offre de transport'!MD22","v":0},{"$f":"'5. Offre de transport'!ME22","v":0},{"$f":"'5. Offre de transport'!MF22","v":0},{"$f":"'5. Offre de transport'!MG22","v":0},{"$f":"'5. Offre de transport'!MH22","v":0},{"$f":"'5. Offre de transport'!MI22","v":0},{"$f":"'5. Offre de transport'!MJ22","v":0},{"$f":"'5. Offre de transport'!MK22","v":0},{"$f":"'5. Offre de transport'!ML22","v":0},{"$f":"'5. Offre de transport'!MM22","v":0},{"$f":"'5. Offre de transport'!MN22","v":0},{"$f":"'5. Offre de transport'!MO22","v":0},{"$f":"'5. Offre de transport'!MP22","v":0},{"$f":"'5. Offre de transport'!MQ22","v":0},{"$f":"'5. Offre de transport'!MR22","v":0},{"$f":"'5. Offre de transport'!MS22","v":0},{"$f":"'5. Offre de transport'!MT22","v":0},{"$f":"'5. Offre de transport'!MU22","v":0},{"$f":"'5. Offre de transport'!MV22","v":0},{"$f":"'5. Offre de transport'!MW22","v":0},{"$f":"'5. Offre de transport'!MX22","v":0},{"$f":"'5. Offre de transport'!MY22","v":0},{"$f":"'5. Offre de transport'!MZ22","v":0}]
[null,{"$f":"'5. Offre de transport'!B23","v":5},{"$f":"'5. Offre de transport'!C23","v":"Ville/Arrêt  5"},{"$f":"'5. Offre de transport'!D23","v":0},{"$f":"'5. Offre de transport'!E23","v":0},{"$f":"'5. Offre de transport'!F23","v":0},{"$f":"'5. Offre de transport'!G23","v":0},{"$f":"'5. Offre de transport'!H23","v":0},{"$f":"'5. Offre de transport'!I23","v":0},{"$f":"'5. Offre de transport'!J23","v":0},{"$f":"'5. Offre de transport'!K23","v":0},{"$f":"'5. Offre de transport'!L23","v":0},{"$f":"'5. Offre de transport'!M23","v":0},{"$f":"'5. Offre de transport'!N23","v":0},{"$f":"'5. Offre de transport'!O23","v":0},{"$f":"'5. Offre de transport'!P23","v":0},{"$f":"'5. Offre de transport'!Q23","v":0},{"$f":"'5. Offre de transport'!R23","v":0},{"$f":"'5. Offre de transport'!S23","v":0},{"$f":"'5. Offre de transport'!T23","v":0},{"$f":"'5. Offre de transport'!U23","v":0},{"$f":"'5. Offre de transport'!V23","v":0},{"$f":"'5. Offre de transport'!W23","v":0},{"$f":"'5. Offre de transport'!X23","v":0},{"$f":"'5. Offre de transport'!Y23","v":0},{"$f":"'5. Offre de transport'!Z23","v":0},{"$f":"'5. Offre de transport'!AA23","v":0},{"$f":"'5. Offre de transport'!AB23","v":0},{"$f":"'5. Offre de transport'!AC23","v":0},{"$f":"'5. Offre de transport'!AD23","v":0},{"$f":"'5. Offre de transport'!AE23","v":0},{"$f":"'5. Offre de transport'!AF23","v":0},{"$f":"'5. Offre de transport'!AG23","v":0},{"$f":"'5. Offre de transport'!AH23","v":0},{"$f":"'5. Offre de transport'!AI23","v":0},{"$f":"'5. Offre de transport'!AJ23","v":0},{"$f":"'5. Offre de transport'!AK23","v":0},{"$f":"'5. Offre de transport'!AL23","v":0},{"$f":"'5. Offre de transport'!AM23","v":0},{"$f":"'5. Offre de transport'!AN23","v":0},{"$f":"'5. Offre de transport'!AO23","v":0},{"$f":"'5. Offre de transport'!AP23","v":0},{"$f":"'5. Offre de transport'!AQ23","v":0},{"$f":"'5. Offre de transport'!AR23","v":0},{"$f":"'5. Offre de transport'!AS23","v":0},{"$f":"'5. Offre de transport'!AT23","v":0},{"$f":"'5. Offre de transport'!AU23","v":0},{"$f":"'5. Offre de transport'!AV23","v":0},{"$f":"'5. Offre de transport'!AW23","v":0},{"$f":"'5. Offre de transport'!AX23","v":0},{"$f":"'5. Offre de transport'!AY23","v":0},{"$f":"'5. Offre de transport'!AZ23","v":0},{"$f":"'5. Offre de transport'!BA23","v":0},{"$f":"'5. Offre de transport'!BB23","v":0},{"$f":"'5. Offre de transport'!BC23","v":0},{"$f":"'5. Offre de transport'!BD23","v":0},{"$f":"'5. Offre de transport'!BE23","v":0},{"$f":"'5. Offre de transport'!BF23","v":0},{"$f":"'5. Offre de transport'!BG23","v":0},{"$f":"'5. Offre de transport'!BH23","v":0},{"$f":"'5. Offre de transport'!BI23","v":0},{"$f":"'5. Offre de transport'!BJ23","v":0},{"$f":"'5. Offre de transport'!BK23","v":0},{"$f":"'5. Offre de transport'!BL23","v":0},{"$f":"'5. Offre de transport'!BM23","v":0},{"$f":"'5. Offre de transport'!BN23","v":0},{"$f":"'5. Offre de transport'!BO23","v":0},{"$f":"'5. Offre de transport'!BP23","v":0},{"$f":"'5. Offre de transport'!BQ23","v":0},{"$f":"'5. Offre de transport'!BR23","v":0},{"$f":"'5. Offre de transport'!BS23","v":0},{"$f":"'5. Offre de transport'!BT23","v":0},{"$f":"'5. Offre de transport'!BU23","v":0},{"$f":"'5. Offre de transport'!BV23","v":0},{"$f":"'5. Offre de transport'!BW23","v":0},{"$f":"'5. Offre de transport'!BX23","v":0},{"$f":"'5. Offre de transport'!BY23","v":0},{"$f":"'5. Offre de transport'!BZ23","v":0},{"$f":"'5. Offre de transport'!CA23","v":0},{"$f":"'5. Offre de transport'!CB23","v":0},{"$f":"'5. Offre de transport'!CC23","v":0},{"$f":"'5. Offre de transport'!CD23","v":0},{"$f":"'5. Offre de transport'!CE23","v":0},{"$f":"'5. Offre de transport'!CF23","v":0},{"$f":"'5. Offre de transport'!CG23","v":0},{"$f":"'5. Offre de transport'!CH23","v":0},{"$f":"'5. Offre de transport'!CI23","v":0},{"$f":"'5. Offre de transport'!CJ23","v":0},{"$f":"'5. Offre de transport'!CK23","v":0},{"$f":"'5. Offre de transport'!CL23","v":0},{"$f":"'5. Offre de transport'!CM23","v":0},{"$f":"'5. Offre de transport'!CN23","v":0},{"$f":"'5. Offre de transport'!CO23","v":0},{"$f":"'5. Offre de transport'!CP23","v":0},{"$f":"'5. Offre de transport'!CQ23","v":0},{"$f":"'5. Offre de transport'!CR23","v":0},{"$f":"'5. Offre de transport'!CS23","v":0},{"$f":"'5. Offre de transport'!CT23","v":0},{"$f":"'5. Offre de transport'!CU23","v":0},{"$f":"'5. Offre de transport'!CV23","v":0},{"$f":"'5. Offre de transport'!CW23","v":0},{"$f":"'5. Offre de transport'!CX23","v":0},{"$f":"'5. Offre de transport'!CY23","v":0},{"$f":"'5. Offre de transport'!CZ23","v":0},{"$f":"'5. Offre de transport'!DA23","v":0},{"$f":"'5. Offre de transport'!DB23","v":0},{"$f":"'5. Offre de transport'!DC23","v":0},{"$f":"'5. Offre de transport'!DD23","v":0},{"$f":"'5. Offre de transport'!DE23","v":0},{"$f":"'5. Offre de transport'!DF23","v":0},{"$f":"'5. Offre de transport'!DG23","v":0},{"$f":"'5. Offre de transport'!DH23","v":0},{"$f":"'5. Offre de transport'!DI23","v":0},{"$f":"'5. Offre de transport'!DJ23","v":0},{"$f":"'5. Offre de transport'!DK23","v":0},{"$f":"'5. Offre de transport'!DL23","v":0},{"$f":"'5. Offre de transport'!DM23","v":0},{"$f":"'5. Offre de transport'!DN23","v":0},{"$f":"'5. Offre de transport'!DO23","v":0},{"$f":"'5. Offre de transport'!DP23","v":0},{"$f":"'5. Offre de transport'!DQ23","v":0},{"$f":"'5. Offre de transport'!DR23","v":0},{"$f":"'5. Offre de transport'!DS23","v":0},{"$f":"'5. Offre de transport'!DT23","v":0},{"$f":"'5. Offre de transport'!DU23","v":0},{"$f":"'5. Offre de transport'!DV23","v":0},{"$f":"'5. Offre de transport'!DW23","v":0},{"$f":"'5. Offre de transport'!DX23","v":0},{"$f":"'5. Offre de transport'!DY23","v":0},{"$f":"'5. Offre de transport'!DZ23","v":0},{"$f":"'5. Offre de transport'!EA23","v":0},{"$f":"'5. Offre de transport'!EB23","v":0},{"$f":"'5. Offre de transport'!EC23","v":0},{"$f":"'5. Offre de transport'!ED23","v":0},{"$f":"'5. Offre de transport'!EE23","v":0},{"$f":"'5. Offre de transport'!EF23","v":0},{"$f":"'5. Offre de transport'!EG23","v":0},{"$f":"'5. Offre de transport'!EH23","v":0},{"$f":"'5. Offre de transport'!EI23","v":0},{"$f":"'5. Offre de transport'!EJ23","v":0},{"$f":"'5. Offre de transport'!EK23","v":0},{"$f":"'5. Offre de transport'!EL23","v":0},{"$f":"'5. Offre de transport'!EM23","v":0},{"$f":"'5. Offre de transport'!EN23","v":0},{"$f":"'5. Offre de transport'!EO23","v":0},{"$f":"'5. Offre de transport'!EP23","v":0},{"$f":"'5. Offre de transport'!EQ23","v":0},{"$f":"'5. Offre de transport'!ER23","v":0},{"$f":"'5. Offre de transport'!ES23","v":0},{"$f":"'5. Offre de transport'!ET23","v":0},{"$f":"'5. Offre de transport'!EU23","v":0},{"$f":"'5. Offre de transport'!EV23","v":0},{"$f":"'5. Offre de transport'!EW23","v":0},{"$f":"'5. Offre de transport'!EX23","v":0},{"$f":"'5. Offre de transport'!EY23","v":0},{"$f":"'5. Offre de transport'!EZ23","v":0},{"$f":"'5. Offre de transport'!FA23","v":0},{"$f":"'5. Offre de transport'!FB23","v":0},{"$f":"'5. Offre de transport'!FC23","v":0},{"$f":"'5. Offre de transport'!FD23","v":0},{"$f":"'5. Offre de transport'!FE23","v":0},{"$f":"'5. Offre de transport'!FF23","v":0},{"$f":"'5. Offre de transport'!FG23","v":0},{"$f":"'5. Offre de transport'!FH23","v":0},{"$f":"'5. Offre de transport'!FI23","v":0},{"$f":"'5. Offre de transport'!FJ23","v":0},{"$f":"'5. Offre de transport'!FK23","v":0},{"$f":"'5. Offre de transport'!FL23","v":0},{"$f":"'5. Offre de transport'!FM23","v":0},{"$f":"'5. Offre de transport'!FN23","v":0},{"$f":"'5. Offre de transport'!FO23","v":0},{"$f":"'5. Offre de transport'!FP23","v":0},{"$f":"'5. Offre de transport'!FQ23","v":0},{"$f":"'5. Offre de transport'!FR23","v":0},{"$f":"'5. Offre de transport'!FS23","v":0},{"$f":"'5. Offre de transport'!FT23","v":0},{"$f":"'5. Offre de transport'!FU23","v":0},{"$f":"'5. Offre de transport'!FV23","v":0},{"$f":"'5. Offre de transport'!FW23","v":0},{"$f":"'5. Offre de transport'!FX23","v":0},{"$f":"'5. Offre de transport'!FY23","v":0},{"$f":"'5. Offre de transport'!FZ23","v":0},{"$f":"'5. Offre de transport'!GA23","v":0},{"$f":"'5. Offre de transport'!GB23","v":0},{"$f":"'5. Offre de transport'!GC23","v":0},{"$f":"'5. Offre de transport'!GD23","v":0},{"$f":"'5. Offre de transport'!GE23","v":0},{"$f":"'5. Offre de transport'!GF23","v":0},{"$f":"'5. Offre de transport'!GG23","v":0},{"$f":"'5. Offre de transport'!GH23","v":0},{"$f":"'5. Offre de transport'!GI23","v":0},{"$f":"'5. Offre de transport'!GJ23","v":0},{"$f":"'5. Offre de transport'!GK23","v":0},{"$f":"'5. Offre de transport'!GL23","v":0},{"$f":"'5. Offre de transport'!GM23","v":0},{"$f":"'5. Offre de transport'!GN23","v":0},{"$f":"'5. Offre de transport'!GO23","v":0},{"$f":"'5. Offre de transport'!GP23","v":0},{"$f":"'5. Offre de transport'!GQ23","v":0},{"$f":"'5. Offre de transport'!GR23","v":0},{"$f":"'5. Offre de transport'!GS23","v":0},{"$f":"'5. Offre de transport'!GT23","v":0},{"$f":"'5. Offre de transport'!GU23","v":0},{"$f":"'5. Offre de transport'!GV23","v":0},{"$f":"'5. Offre de transport'!GW23","v":0},{"$f":"'5. Offre de transport'!GX23","v":0},{"$f":"'5. Offre de transport'!GY23","v":0},{"$f":"'5. Offre de transport'!GZ23","v":0},{"$f":"'5. Offre de transport'!HA23","v":0},{"$f":"'5. Offre de transport'!HB23","v":0},{"$f":"'5. Offre de transport'!HC23","v":0},{"$f":"'5. Offre de transport'!HD23","v":0},{"$f":"'5. Offre de transport'!HE23","v":0},{"$f":"'5. Offre de transport'!HF23","v":0},{"$f":"'5. Offre de transport'!HG23","v":0},{"$f":"'5. Offre de transport'!HH23","v":0},{"$f":"'5. Offre de transport'!HI23","v":0},{"$f":"'5. Offre de transport'!HJ23","v":0},{"$f":"'5. Offre de transport'!HK23","v":0},{"$f":"'5. Offre de transport'!HL23","v":0},{"$f":"'5. Offre de transport'!HM23","v":0},{"$f":"'5. Offre de transport'!HN23","v":0},{"$f":"'5. Offre de transport'!HO23","v":0},{"$f":"'5. Offre de transport'!HP23","v":0},{"$f":"'5. Offre de transport'!HQ23","v":0},{"$f":"'5. Offre de transport'!HR23","v":0},{"$f":"'5. Offre de transport'!HS23","v":0},{"$f":"'5. Offre de transport'!HT23","v":0},{"$f":"'5. Offre de transport'!HU23","v":0},{"$f":"'5. Offre de transport'!HV23","v":0},{"$f":"'5. Offre de transport'!HW23","v":0},{"$f":"'5. Offre de transport'!HX23","v":0},{"$f":"'5. Offre de transport'!HY23","v":0},{"$f":"'5. Offre de transport'!HZ23","v":0},{"$f":"'5. Offre de transport'!IA23","v":0},{"$f":"'5. Offre de transport'!IB23","v":0},{"$f":"'5. Offre de transport'!IC23","v":0},{"$f":"'5. Offre de transport'!ID23","v":0},{"$f":"'5. Offre de transport'!IE23","v":0},{"$f":"'5. Offre de transport'!IF23","v":0},{"$f":"'5. Offre de transport'!IG23","v":0},{"$f":"'5. Offre de transport'!IH23","v":0},{"$f":"'5. Offre de transport'!II23","v":0},{"$f":"'5. Offre de transport'!IJ23","v":0},{"$f":"'5. Offre de transport'!IK23","v":0},{"$f":"'5. Offre de transport'!IL23","v":0},{"$f":"'5. Offre de transport'!IM23","v":0},{"$f":"'5. Offre de transport'!IN23","v":0},{"$f":"'5. Offre de transport'!IO23","v":0},{"$f":"'5. Offre de transport'!IP23","v":0},{"$f":"'5. Offre de transport'!IQ23","v":0},{"$f":"'5. Offre de transport'!IR23","v":0},{"$f":"'5. Offre de transport'!IS23","v":0},{"$f":"'5. Offre de transport'!IT23","v":0},{"$f":"'5. Offre de transport'!IU23","v":0},{"$f":"'5. Offre de transport'!IV23","v":0},{"$f":"'5. Offre de transport'!IW23","v":0},{"$f":"'5. Offre de transport'!IX23","v":0},{"$f":"'5. Offre de transport'!IY23","v":0},{"$f":"'5. Offre de transport'!IZ23","v":0},{"$f":"'5. Offre de transport'!JA23","v":0},{"$f":"'5. Offre de transport'!JB23","v":0},{"$f":"'5. Offre de transport'!JC23","v":0},{"$f":"'5. Offre de transport'!JD23","v":0},{"$f":"'5. Offre de transport'!JE23","v":0},{"$f":"'5. Offre de transport'!JF23","v":0},{"$f":"'5. Offre de transport'!JG23","v":0},{"$f":"'5. Offre de transport'!JH23","v":0},{"$f":"'5. Offre de transport'!JI23","v":0},{"$f":"'5. Offre de transport'!JJ23","v":0},{"$f":"'5. Offre de transport'!JK23","v":0},{"$f":"'5. Offre de transport'!JL23","v":0},{"$f":"'5. Offre de transport'!JM23","v":0},{"$f":"'5. Offre de transport'!JN23","v":0},{"$f":"'5. Offre de transport'!JO23","v":0},{"$f":"'5. Offre de transport'!JP23","v":0},{"$f":"'5. Offre de transport'!JQ23","v":0},{"$f":"'5. Offre de transport'!JR23","v":0},{"$f":"'5. Offre de transport'!JS23","v":0},{"$f":"'5. Offre de transport'!JT23","v":0},{"$f":"'5. Offre de transport'!JU23","v":0},{"$f":"'5. Offre de transport'!JV23","v":0},{"$f":"'5. Offre de transport'!JW23","v":0},{"$f":"'5. Offre de transport'!JX23","v":0},{"$f":"'5. Offre de transport'!JY23","v":0},{"$f":"'5. Offre de transport'!JZ23","v":0},{"$f":"'5. Offre de transport'!KA23","v":0},{"$f":"'5. Offre de transport'!KB23","v":0},{"$f":"'5. Offre de transport'!KC23","v":0},{"$f":"'5. Offre de transport'!KD23","v":0},{"$f":"'5. Offre de transport'!KE23","v":0},{"$f":"'5. Offre de transport'!KF23","v":0},{"$f":"'5. Offre de transport'!KG23","v":0},{"$f":"'5. Offre de transport'!KH23","v":0},{"$f":"'5. Offre de transport'!KI23","v":0},{"$f":"'5. Offre de transport'!KJ23","v":0},{"$f":"'5. Offre de transport'!KK23","v":0},{"$f":"'5. Offre de transport'!KL23","v":0},{"$f":"'5. Offre de transport'!KM23","v":0},{"$f":"'5. Offre de transport'!KN23","v":0},{"$f":"'5. Offre de transport'!KO23","v":0},{"$f":"'5. Offre de transport'!KP23","v":0},{"$f":"'5. Offre de transport'!KQ23","v":0},{"$f":"'5. Offre de transport'!KR23","v":0},{"$f":"'5. Offre de transport'!KS23","v":0},{"$f":"'5. Offre de transport'!KT23","v":0},{"$f":"'5. Offre de transport'!KU23","v":0},{"$f":"'5. Offre de transport'!KV23","v":0},{"$f":"'5. Offre de transport'!KW23","v":0},{"$f":"'5. Offre de transport'!KX23","v":0},{"$f":"'5. Offre de transport'!KY23","v":0},{"$f":"'5. Offre de transport'!KZ23","v":0},{"$f":"'5. Offre de transport'!LA23","v":0},{"$f":"'5. Offre de transport'!LB23","v":0},{"$f":"'5. Offre de transport'!LC23","v":0},{"$f":"'5. Offre de transport'!LD23","v":0},{"$f":"'5. Offre de transport'!LE23","v":0},{"$f":"'5. Offre de transport'!LF23","v":0},{"$f":"'5. Offre de transport'!LG23","v":0},{"$f":"'5. Offre de transport'!LH23","v":0},{"$f":"'5. Offre de transport'!LI23","v":0},{"$f":"'5. Offre de transport'!LJ23","v":0},{"$f":"'5. Offre de transport'!LK23","v":0},{"$f":"'5. Offre de transport'!LL23","v":0},{"$f":"'5. Offre de transport'!LM23","v":0},{"$f":"'5. Offre de transport'!LN23","v":0},{"$f":"'5. Offre de transport'!LO23","v":0},{"$f":"'5. Offre de transport'!LP23","v":0},{"$f":"'5. Offre de transport'!LQ23","v":0},{"$f":"'5. Offre de transport'!LR23","v":0},{"$f":"'5. Offre de transport'!LS23","v":0},{"$f":"'5. Offre de transport'!LT23","v":0},{"$f":"'5. Offre de transport'!LU23","v":0},{"$f":"'5. Offre de transport'!LV23","v":0},{"$f":"'5. Offre de transport'!LW23","v":0},{"$f":"'5. Offre de transport'!LX23","v":0},{"$f":"'5. Offre de transport'!LY23","v":0},{"$f":"'5. Offre de transport'!LZ23","v":0},{"$f":"'5. Offre de transport'!MA23","v":0},{"$f":"'5. Offre de transport'!MB23","v":0},{"$f":"'5. Offre de transport'!MC23","v":0},{"$f":"'5. Offre de transport'!MD23","v":0},{"$f":"'5. Offre de transport'!ME23","v":0},{"$f":"'5. Offre de transport'!MF23","v":0},{"$f":"'5. Offre de transport'!MG23","v":0},{"$f":"'5. Offre de transport'!MH23","v":0},{"$f":"'5. Offre de transport'!MI23","v":0},{"$f":"'5. Offre de transport'!MJ23","v":0},{"$f":"'5. Offre de transport'!MK23","v":0},{"$f":"'5. Offre de transport'!ML23","v":0},{"$f":"'5. Offre de transport'!MM23","v":0},{"$f":"'5. Offre de transport'!MN23","v":0},{"$f":"'5. Offre de transport'!MO23","v":0},{"$f":"'5. Offre de transport'!MP23","v":0},{"$f":"'5. Offre de transport'!MQ23","v":0},{"$f":"'5. Offre de transport'!MR23","v":0},{"$f":"'5. Offre de transport'!MS23","v":0},{"$f":"'5. Offre de transport'!MT23","v":0},{"$f":"'5. Offre de transport'!MU23","v":0},{"$f":"'5. Offre de transport'!MV23","v":0},{"$f":"'5. Offre de transport'!MW23","v":0},{"$f":"'5. Offre de transport'!MX23","v":0},{"$f":"'5. Offre de transport'!MY23","v":0},{"$f":"'5. Offre de transport'!MZ23","v":0}]
[null,{"$f":"'5. Offre de transport'!B24","v":6},{"$f":"'5. Offre de transport'!C24","v":"Ville/Arrêt  6"},{"$f":"'5. Offre de transport'!D24","v":0},{"$f":"'5. Offre de transport'!E24","v":0},{"$f":"'5. Offre de transport'!F24","v":0},{"$f":"'5. Offre de transport'!G24","v":0},{"$f":"'5. Offre de transport'!H24","v":0},{"$f":"'5. Offre de transport'!I24","v":0},{"$f":"'5. Offre de transport'!J24","v":0},{"$f":"'5. Offre de transport'!K24","v":0},{"$f":"'5. Offre de transport'!L24","v":0},{"$f":"'5. Offre de transport'!M24","v":0},{"$f":"'5. Offre de transport'!N24","v":0},{"$f":"'5. Offre de transport'!O24","v":0},{"$f":"'5. Offre de transport'!P24","v":0},{"$f":"'5. Offre de transport'!Q24","v":0},{"$f":"'5. Offre de transport'!R24","v":0},{"$f":"'5. Offre de transport'!S24","v":0},{"$f":"'5. Offre de transport'!T24","v":0},{"$f":"'5. Offre de transport'!U24","v":0},{"$f":"'5. Offre de transport'!V24","v":0},{"$f":"'5. Offre de transport'!W24","v":0},{"$f":"'5. Offre de transport'!X24","v":0},{"$f":"'5. Offre de transport'!Y24","v":0},{"$f":"'5. Offre de transport'!Z24","v":0},{"$f":"'5. Offre de transport'!AA24","v":0},{"$f":"'5. Offre de transport'!AB24","v":0},{"$f":"'5. Offre de transport'!AC24","v":0},{"$f":"'5. Offre de transport'!AD24","v":0},{"$f":"'5. Offre de transport'!AE24","v":0},{"$f":"'5. Offre de transport'!AF24","v":0},{"$f":"'5. Offre de transport'!AG24","v":0},{"$f":"'5. Offre de transport'!AH24","v":0},{"$f":"'5. Offre de transport'!AI24","v":0},{"$f":"'5. Offre de transport'!AJ24","v":0},{"$f":"'5. Offre de transport'!AK24","v":0},{"$f":"'5. Offre de transport'!AL24","v":0},{"$f":"'5. Offre de transport'!AM24","v":0},{"$f":"'5. Offre de transport'!AN24","v":0},{"$f":"'5. Offre de transport'!AO24","v":0},{"$f":"'5. Offre de transport'!AP24","v":0},{"$f":"'5. Offre de transport'!AQ24","v":0},{"$f":"'5. Offre de transport'!AR24","v":0},{"$f":"'5. Offre de transport'!AS24","v":0},{"$f":"'5. Offre de transport'!AT24","v":0},{"$f":"'5. Offre de transport'!AU24","v":0},{"$f":"'5. Offre de transport'!AV24","v":0},{"$f":"'5. Offre de transport'!AW24","v":0},{"$f":"'5. Offre de transport'!AX24","v":0},{"$f":"'5. Offre de transport'!AY24","v":0},{"$f":"'5. Offre de transport'!AZ24","v":0},{"$f":"'5. Offre de transport'!BA24","v":0},{"$f":"'5. Offre de transport'!BB24","v":0},{"$f":"'5. Offre de transport'!BC24","v":0},{"$f":"'5. Offre de transport'!BD24","v":0},{"$f":"'5. Offre de transport'!BE24","v":0},{"$f":"'5. Offre de transport'!BF24","v":0},{"$f":"'5. Offre de transport'!BG24","v":0},{"$f":"'5. Offre de transport'!BH24","v":0},{"$f":"'5. Offre de transport'!BI24","v":0},{"$f":"'5. Offre de transport'!BJ24","v":0},{"$f":"'5. Offre de transport'!BK24","v":0},{"$f":"'5. Offre de transport'!BL24","v":0},{"$f":"'5. Offre de transport'!BM24","v":0},{"$f":"'5. Offre de transport'!BN24","v":0},{"$f":"'5. Offre de transport'!BO24","v":0},{"$f":"'5. Offre de transport'!BP24","v":0},{"$f":"'5. Offre de transport'!BQ24","v":0},{"$f":"'5. Offre de transport'!BR24","v":0},{"$f":"'5. Offre de transport'!BS24","v":0},{"$f":"'5. Offre de transport'!BT24","v":0},{"$f":"'5. Offre de transport'!BU24","v":0},{"$f":"'5. Offre de transport'!BV24","v":0},{"$f":"'5. Offre de transport'!BW24","v":0},{"$f":"'5. Offre de transport'!BX24","v":0},{"$f":"'5. Offre de transport'!BY24","v":0},{"$f":"'5. Offre de transport'!BZ24","v":0},{"$f":"'5. Offre de transport'!CA24","v":0},{"$f":"'5. Offre de transport'!CB24","v":0},{"$f":"'5. Offre de transport'!CC24","v":0},{"$f":"'5. Offre de transport'!CD24","v":0},{"$f":"'5. Offre de transport'!CE24","v":0},{"$f":"'5. Offre de transport'!CF24","v":0},{"$f":"'5. Offre de transport'!CG24","v":0},{"$f":"'5. Offre de transport'!CH24","v":0},{"$f":"'5. Offre de transport'!CI24","v":0},{"$f":"'5. Offre de transport'!CJ24","v":0},{"$f":"'5. Offre de transport'!CK24","v":0},{"$f":"'5. Offre de transport'!CL24","v":0},{"$f":"'5. Offre de transport'!CM24","v":0},{"$f":"'5. Offre de transport'!CN24","v":0},{"$f":"'5. Offre de transport'!CO24","v":0},{"$f":"'5. Offre de transport'!CP24","v":0},{"$f":"'5. Offre de transport'!CQ24","v":0},{"$f":"'5. Offre de transport'!CR24","v":0},{"$f":"'5. Offre de transport'!CS24","v":0},{"$f":"'5. Offre de transport'!CT24","v":0},{"$f":"'5. Offre de transport'!CU24","v":0},{"$f":"'5. Offre de transport'!CV24","v":0},{"$f":"'5. Offre de transport'!CW24","v":0},{"$f":"'5. Offre de transport'!CX24","v":0},{"$f":"'5. Offre de transport'!CY24","v":0},{"$f":"'5. Offre de transport'!CZ24","v":0},{"$f":"'5. Offre de transport'!DA24","v":0},{"$f":"'5. Offre de transport'!DB24","v":0},{"$f":"'5. Offre de transport'!DC24","v":0},{"$f":"'5. Offre de transport'!DD24","v":0},{"$f":"'5. Offre de transport'!DE24","v":0},{"$f":"'5. Offre de transport'!DF24","v":0},{"$f":"'5. Offre de transport'!DG24","v":0},{"$f":"'5. Offre de transport'!DH24","v":0},{"$f":"'5. Offre de transport'!DI24","v":0},{"$f":"'5. Offre de transport'!DJ24","v":0},{"$f":"'5. Offre de transport'!DK24","v":0},{"$f":"'5. Offre de transport'!DL24","v":0},{"$f":"'5. Offre de transport'!DM24","v":0},{"$f":"'5. Offre de transport'!DN24","v":0},{"$f":"'5. Offre de transport'!DO24","v":0},{"$f":"'5. Offre de transport'!DP24","v":0},{"$f":"'5. Offre de transport'!DQ24","v":0},{"$f":"'5. Offre de transport'!DR24","v":0},{"$f":"'5. Offre de transport'!DS24","v":0},{"$f":"'5. Offre de transport'!DT24","v":0},{"$f":"'5. Offre de transport'!DU24","v":0},{"$f":"'5. Offre de transport'!DV24","v":0},{"$f":"'5. Offre de transport'!DW24","v":0},{"$f":"'5. Offre de transport'!DX24","v":0},{"$f":"'5. Offre de transport'!DY24","v":0},{"$f":"'5. Offre de transport'!DZ24","v":0},{"$f":"'5. Offre de transport'!EA24","v":0},{"$f":"'5. Offre de transport'!EB24","v":0},{"$f":"'5. Offre de transport'!EC24","v":0},{"$f":"'5. Offre de transport'!ED24","v":0},{"$f":"'5. Offre de transport'!EE24","v":0},{"$f":"'5. Offre de transport'!EF24","v":0},{"$f":"'5. Offre de transport'!EG24","v":0},{"$f":"'5. Offre de transport'!EH24","v":0},{"$f":"'5. Offre de transport'!EI24","v":0},{"$f":"'5. Offre de transport'!EJ24","v":0},{"$f":"'5. Offre de transport'!EK24","v":0},{"$f":"'5. Offre de transport'!EL24","v":0},{"$f":"'5. Offre de transport'!EM24","v":0},{"$f":"'5. Offre de transport'!EN24","v":0},{"$f":"'5. Offre de transport'!EO24","v":0},{"$f":"'5. Offre de transport'!EP24","v":0},{"$f":"'5. Offre de transport'!EQ24","v":0},{"$f":"'5. Offre de transport'!ER24","v":0},{"$f":"'5. Offre de transport'!ES24","v":0},{"$f":"'5. Offre de transport'!ET24","v":0},{"$f":"'5. Offre de transport'!EU24","v":0},{"$f":"'5. Offre de transport'!EV24","v":0},{"$f":"'5. Offre de transport'!EW24","v":0},{"$f":"'5. Offre de transport'!EX24","v":0},{"$f":"'5. Offre de transport'!EY24","v":0},{"$f":"'5. Offre de transport'!EZ24","v":0},{"$f":"'5. Offre de transport'!FA24","v":0},{"$f":"'5. Offre de transport'!FB24","v":0},{"$f":"'5. Offre de transport'!FC24","v":0},{"$f":"'5. Offre de transport'!FD24","v":0},{"$f":"'5. Offre de transport'!FE24","v":0},{"$f":"'5. Offre de transport'!FF24","v":0},{"$f":"'5. Offre de transport'!FG24","v":0},{"$f":"'5. Offre de transport'!FH24","v":0},{"$f":"'5. Offre de transport'!FI24","v":0},{"$f":"'5. Offre de transport'!FJ24","v":0},{"$f":"'5. Offre de transport'!FK24","v":0},{"$f":"'5. Offre de transport'!FL24","v":0},{"$f":"'5. Offre de transport'!FM24","v":0},{"$f":"'5. Offre de transport'!FN24","v":0},{"$f":"'5. Offre de transport'!FO24","v":0},{"$f":"'5. Offre de transport'!FP24","v":0},{"$f":"'5. Offre de transport'!FQ24","v":0},{"$f":"'5. Offre de transport'!FR24","v":0},{"$f":"'5. Offre de transport'!FS24","v":0},{"$f":"'5. Offre de transport'!FT24","v":0},{"$f":"'5. Offre de transport'!FU24","v":0},{"$f":"'5. Offre de transport'!FV24","v":0},{"$f":"'5. Offre de transport'!FW24","v":0},{"$f":"'5. Offre de transport'!FX24","v":0},{"$f":"'5. Offre de transport'!FY24","v":0},{"$f":"'5. Offre de transport'!FZ24","v":0},{"$f":"'5. Offre de transport'!GA24","v":0},{"$f":"'5. Offre de transport'!GB24","v":0},{"$f":"'5. Offre de transport'!GC24","v":0},{"$f":"'5. Offre de transport'!GD24","v":0},{"$f":"'5. Offre de transport'!GE24","v":0},{"$f":"'5. Offre de transport'!GF24","v":0},{"$f":"'5. Offre de transport'!GG24","v":0},{"$f":"'5. Offre de transport'!GH24","v":0},{"$f":"'5. Offre de transport'!GI24","v":0},{"$f":"'5. Offre de transport'!GJ24","v":0},{"$f":"'5. Offre de transport'!GK24","v":0},{"$f":"'5. Offre de transport'!GL24","v":0},{"$f":"'5. Offre de transport'!GM24","v":0},{"$f":"'5. Offre de transport'!GN24","v":0},{"$f":"'5. Offre de transport'!GO24","v":0},{"$f":"'5. Offre de transport'!GP24","v":0},{"$f":"'5. Offre de transport'!GQ24","v":0},{"$f":"'5. Offre de transport'!GR24","v":0},{"$f":"'5. Offre de transport'!GS24","v":0},{"$f":"'5. Offre de transport'!GT24","v":0},{"$f":"'5. Offre de transport'!GU24","v":0},{"$f":"'5. Offre de transport'!GV24","v":0},{"$f":"'5. Offre de transport'!GW24","v":0},{"$f":"'5. Offre de transport'!GX24","v":0},{"$f":"'5. Offre de transport'!GY24","v":0},{"$f":"'5. Offre de transport'!GZ24","v":0},{"$f":"'5. Offre de transport'!HA24","v":0},{"$f":"'5. Offre de transport'!HB24","v":0},{"$f":"'5. Offre de transport'!HC24","v":0},{"$f":"'5. Offre de transport'!HD24","v":0},{"$f":"'5. Offre de transport'!HE24","v":0},{"$f":"'5. Offre de transport'!HF24","v":0},{"$f":"'5. Offre de transport'!HG24","v":0},{"$f":"'5. Offre de transport'!HH24","v":0},{"$f":"'5. Offre de transport'!HI24","v":0},{"$f":"'5. Offre de transport'!HJ24","v":0},{"$f":"'5. Offre de transport'!HK24","v":0},{"$f":"'5. Offre de transport'!HL24","v":0},{"$f":"'5. Offre de transport'!HM24","v":0},{"$f":"'5. Offre de transport'!HN24","v":0},{"$f":"'5. Offre de transport'!HO24","v":0},{"$f":"'5. Offre de transport'!HP24","v":0},{"$f":"'5. Offre de transport'!HQ24","v":0},{"$f":"'5. Offre de transport'!HR24","v":0},{"$f":"'5. Offre de transport'!HS24","v":0},{"$f":"'5. Offre de transport'!HT24","v":0},{"$f":"'5. Offre de transport'!HU24","v":0},{"$f":"'5. Offre de transport'!HV24","v":0},{"$f":"'5. Offre de transport'!HW24","v":0},{"$f":"'5. Offre de transport'!HX24","v":0},{"$f":"'5. Offre de transport'!HY24","v":0},{"$f":"'5. Offre de transport'!HZ24","v":0},{"$f":"'5. Offre de transport'!IA24","v":0},{"$f":"'5. Offre de transport'!IB24","v":0},{"$f":"'5. Offre de transport'!IC24","v":0},{"$f":"'5. Offre de transport'!ID24","v":0},{"$f":"'5. Offre de transport'!IE24","v":0},{"$f":"'5. Offre de transport'!IF24","v":0},{"$f":"'5. Offre de transport'!IG24","v":0},{"$f":"'5. Offre de transport'!IH24","v":0},{"$f":"'5. Offre de transport'!II24","v":0},{"$f":"'5. Offre de transport'!IJ24","v":0},{"$f":"'5. Offre de transport'!IK24","v":0},{"$f":"'5. Offre de transport'!IL24","v":0},{"$f":"'5. Offre de transport'!IM24","v":0},{"$f":"'5. Offre de transport'!IN24","v":0},{"$f":"'5. Offre de transport'!IO24","v":0},{"$f":"'5. Offre de transport'!IP24","v":0},{"$f":"'5. Offre de transport'!IQ24","v":0},{"$f":"'5. Offre de transport'!IR24","v":0},{"$f":"'5. Offre de transport'!IS24","v":0},{"$f":"'5. Offre de transport'!IT24","v":0},{"$f":"'5. Offre de transport'!IU24","v":0},{"$f":"'5. Offre de transport'!IV24","v":0},{"$f":"'5. Offre de transport'!IW24","v":0},{"$f":"'5. Offre de transport'!IX24","v":0},{"$f":"'5. Offre de transport'!IY24","v":0},{"$f":"'5. Offre de transport'!IZ24","v":0},{"$f":"'5. Offre de transport'!JA24","v":0},{"$f":"'5. Offre de transport'!JB24","v":0},{"$f":"'5. Offre de transport'!JC24","v":0},{"$f":"'5. Offre de transport'!JD24","v":0},{"$f":"'5. Offre de transport'!JE24","v":0},{"$f":"'5. Offre de transport'!JF24","v":0},{"$f":"'5. Offre de transport'!JG24","v":0},{"$f":"'5. Offre de transport'!JH24","v":0},{"$f":"'5. Offre de transport'!JI24","v":0},{"$f":"'5. Offre de transport'!JJ24","v":0},{"$f":"'5. Offre de transport'!JK24","v":0},{"$f":"'5. Offre de transport'!JL24","v":0},{"$f":"'5. Offre de transport'!JM24","v":0},{"$f":"'5. Offre de transport'!JN24","v":0},{"$f":"'5. Offre de transport'!JO24","v":0},{"$f":"'5. Offre de transport'!JP24","v":0},{"$f":"'5. Offre de transport'!JQ24","v":0},{"$f":"'5. Offre de transport'!JR24","v":0},{"$f":"'5. Offre de transport'!JS24","v":0},{"$f":"'5. Offre de transport'!JT24","v":0},{"$f":"'5. Offre de transport'!JU24","v":0},{"$f":"'5. Offre de transport'!JV24","v":0},{"$f":"'5. Offre de transport'!JW24","v":0},{"$f":"'5. Offre de transport'!JX24","v":0},{"$f":"'5. Offre de transport'!JY24","v":0},{"$f":"'5. Offre de transport'!JZ24","v":0},{"$f":"'5. Offre de transport'!KA24","v":0},{"$f":"'5. Offre de transport'!KB24","v":0},{"$f":"'5. Offre de transport'!KC24","v":0},{"$f":"'5. Offre de transport'!KD24","v":0},{"$f":"'5. Offre de transport'!KE24","v":0},{"$f":"'5. Offre de transport'!KF24","v":0},{"$f":"'5. Offre de transport'!KG24","v":0},{"$f":"'5. Offre de transport'!KH24","v":0},{"$f":"'5. Offre de transport'!KI24","v":0},{"$f":"'5. Offre de transport'!KJ24","v":0},{"$f":"'5. Offre de transport'!KK24","v":0},{"$f":"'5. Offre de transport'!KL24","v":0},{"$f":"'5. Offre de transport'!KM24","v":0},{"$f":"'5. Offre de transport'!KN24","v":0},{"$f":"'5. Offre de transport'!KO24","v":0},{"$f":"'5. Offre de transport'!KP24","v":0},{"$f":"'5. Offre de transport'!KQ24","v":0},{"$f":"'5. Offre de transport'!KR24","v":0},{"$f":"'5. Offre de transport'!KS24","v":0},{"$f":"'5. Offre de transport'!KT24","v":0},{"$f":"'5. Offre de transport'!KU24","v":0},{"$f":"'5. Offre de transport'!KV24","v":0},{"$f":"'5. Offre de transport'!KW24","v":0},{"$f":"'5. Offre de transport'!KX24","v":0},{"$f":"'5. Offre de transport'!KY24","v":0},{"$f":"'5. Offre de transport'!KZ24","v":0},{"$f":"'5. Offre de transport'!LA24","v":0},{"$f":"'5. Offre de transport'!LB24","v":0},{"$f":"'5. Offre de transport'!LC24","v":0},{"$f":"'5. Offre de transport'!LD24","v":0},{"$f":"'5. Offre de transport'!LE24","v":0},{"$f":"'5. Offre de transport'!LF24","v":0},{"$f":"'5. Offre de transport'!LG24","v":0},{"$f":"'5. Offre de transport'!LH24","v":0},{"$f":"'5. Offre de transport'!LI24","v":0},{"$f":"'5. Offre de transport'!LJ24","v":0},{"$f":"'5. Offre de transport'!LK24","v":0},{"$f":"'5. Offre de transport'!LL24","v":0},{"$f":"'5. Offre de transport'!LM24","v":0},{"$f":"'5. Offre de transport'!LN24","v":0},{"$f":"'5. Offre de transport'!LO24","v":0},{"$f":"'5. Offre de transport'!LP24","v":0},{"$f":"'5. Offre de transport'!LQ24","v":0},{"$f":"'5. Offre de transport'!LR24","v":0},{"$f":"'5. Offre de transport'!LS24","v":0},{"$f":"'5. Offre de transport'!LT24","v":0},{"$f":"'5. Offre de transport'!LU24","v":0},{"$f":"'5. Offre de transport'!LV24","v":0},{"$f":"'5. Offre de transport'!LW24","v":0},{"$f":"'5. Offre de transport'!LX24","v":0},{"$f":"'5. Offre de transport'!LY24","v":0},{"$f":"'5. Offre de transport'!LZ24","v":0},{"$f":"'5. Offre de transport'!MA24","v":0},{"$f":"'5. Offre de transport'!MB24","v":0},{"$f":"'5. Offre de transport'!MC24","v":0},{"$f":"'5. Offre de transport'!MD24","v":0},{"$f":"'5. Offre de transport'!ME24","v":0},{"$f":"'5. Offre de transport'!MF24","v":0},{"$f":"'5. Offre de transport'!MG24","v":0},{"$f":"'5. Offre de transport'!MH24","v":0},{"$f":"'5. Offre de transport'!MI24","v":0},{"$f":"'5. Offre de transport'!MJ24","v":0},{"$f":"'5. Offre de transport'!MK24","v":0},{"$f":"'5. Offre de transport'!ML24","v":0},{"$f":"'5. Offre de transport'!MM24","v":0},{"$f":"'5. Offre de transport'!MN24","v":0},{"$f":"'5. Offre de transport'!MO24","v":0},{"$f":"'5. Offre de transport'!MP24","v":0},{"$f":"'5. Offre de transport'!MQ24","v":0},{"$f":"'5. Offre de transport'!MR24","v":0},{"$f":"'5. Offre de transport'!MS24","v":0},{"$f":"'5. Offre de transport'!MT24","v":0},{"$f":"'5. Offre de transport'!MU24","v":0},{"$f":"'5. Offre de transport'!MV24","v":0},{"$f":"'5. Offre de transport'!MW24","v":0},{"$f":"'5. Offre de transport'!MX24","v":0},{"$f":"'5. Offre de transport'!MY24","v":0},{"$f":"'5. Offre de transport'!MZ24","v":0}]
[null,{"$f":"'5. Offre de transport'!B25","v":7},{"$f":"'5. Offre de transport'!C25","v":0},{"$f":"'5. Offre de transport'!D25","v":0},{"$f":"'5. Offre de transport'!E25","v":0},{"$f":"'5. Offre de transport'!F25","v":0},{"$f":"'5. Offre de transport'!G25","v":0},{"$f":"'5. Offre de transport'!H25","v":0},{"$f":"'5. Offre de transport'!I25","v":0},{"$f":"'5. Offre de transport'!J25","v":0},{"$f":"'5. Offre de transport'!K25","v":0},{"$f":"'5. Offre de transport'!L25","v":0},{"$f":"'5. Offre de transport'!M25","v":0},{"$f":"'5. Offre de transport'!N25","v":0},{"$f":"'5. Offre de transport'!O25","v":0},{"$f":"'5. Offre de transport'!P25","v":0},{"$f":"'5. Offre de transport'!Q25","v":0},{"$f":"'5. Offre de transport'!R25","v":0},{"$f":"'5. Offre de transport'!S25","v":0},{"$f":"'5. Offre de transport'!T25","v":0},{"$f":"'5. Offre de transport'!U25","v":0},{"$f":"'5. Offre de transport'!V25","v":0},{"$f":"'5. Offre de transport'!W25","v":0},{"$f":"'5. Offre de transport'!X25","v":0},{"$f":"'5. Offre de transport'!Y25","v":0},{"$f":"'5. Offre de transport'!Z25","v":0},{"$f":"'5. Offre de transport'!AA25","v":0},{"$f":"'5. Offre de transport'!AB25","v":0},{"$f":"'5. Offre de transport'!AC25","v":0},{"$f":"'5. Offre de transport'!AD25","v":0},{"$f":"'5. Offre de transport'!AE25","v":0},{"$f":"'5. Offre de transport'!AF25","v":0},{"$f":"'5. Offre de transport'!AG25","v":0},{"$f":"'5. Offre de transport'!AH25","v":0},{"$f":"'5. Offre de transport'!AI25","v":0},{"$f":"'5. Offre de transport'!AJ25","v":0},{"$f":"'5. Offre de transport'!AK25","v":0},{"$f":"'5. Offre de transport'!AL25","v":0},{"$f":"'5. Offre de transport'!AM25","v":0},{"$f":"'5. Offre de transport'!AN25","v":0},{"$f":"'5. Offre de transport'!AO25","v":0},{"$f":"'5. Offre de transport'!AP25","v":0},{"$f":"'5. Offre de transport'!AQ25","v":0},{"$f":"'5. Offre de transport'!AR25","v":0},{"$f":"'5. Offre de transport'!AS25","v":0},{"$f":"'5. Offre de transport'!AT25","v":0},{"$f":"'5. Offre de transport'!AU25","v":0},{"$f":"'5. Offre de transport'!AV25","v":0},{"$f":"'5. Offre de transport'!AW25","v":0},{"$f":"'5. Offre de transport'!AX25","v":0},{"$f":"'5. Offre de transport'!AY25","v":0},{"$f":"'5. Offre de transport'!AZ25","v":0},{"$f":"'5. Offre de transport'!BA25","v":0},{"$f":"'5. Offre de transport'!BB25","v":0},{"$f":"'5. Offre de transport'!BC25","v":0},{"$f":"'5. Offre de transport'!BD25","v":0},{"$f":"'5. Offre de transport'!BE25","v":0},{"$f":"'5. Offre de transport'!BF25","v":0},{"$f":"'5. Offre de transport'!BG25","v":0},{"$f":"'5. Offre de transport'!BH25","v":0},{"$f":"'5. Offre de transport'!BI25","v":0},{"$f":"'5. Offre de transport'!BJ25","v":0},{"$f":"'5. Offre de transport'!BK25","v":0},{"$f":"'5. Offre de transport'!BL25","v":0},{"$f":"'5. Offre de transport'!BM25","v":0},{"$f":"'5. Offre de transport'!BN25","v":0},{"$f":"'5. Offre de transport'!BO25","v":0},{"$f":"'5. Offre de transport'!BP25","v":0},{"$f":"'5. Offre de transport'!BQ25","v":0},{"$f":"'5. Offre de transport'!BR25","v":0},{"$f":"'5. Offre de transport'!BS25","v":0},{"$f":"'5. Offre de transport'!BT25","v":0},{"$f":"'5. Offre de transport'!BU25","v":0},{"$f":"'5. Offre de transport'!BV25","v":0},{"$f":"'5. Offre de transport'!BW25","v":0},{"$f":"'5. Offre de transport'!BX25","v":0},{"$f":"'5. Offre de transport'!BY25","v":0},{"$f":"'5. Offre de transport'!BZ25","v":0},{"$f":"'5. Offre de transport'!CA25","v":0},{"$f":"'5. Offre de transport'!CB25","v":0},{"$f":"'5. Offre de transport'!CC25","v":0},{"$f":"'5. Offre de transport'!CD25","v":0},{"$f":"'5. Offre de transport'!CE25","v":0},{"$f":"'5. Offre de transport'!CF25","v":0},{"$f":"'5. Offre de transport'!CG25","v":0},{"$f":"'5. Offre de transport'!CH25","v":0},{"$f":"'5. Offre de transport'!CI25","v":0},{"$f":"'5. Offre de transport'!CJ25","v":0},{"$f":"'5. Offre de transport'!CK25","v":0},{"$f":"'5. Offre de transport'!CL25","v":0},{"$f":"'5. Offre de transport'!CM25","v":0},{"$f":"'5. Offre de transport'!CN25","v":0},{"$f":"'5. Offre de transport'!CO25","v":0},{"$f":"'5. Offre de transport'!CP25","v":0},{"$f":"'5. Offre de transport'!CQ25","v":0},{"$f":"'5. Offre de transport'!CR25","v":0},{"$f":"'5. Offre de transport'!CS25","v":0},{"$f":"'5. Offre de transport'!CT25","v":0},{"$f":"'5. Offre de transport'!CU25","v":0},{"$f":"'5. Offre de transport'!CV25","v":0},{"$f":"'5. Offre de transport'!CW25","v":0},{"$f":"'5. Offre de transport'!CX25","v":0},{"$f":"'5. Offre de transport'!CY25","v":0},{"$f":"'5. Offre de transport'!CZ25","v":0},{"$f":"'5. Offre de transport'!DA25","v":0},{"$f":"'5. Offre de transport'!DB25","v":0},{"$f":"'5. Offre de transport'!DC25","v":0},{"$f":"'5. Offre de transport'!DD25","v":0},{"$f":"'5. Offre de transport'!DE25","v":0},{"$f":"'5. Offre de transport'!DF25","v":0},{"$f":"'5. Offre de transport'!DG25","v":0},{"$f":"'5. Offre de transport'!DH25","v":0},{"$f":"'5. Offre de transport'!DI25","v":0},{"$f":"'5. Offre de transport'!DJ25","v":0},{"$f":"'5. Offre de transport'!DK25","v":0},{"$f":"'5. Offre de transport'!DL25","v":0},{"$f":"'5. Offre de transport'!DM25","v":0},{"$f":"'5. Offre de transport'!DN25","v":0},{"$f":"'5. Offre de transport'!DO25","v":0},{"$f":"'5. Offre de transport'!DP25","v":0},{"$f":"'5. Offre de transport'!DQ25","v":0},{"$f":"'5. Offre de transport'!DR25","v":0},{"$f":"'5. Offre de transport'!DS25","v":0},{"$f":"'5. Offre de transport'!DT25","v":0},{"$f":"'5. Offre de transport'!DU25","v":0},{"$f":"'5. Offre de transport'!DV25","v":0},{"$f":"'5. Offre de transport'!DW25","v":0},{"$f":"'5. Offre de transport'!DX25","v":0},{"$f":"'5. Offre de transport'!DY25","v":0},{"$f":"'5. Offre de transport'!DZ25","v":0},{"$f":"'5. Offre de transport'!EA25","v":0},{"$f":"'5. Offre de transport'!EB25","v":0},{"$f":"'5. Offre de transport'!EC25","v":0},{"$f":"'5. Offre de transport'!ED25","v":0},{"$f":"'5. Offre de transport'!EE25","v":0},{"$f":"'5. Offre de transport'!EF25","v":0},{"$f":"'5. Offre de transport'!EG25","v":0},{"$f":"'5. Offre de transport'!EH25","v":0},{"$f":"'5. Offre de transport'!EI25","v":0},{"$f":"'5. Offre de transport'!EJ25","v":0},{"$f":"'5. Offre de transport'!EK25","v":0},{"$f":"'5. Offre de transport'!EL25","v":0},{"$f":"'5. Offre de transport'!EM25","v":0},{"$f":"'5. Offre de transport'!EN25","v":0},{"$f":"'5. Offre de transport'!EO25","v":0},{"$f":"'5. Offre de transport'!EP25","v":0},{"$f":"'5. Offre de transport'!EQ25","v":0},{"$f":"'5. Offre de transport'!ER25","v":0},{"$f":"'5. Offre de transport'!ES25","v":0},{"$f":"'5. Offre de transport'!ET25","v":0},{"$f":"'5. Offre de transport'!EU25","v":0},{"$f":"'5. Offre de transport'!EV25","v":0},{"$f":"'5. Offre de transport'!EW25","v":0},{"$f":"'5. Offre de transport'!EX25","v":0},{"$f":"'5. Offre de transport'!EY25","v":0},{"$f":"'5. Offre de transport'!EZ25","v":0},{"$f":"'5. Offre de transport'!FA25","v":0},{"$f":"'5. Offre de transport'!FB25","v":0},{"$f":"'5. Offre de transport'!FC25","v":0},{"$f":"'5. Offre de transport'!FD25","v":0},{"$f":"'5. Offre de transport'!FE25","v":0},{"$f":"'5. Offre de transport'!FF25","v":0},{"$f":"'5. Offre de transport'!FG25","v":0},{"$f":"'5. Offre de transport'!FH25","v":0},{"$f":"'5. Offre de transport'!FI25","v":0},{"$f":"'5. Offre de transport'!FJ25","v":0},{"$f":"'5. Offre de transport'!FK25","v":0},{"$f":"'5. Offre de transport'!FL25","v":0},{"$f":"'5. Offre de transport'!FM25","v":0},{"$f":"'5. Offre de transport'!FN25","v":0},{"$f":"'5. Offre de transport'!FO25","v":0},{"$f":"'5. Offre de transport'!FP25","v":0},{"$f":"'5. Offre de transport'!FQ25","v":0},{"$f":"'5. Offre de transport'!FR25","v":0},{"$f":"'5. Offre de transport'!FS25","v":0},{"$f":"'5. Offre de transport'!FT25","v":0},{"$f":"'5. Offre de transport'!FU25","v":0},{"$f":"'5. Offre de transport'!FV25","v":0},{"$f":"'5. Offre de transport'!FW25","v":0},{"$f":"'5. Offre de transport'!FX25","v":0},{"$f":"'5. Offre de transport'!FY25","v":0},{"$f":"'5. Offre de transport'!FZ25","v":0},{"$f":"'5. Offre de transport'!GA25","v":0},{"$f":"'5. Offre de transport'!GB25","v":0},{"$f":"'5. Offre de transport'!GC25","v":0},{"$f":"'5. Offre de transport'!GD25","v":0},{"$f":"'5. Offre de transport'!GE25","v":0},{"$f":"'5. Offre de transport'!GF25","v":0},{"$f":"'5. Offre de transport'!GG25","v":0},{"$f":"'5. Offre de transport'!GH25","v":0},{"$f":"'5. Offre de transport'!GI25","v":0},{"$f":"'5. Offre de transport'!GJ25","v":0},{"$f":"'5. Offre de transport'!GK25","v":0},{"$f":"'5. Offre de transport'!GL25","v":0},{"$f":"'5. Offre de transport'!GM25","v":0},{"$f":"'5. Offre de transport'!GN25","v":0},{"$f":"'5. Offre de transport'!GO25","v":0},{"$f":"'5. Offre de transport'!GP25","v":0},{"$f":"'5. Offre de transport'!GQ25","v":0},{"$f":"'5. Offre de transport'!GR25","v":0},{"$f":"'5. Offre de transport'!GS25","v":0},{"$f":"'5. Offre de transport'!GT25","v":0},{"$f":"'5. Offre de transport'!GU25","v":0},{"$f":"'5. Offre de transport'!GV25","v":0},{"$f":"'5. Offre de transport'!GW25","v":0},{"$f":"'5. Offre de transport'!GX25","v":0},{"$f":"'5. Offre de transport'!GY25","v":0},{"$f":"'5. Offre de transport'!GZ25","v":0},{"$f":"'5. Offre de transport'!HA25","v":0},{"$f":"'5. Offre de transport'!HB25","v":0},{"$f":"'5. Offre de transport'!HC25","v":0},{"$f":"'5. Offre de transport'!HD25","v":0},{"$f":"'5. Offre de transport'!HE25","v":0},{"$f":"'5. Offre de transport'!HF25","v":0},{"$f":"'5. Offre de transport'!HG25","v":0},{"$f":"'5. Offre de transport'!HH25","v":0},{"$f":"'5. Offre de transport'!HI25","v":0},{"$f":"'5. Offre de transport'!HJ25","v":0},{"$f":"'5. Offre de transport'!HK25","v":0},{"$f":"'5. Offre de transport'!HL25","v":0},{"$f":"'5. Offre de transport'!HM25","v":0},{"$f":"'5. Offre de transport'!HN25","v":0},{"$f":"'5. Offre de transport'!HO25","v":0},{"$f":"'5. Offre de transport'!HP25","v":0},{"$f":"'5. Offre de transport'!HQ25","v":0},{"$f":"'5. Offre de transport'!HR25","v":0},{"$f":"'5. Offre de transport'!HS25","v":0},{"$f":"'5. Offre de transport'!HT25","v":0},{"$f":"'5. Offre de transport'!HU25","v":0},{"$f":"'5. Offre de transport'!HV25","v":0},{"$f":"'5. Offre de transport'!HW25","v":0},{"$f":"'5. Offre de transport'!HX25","v":0},{"$f":"'5. Offre de transport'!HY25","v":0},{"$f":"'5. Offre de transport'!HZ25","v":0},{"$f":"'5. Offre de transport'!IA25","v":0},{"$f":"'5. Offre de transport'!IB25","v":0},{"$f":"'5. Offre de transport'!IC25","v":0},{"$f":"'5. Offre de transport'!ID25","v":0},{"$f":"'5. Offre de transport'!IE25","v":0},{"$f":"'5. Offre de transport'!IF25","v":0},{"$f":"'5. Offre de transport'!IG25","v":0},{"$f":"'5. Offre de transport'!IH25","v":0},{"$f":"'5. Offre de transport'!II25","v":0},{"$f":"'5. Offre de transport'!IJ25","v":0},{"$f":"'5. Offre de transport'!IK25","v":0},{"$f":"'5. Offre de transport'!IL25","v":0},{"$f":"'5. Offre de transport'!IM25","v":0},{"$f":"'5. Offre de transport'!IN25","v":0},{"$f":"'5. Offre de transport'!IO25","v":0},{"$f":"'5. Offre de transport'!IP25","v":0},{"$f":"'5. Offre de transport'!IQ25","v":0},{"$f":"'5. Offre de transport'!IR25","v":0},{"$f":"'5. Offre de transport'!IS25","v":0},{"$f":"'5. Offre de transport'!IT25","v":0},{"$f":"'5. Offre de transport'!IU25","v":0},{"$f":"'5. Offre de transport'!IV25","v":0},{"$f":"'5. Offre de transport'!IW25","v":0},{"$f":"'5. Offre de transport'!IX25","v":0},{"$f":"'5. Offre de transport'!IY25","v":0},{"$f":"'5. Offre de transport'!IZ25","v":0},{"$f":"'5. Offre de transport'!JA25","v":0},{"$f":"'5. Offre de transport'!JB25","v":0},{"$f":"'5. Offre de transport'!JC25","v":0},{"$f":"'5. Offre de transport'!JD25","v":0},{"$f":"'5. Offre de transport'!JE25","v":0},{"$f":"'5. Offre de transport'!JF25","v":0},{"$f":"'5. Offre de transport'!JG25","v":0},{"$f":"'5. Offre de transport'!JH25","v":0},{"$f":"'5. Offre de transport'!JI25","v":0},{"$f":"'5. Offre de transport'!JJ25","v":0},{"$f":"'5. Offre de transport'!JK25","v":0},{"$f":"'5. Offre de transport'!JL25","v":0},{"$f":"'5. Offre de transport'!JM25","v":0},{"$f":"'5. Offre de transport'!JN25","v":0},{"$f":"'5. Offre de transport'!JO25","v":0},{"$f":"'5. Offre de transport'!JP25","v":0},{"$f":"'5. Offre de transport'!JQ25","v":0},{"$f":"'5. Offre de transport'!JR25","v":0},{"$f":"'5. Offre de transport'!JS25","v":0},{"$f":"'5. Offre de transport'!JT25","v":0},{"$f":"'5. Offre de transport'!JU25","v":0},{"$f":"'5. Offre de transport'!JV25","v":0},{"$f":"'5. Offre de transport'!JW25","v":0},{"$f":"'5. Offre de transport'!JX25","v":0},{"$f":"'5. Offre de transport'!JY25","v":0},{"$f":"'5. Offre de transport'!JZ25","v":0},{"$f":"'5. Offre de transport'!KA25","v":0},{"$f":"'5. Offre de transport'!KB25","v":0},{"$f":"'5. Offre de transport'!KC25","v":0},{"$f":"'5. Offre de transport'!KD25","v":0},{"$f":"'5. Offre de transport'!KE25","v":0},{"$f":"'5. Offre de transport'!KF25","v":0},{"$f":"'5. Offre de transport'!KG25","v":0},{"$f":"'5. Offre de transport'!KH25","v":0},{"$f":"'5. Offre de transport'!KI25","v":0},{"$f":"'5. Offre de transport'!KJ25","v":0},{"$f":"'5. Offre de transport'!KK25","v":0},{"$f":"'5. Offre de transport'!KL25","v":0},{"$f":"'5. Offre de transport'!KM25","v":0},{"$f":"'5. Offre de transport'!KN25","v":0},{"$f":"'5. Offre de transport'!KO25","v":0},{"$f":"'5. Offre de transport'!KP25","v":0},{"$f":"'5. Offre de transport'!KQ25","v":0},{"$f":"'5. Offre de transport'!KR25","v":0},{"$f":"'5. Offre de transport'!KS25","v":0},{"$f":"'5. Offre de transport'!KT25","v":0},{"$f":"'5. Offre de transport'!KU25","v":0},{"$f":"'5. Offre de transport'!KV25","v":0},{"$f":"'5. Offre de transport'!KW25","v":0},{"$f":"'5. Offre de transport'!KX25","v":0},{"$f":"'5. Offre de transport'!KY25","v":0},{"$f":"'5. Offre de transport'!KZ25","v":0},{"$f":"'5. Offre de transport'!LA25","v":0},{"$f":"'5. Offre de transport'!LB25","v":0},{"$f":"'5. Offre de transport'!LC25","v":0},{"$f":"'5. Offre de transport'!LD25","v":0},{"$f":"'5. Offre de transport'!LE25","v":0},{"$f":"'5. Offre de transport'!LF25","v":0},{"$f":"'5. Offre de transport'!LG25","v":0},{"$f":"'5. Offre de transport'!LH25","v":0},{"$f":"'5. Offre de transport'!LI25","v":0},{"$f":"'5. Offre de transport'!LJ25","v":0},{"$f":"'5. Offre de transport'!LK25","v":0},{"$f":"'5. Offre de transport'!LL25","v":0},{"$f":"'5. Offre de transport'!LM25","v":0},{"$f":"'5. Offre de transport'!LN25","v":0},{"$f":"'5. Offre de transport'!LO25","v":0},{"$f":"'5. Offre de transport'!LP25","v":0},{"$f":"'5. Offre de transport'!LQ25","v":0},{"$f":"'5. Offre de transport'!LR25","v":0},{"$f":"'5. Offre de transport'!LS25","v":0},{"$f":"'5. Offre de transport'!LT25","v":0},{"$f":"'5. Offre de transport'!LU25","v":0},{"$f":"'5. Offre de transport'!LV25","v":0},{"$f":"'5. Offre de transport'!LW25","v":0},{"$f":"'5. Offre de transport'!LX25","v":0},{"$f":"'5. Offre de transport'!LY25","v":0},{"$f":"'5. Offre de transport'!LZ25","v":0},{"$f":"'5. Offre de transport'!MA25","v":0},{"$f":"'5. Offre de transport'!MB25","v":0},{"$f":"'5. Offre de transport'!MC25","v":0},{"$f":"'5. Offre de transport'!MD25","v":0},{"$f":"'5. Offre de transport'!ME25","v":0},{"$f":"'5. Offre de transport'!MF25","v":0},{"$f":"'5. Offre de transport'!MG25","v":0},{"$f":"'5. Offre de transport'!MH25","v":0},{"$f":"'5. Offre de transport'!MI25","v":0},{"$f":"'5. Offre de transport'!MJ25","v":0},{"$f":"'5. Offre de transport'!MK25","v":0},{"$f":"'5. Offre de transport'!ML25","v":0},{"$f":"'5. Offre de transport'!MM25","v":0},{"$f":"'5. Offre de transport'!MN25","v":0},{"$f":"'5. Offre de transport'!MO25","v":0},{"$f":"'5. Offre de transport'!MP25","v":0},{"$f":"'5. Offre de transport'!MQ25","v":0},{"$f":"'5. Offre de transport'!MR25","v":0},{"$f":"'5. Offre de transport'!MS25","v":0},{"$f":"'5. Offre de transport'!MT25","v":0},{"$f":"'5. Offre de transport'!MU25","v":0},{"$f":"'5. Offre de transport'!MV25","v":0},{"$f":"'5. Offre de transport'!MW25","v":0},{"$f":"'5. Offre de transport'!MX25","v":0},{"$f":"'5. Offre de transport'!MY25","v":0},{"$f":"'5. Offre de transport'!MZ25","v":0}]
[null,{"$f":"'5. Offre de transport'!B26","v":8},{"$f":"'5. Offre de transport'!C26","v":0},{"$f":"'5. Offre de transport'!D26","v":0},{"$f":"'5. Offre de transport'!E26","v":0},{"$f":"'5. Offre de transport'!F26","v":0},{"$f":"'5. Offre de transport'!G26","v":0},{"$f":"'5. Offre de transport'!H26","v":0},{"$f":"'5. Offre de transport'!I26","v":0},{"$f":"'5. Offre de transport'!J26","v":0},{"$f":"'5. Offre de transport'!K26","v":0},{"$f":"'5. Offre de transport'!L26","v":0},{"$f":"'5. Offre de transport'!M26","v":0},{"$f":"'5. Offre de transport'!N26","v":0},{"$f":"'5. Offre de transport'!O26","v":0},{"$f":"'5. Offre de transport'!P26","v":0},{"$f":"'5. Offre de transport'!Q26","v":0},{"$f":"'5. Offre de transport'!R26","v":0},{"$f":"'5. Offre de transport'!S26","v":0},{"$f":"'5. Offre de transport'!T26","v":0},{"$f":"'5. Offre de transport'!U26","v":0},{"$f":"'5. Offre de transport'!V26","v":0},{"$f":"'5. Offre de transport'!W26","v":0},{"$f":"'5. Offre de transport'!X26","v":0},{"$f":"'5. Offre de transport'!Y26","v":0},{"$f":"'5. Offre de transport'!Z26","v":0},{"$f":"'5. Offre de transport'!AA26","v":0},{"$f":"'5. Offre de transport'!AB26","v":0},{"$f":"'5. Offre de transport'!AC26","v":0},{"$f":"'5. Offre de transport'!AD26","v":0},{"$f":"'5. Offre de transport'!AE26","v":0},{"$f":"'5. Offre de transport'!AF26","v":0},{"$f":"'5. Offre de transport'!AG26","v":0},{"$f":"'5. Offre de transport'!AH26","v":0},{"$f":"'5. Offre de transport'!AI26","v":0},{"$f":"'5. Offre de transport'!AJ26","v":0},{"$f":"'5. Offre de transport'!AK26","v":0},{"$f":"'5. Offre de transport'!AL26","v":0},{"$f":"'5. Offre de transport'!AM26","v":0},{"$f":"'5. Offre de transport'!AN26","v":0},{"$f":"'5. Offre de transport'!AO26","v":0},{"$f":"'5. Offre de transport'!AP26","v":0},{"$f":"'5. Offre de transport'!AQ26","v":0},{"$f":"'5. Offre de transport'!AR26","v":0},{"$f":"'5. Offre de transport'!AS26","v":0},{"$f":"'5. Offre de transport'!AT26","v":0},{"$f":"'5. Offre de transport'!AU26","v":0},{"$f":"'5. Offre de transport'!AV26","v":0},{"$f":"'5. Offre de transport'!AW26","v":0},{"$f":"'5. Offre de transport'!AX26","v":0},{"$f":"'5. Offre de transport'!AY26","v":0},{"$f":"'5. Offre de transport'!AZ26","v":0},{"$f":"'5. Offre de transport'!BA26","v":0},{"$f":"'5. Offre de transport'!BB26","v":0},{"$f":"'5. Offre de transport'!BC26","v":0},{"$f":"'5. Offre de transport'!BD26","v":0},{"$f":"'5. Offre de transport'!BE26","v":0},{"$f":"'5. Offre de transport'!BF26","v":0},{"$f":"'5. Offre de transport'!BG26","v":0},{"$f":"'5. Offre de transport'!BH26","v":0},{"$f":"'5. Offre de transport'!BI26","v":0},{"$f":"'5. Offre de transport'!BJ26","v":0},{"$f":"'5. Offre de transport'!BK26","v":0},{"$f":"'5. Offre de transport'!BL26","v":0},{"$f":"'5. Offre de transport'!BM26","v":0},{"$f":"'5. Offre de transport'!BN26","v":0},{"$f":"'5. Offre de transport'!BO26","v":0},{"$f":"'5. Offre de transport'!BP26","v":0},{"$f":"'5. Offre de transport'!BQ26","v":0},{"$f":"'5. Offre de transport'!BR26","v":0},{"$f":"'5. Offre de transport'!BS26","v":0},{"$f":"'5. Offre de transport'!BT26","v":0},{"$f":"'5. Offre de transport'!BU26","v":0},{"$f":"'5. Offre de transport'!BV26","v":0},{"$f":"'5. Offre de transport'!BW26","v":0},{"$f":"'5. Offre de transport'!BX26","v":0},{"$f":"'5. Offre de transport'!BY26","v":0},{"$f":"'5. Offre de transport'!BZ26","v":0},{"$f":"'5. Offre de transport'!CA26","v":0},{"$f":"'5. Offre de transport'!CB26","v":0},{"$f":"'5. Offre de transport'!CC26","v":0},{"$f":"'5. Offre de transport'!CD26","v":0},{"$f":"'5. Offre de transport'!CE26","v":0},{"$f":"'5. Offre de transport'!CF26","v":0},{"$f":"'5. Offre de transport'!CG26","v":0},{"$f":"'5. Offre de transport'!CH26","v":0},{"$f":"'5. Offre de transport'!CI26","v":0},{"$f":"'5. Offre de transport'!CJ26","v":0},{"$f":"'5. Offre de transport'!CK26","v":0},{"$f":"'5. Offre de transport'!CL26","v":0},{"$f":"'5. Offre de transport'!CM26","v":0},{"$f":"'5. Offre de transport'!CN26","v":0},{"$f":"'5. Offre de transport'!CO26","v":0},{"$f":"'5. Offre de transport'!CP26","v":0},{"$f":"'5. Offre de transport'!CQ26","v":0},{"$f":"'5. Offre de transport'!CR26","v":0},{"$f":"'5. Offre de transport'!CS26","v":0},{"$f":"'5. Offre de transport'!CT26","v":0},{"$f":"'5. Offre de transport'!CU26","v":0},{"$f":"'5. Offre de transport'!CV26","v":0},{"$f":"'5. Offre de transport'!CW26","v":0},{"$f":"'5. Offre de transport'!CX26","v":0},{"$f":"'5. Offre de transport'!CY26","v":0},{"$f":"'5. Offre de transport'!CZ26","v":0},{"$f":"'5. Offre de transport'!DA26","v":0},{"$f":"'5. Offre de transport'!DB26","v":0},{"$f":"'5. Offre de transport'!DC26","v":0},{"$f":"'5. Offre de transport'!DD26","v":0},{"$f":"'5. Offre de transport'!DE26","v":0},{"$f":"'5. Offre de transport'!DF26","v":0},{"$f":"'5. Offre de transport'!DG26","v":0},{"$f":"'5. Offre de transport'!DH26","v":0},{"$f":"'5. Offre de transport'!DI26","v":0},{"$f":"'5. Offre de transport'!DJ26","v":0},{"$f":"'5. Offre de transport'!DK26","v":0},{"$f":"'5. Offre de transport'!DL26","v":0},{"$f":"'5. Offre de transport'!DM26","v":0},{"$f":"'5. Offre de transport'!DN26","v":0},{"$f":"'5. Offre de transport'!DO26","v":0},{"$f":"'5. Offre de transport'!DP26","v":0},{"$f":"'5. Offre de transport'!DQ26","v":0},{"$f":"'5. Offre de transport'!DR26","v":0},{"$f":"'5. Offre de transport'!DS26","v":0},{"$f":"'5. Offre de transport'!DT26","v":0},{"$f":"'5. Offre de transport'!DU26","v":0},{"$f":"'5. Offre de transport'!DV26","v":0},{"$f":"'5. Offre de transport'!DW26","v":0},{"$f":"'5. Offre de transport'!DX26","v":0},{"$f":"'5. Offre de transport'!DY26","v":0},{"$f":"'5. Offre de transport'!DZ26","v":0},{"$f":"'5. Offre de transport'!EA26","v":0},{"$f":"'5. Offre de transport'!EB26","v":0},{"$f":"'5. Offre de transport'!EC26","v":0},{"$f":"'5. Offre de transport'!ED26","v":0},{"$f":"'5. Offre de transport'!EE26","v":0},{"$f":"'5. Offre de transport'!EF26","v":0},{"$f":"'5. Offre de transport'!EG26","v":0},{"$f":"'5. Offre de transport'!EH26","v":0},{"$f":"'5. Offre de transport'!EI26","v":0},{"$f":"'5. Offre de transport'!EJ26","v":0},{"$f":"'5. Offre de transport'!EK26","v":0},{"$f":"'5. Offre de transport'!EL26","v":0},{"$f":"'5. Offre de transport'!EM26","v":0},{"$f":"'5. Offre de transport'!EN26","v":0},{"$f":"'5. Offre de transport'!EO26","v":0},{"$f":"'5. Offre de transport'!EP26","v":0},{"$f":"'5. Offre de transport'!EQ26","v":0},{"$f":"'5. Offre de transport'!ER26","v":0},{"$f":"'5. Offre de transport'!ES26","v":0},{"$f":"'5. Offre de transport'!ET26","v":0},{"$f":"'5. Offre de transport'!EU26","v":0},{"$f":"'5. Offre de transport'!EV26","v":0},{"$f":"'5. Offre de transport'!EW26","v":0},{"$f":"'5. Offre de transport'!EX26","v":0},{"$f":"'5. Offre de transport'!EY26","v":0},{"$f":"'5. Offre de transport'!EZ26","v":0},{"$f":"'5. Offre de transport'!FA26","v":0},{"$f":"'5. Offre de transport'!FB26","v":0},{"$f":"'5. Offre de transport'!FC26","v":0},{"$f":"'5. Offre de transport'!FD26","v":0},{"$f":"'5. Offre de transport'!FE26","v":0},{"$f":"'5. Offre de transport'!FF26","v":0},{"$f":"'5. Offre de transport'!FG26","v":0},{"$f":"'5. Offre de transport'!FH26","v":0},{"$f":"'5. Offre de transport'!FI26","v":0},{"$f":"'5. Offre de transport'!FJ26","v":0},{"$f":"'5. Offre de transport'!FK26","v":0},{"$f":"'5. Offre de transport'!FL26","v":0},{"$f":"'5. Offre de transport'!FM26","v":0},{"$f":"'5. Offre de transport'!FN26","v":0},{"$f":"'5. Offre de transport'!FO26","v":0},{"$f":"'5. Offre de transport'!FP26","v":0},{"$f":"'5. Offre de transport'!FQ26","v":0},{"$f":"'5. Offre de transport'!FR26","v":0},{"$f":"'5. Offre de transport'!FS26","v":0},{"$f":"'5. Offre de transport'!FT26","v":0},{"$f":"'5. Offre de transport'!FU26","v":0},{"$f":"'5. Offre de transport'!FV26","v":0},{"$f":"'5. Offre de transport'!FW26","v":0},{"$f":"'5. Offre de transport'!FX26","v":0},{"$f":"'5. Offre de transport'!FY26","v":0},{"$f":"'5. Offre de transport'!FZ26","v":0},{"$f":"'5. Offre de transport'!GA26","v":0},{"$f":"'5. Offre de transport'!GB26","v":0},{"$f":"'5. Offre de transport'!GC26","v":0},{"$f":"'5. Offre de transport'!GD26","v":0},{"$f":"'5. Offre de transport'!GE26","v":0},{"$f":"'5. Offre de transport'!GF26","v":0},{"$f":"'5. Offre de transport'!GG26","v":0},{"$f":"'5. Offre de transport'!GH26","v":0},{"$f":"'5. Offre de transport'!GI26","v":0},{"$f":"'5. Offre de transport'!GJ26","v":0},{"$f":"'5. Offre de transport'!GK26","v":0},{"$f":"'5. Offre de transport'!GL26","v":0},{"$f":"'5. Offre de transport'!GM26","v":0},{"$f":"'5. Offre de transport'!GN26","v":0},{"$f":"'5. Offre de transport'!GO26","v":0},{"$f":"'5. Offre de transport'!GP26","v":0},{"$f":"'5. Offre de transport'!GQ26","v":0},{"$f":"'5. Offre de transport'!GR26","v":0},{"$f":"'5. Offre de transport'!GS26","v":0},{"$f":"'5. Offre de transport'!GT26","v":0},{"$f":"'5. Offre de transport'!GU26","v":0},{"$f":"'5. Offre de transport'!GV26","v":0},{"$f":"'5. Offre de transport'!GW26","v":0},{"$f":"'5. Offre de transport'!GX26","v":0},{"$f":"'5. Offre de transport'!GY26","v":0},{"$f":"'5. Offre de transport'!GZ26","v":0},{"$f":"'5. Offre de transport'!HA26","v":0},{"$f":"'5. Offre de transport'!HB26","v":0},{"$f":"'5. Offre de transport'!HC26","v":0},{"$f":"'5. Offre de transport'!HD26","v":0},{"$f":"'5. Offre de transport'!HE26","v":0},{"$f":"'5. Offre de transport'!HF26","v":0},{"$f":"'5. Offre de transport'!HG26","v":0},{"$f":"'5. Offre de transport'!HH26","v":0},{"$f":"'5. Offre de transport'!HI26","v":0},{"$f":"'5. Offre de transport'!HJ26","v":0},{"$f":"'5. Offre de transport'!HK26","v":0},{"$f":"'5. Offre de transport'!HL26","v":0},{"$f":"'5. Offre de transport'!HM26","v":0},{"$f":"'5. Offre de transport'!HN26","v":0},{"$f":"'5. Offre de transport'!HO26","v":0},{"$f":"'5. Offre de transport'!HP26","v":0},{"$f":"'5. Offre de transport'!HQ26","v":0},{"$f":"'5. Offre de transport'!HR26","v":0},{"$f":"'5. Offre de transport'!HS26","v":0},{"$f":"'5. Offre de transport'!HT26","v":0},{"$f":"'5. Offre de transport'!HU26","v":0},{"$f":"'5. Offre de transport'!HV26","v":0},{"$f":"'5. Offre de transport'!HW26","v":0},{"$f":"'5. Offre de transport'!HX26","v":0},{"$f":"'5. Offre de transport'!HY26","v":0},{"$f":"'5. Offre de transport'!HZ26","v":0},{"$f":"'5. Offre de transport'!IA26","v":0},{"$f":"'5. Offre de transport'!IB26","v":0},{"$f":"'5. Offre de transport'!IC26","v":0},{"$f":"'5. Offre de transport'!ID26","v":0},{"$f":"'5. Offre de transport'!IE26","v":0},{"$f":"'5. Offre de transport'!IF26","v":0},{"$f":"'5. Offre de transport'!IG26","v":0},{"$f":"'5. Offre de transport'!IH26","v":0},{"$f":"'5. Offre de transport'!II26","v":0},{"$f":"'5. Offre de transport'!IJ26","v":0},{"$f":"'5. Offre de transport'!IK26","v":0},{"$f":"'5. Offre de transport'!IL26","v":0},{"$f":"'5. Offre de transport'!IM26","v":0},{"$f":"'5. Offre de transport'!IN26","v":0},{"$f":"'5. Offre de transport'!IO26","v":0},{"$f":"'5. Offre de transport'!IP26","v":0},{"$f":"'5. Offre de transport'!IQ26","v":0},{"$f":"'5. Offre de transport'!IR26","v":0},{"$f":"'5. Offre de transport'!IS26","v":0},{"$f":"'5. Offre de transport'!IT26","v":0},{"$f":"'5. Offre de transport'!IU26","v":0},{"$f":"'5. Offre de transport'!IV26","v":0},{"$f":"'5. Offre de transport'!IW26","v":0},{"$f":"'5. Offre de transport'!IX26","v":0},{"$f":"'5. Offre de transport'!IY26","v":0},{"$f":"'5. Offre de transport'!IZ26","v":0},{"$f":"'5. Offre de transport'!JA26","v":0},{"$f":"'5. Offre de transport'!JB26","v":0},{"$f":"'5. Offre de transport'!JC26","v":0},{"$f":"'5. Offre de transport'!JD26","v":0},{"$f":"'5. Offre de transport'!JE26","v":0},{"$f":"'5. Offre de transport'!JF26","v":0},{"$f":"'5. Offre de transport'!JG26","v":0},{"$f":"'5. Offre de transport'!JH26","v":0},{"$f":"'5. Offre de transport'!JI26","v":0},{"$f":"'5. Offre de transport'!JJ26","v":0},{"$f":"'5. Offre de transport'!JK26","v":0},{"$f":"'5. Offre de transport'!JL26","v":0},{"$f":"'5. Offre de transport'!JM26","v":0},{"$f":"'5. Offre de transport'!JN26","v":0},{"$f":"'5. Offre de transport'!JO26","v":0},{"$f":"'5. Offre de transport'!JP26","v":0},{"$f":"'5. Offre de transport'!JQ26","v":0},{"$f":"'5. Offre de transport'!JR26","v":0},{"$f":"'5. Offre de transport'!JS26","v":0},{"$f":"'5. Offre de transport'!JT26","v":0},{"$f":"'5. Offre de transport'!JU26","v":0},{"$f":"'5. Offre de transport'!JV26","v":0},{"$f":"'5. Offre de transport'!JW26","v":0},{"$f":"'5. Offre de transport'!JX26","v":0},{"$f":"'5. Offre de transport'!JY26","v":0},{"$f":"'5. Offre de transport'!JZ26","v":0},{"$f":"'5. Offre de transport'!KA26","v":0},{"$f":"'5. Offre de transport'!KB26","v":0},{"$f":"'5. Offre de transport'!KC26","v":0},{"$f":"'5. Offre de transport'!KD26","v":0},{"$f":"'5. Offre de transport'!KE26","v":0},{"$f":"'5. Offre de transport'!KF26","v":0},{"$f":"'5. Offre de transport'!KG26","v":0},{"$f":"'5. Offre de transport'!KH26","v":0},{"$f":"'5. Offre de transport'!KI26","v":0},{"$f":"'5. Offre de transport'!KJ26","v":0},{"$f":"'5. Offre de transport'!KK26","v":0},{"$f":"'5. Offre de transport'!KL26","v":0},{"$f":"'5. Offre de transport'!KM26","v":0},{"$f":"'5. Offre de transport'!KN26","v":0},{"$f":"'5. Offre de transport'!KO26","v":0},{"$f":"'5. Offre de transport'!KP26","v":0},{"$f":"'5. Offre de transport'!KQ26","v":0},{"$f":"'5. Offre de transport'!KR26","v":0},{"$f":"'5. Offre de transport'!KS26","v":0},{"$f":"'5. Offre de transport'!KT26","v":0},{"$f":"'5. Offre de transport'!KU26","v":0},{"$f":"'5. Offre de transport'!KV26","v":0},{"$f":"'5. Offre de transport'!KW26","v":0},{"$f":"'5. Offre de transport'!KX26","v":0},{"$f":"'5. Offre de transport'!KY26","v":0},{"$f":"'5. Offre de transport'!KZ26","v":0},{"$f":"'5. Offre de transport'!LA26","v":0},{"$f":"'5. Offre de transport'!LB26","v":0},{"$f":"'5. Offre de transport'!LC26","v":0},{"$f":"'5. Offre de transport'!LD26","v":0},{"$f":"'5. Offre de transport'!LE26","v":0},{"$f":"'5. Offre de transport'!LF26","v":0},{"$f":"'5. Offre de transport'!LG26","v":0},{"$f":"'5. Offre de transport'!LH26","v":0},{"$f":"'5. Offre de transport'!LI26","v":0},{"$f":"'5. Offre de transport'!LJ26","v":0},{"$f":"'5. Offre de transport'!LK26","v":0},{"$f":"'5. Offre de transport'!LL26","v":0},{"$f":"'5. Offre de transport'!LM26","v":0},{"$f":"'5. Offre de transport'!LN26","v":0},{"$f":"'5. Offre de transport'!LO26","v":0},{"$f":"'5. Offre de transport'!LP26","v":0},{"$f":"'5. Offre de transport'!LQ26","v":0},{"$f":"'5. Offre de transport'!LR26","v":0},{"$f":"'5. Offre de transport'!LS26","v":0},{"$f":"'5. Offre de transport'!LT26","v":0},{"$f":"'5. Offre de transport'!LU26","v":0},{"$f":"'5. Offre de transport'!LV26","v":0},{"$f":"'5. Offre de transport'!LW26","v":0},{"$f":"'5. Offre de transport'!LX26","v":0},{"$f":"'5. Offre de transport'!LY26","v":0},{"$f":"'5. Offre de transport'!LZ26","v":0},{"$f":"'5. Offre de transport'!MA26","v":0},{"$f":"'5. Offre de transport'!MB26","v":0},{"$f":"'5. Offre de transport'!MC26","v":0},{"$f":"'5. Offre de transport'!MD26","v":0},{"$f":"'5. Offre de transport'!ME26","v":0},{"$f":"'5. Offre de transport'!MF26","v":0},{"$f":"'5. Offre de transport'!MG26","v":0},{"$f":"'5. Offre de transport'!MH26","v":0},{"$f":"'5. Offre de transport'!MI26","v":0},{"$f":"'5. Offre de transport'!MJ26","v":0},{"$f":"'5. Offre de transport'!MK26","v":0},{"$f":"'5. Offre de transport'!ML26","v":0},{"$f":"'5. Offre de transport'!MM26","v":0},{"$f":"'5. Offre de transport'!MN26","v":0},{"$f":"'5. Offre de transport'!MO26","v":0},{"$f":"'5. Offre de transport'!MP26","v":0},{"$f":"'5. Offre de transport'!MQ26","v":0},{"$f":"'5. Offre de transport'!MR26","v":0},{"$f":"'5. Offre de transport'!MS26","v":0},{"$f":"'5. Offre de transport'!MT26","v":0},{"$f":"'5. Offre de transport'!MU26","v":0},{"$f":"'5. Offre de transport'!MV26","v":0},{"$f":"'5. Offre de transport'!MW26","v":0},{"$f":"'5. Offre de transport'!MX26","v":0},{"$f":"'5. Offre de transport'!MY26","v":0},{"$f":"'5. Offre de transport'!MZ26","v":0}]
[null,{"$f":"'5. Offre de transport'!B27","v":9},{"$f":"'5. Offre de transport'!C27","v":0},{"$f":"'5. Offre de transport'!D27","v":0},{"$f":"'5. Offre de transport'!E27","v":0},{"$f":"'5. Offre de transport'!F27","v":0},{"$f":"'5. Offre de transport'!G27","v":0},{"$f":"'5. Offre de transport'!H27","v":0},{"$f":"'5. Offre de transport'!I27","v":0},{"$f":"'5. Offre de transport'!J27","v":0},{"$f":"'5. Offre de transport'!K27","v":0},{"$f":"'5. Offre de transport'!L27","v":0},{"$f":"'5. Offre de transport'!M27","v":0},{"$f":"'5. Offre de transport'!N27","v":0},{"$f":"'5. Offre de transport'!O27","v":0},{"$f":"'5. Offre de transport'!P27","v":0},{"$f":"'5. Offre de transport'!Q27","v":0},{"$f":"'5. Offre de transport'!R27","v":0},{"$f":"'5. Offre de transport'!S27","v":0},{"$f":"'5. Offre de transport'!T27","v":0},{"$f":"'5. Offre de transport'!U27","v":0},{"$f":"'5. Offre de transport'!V27","v":0},{"$f":"'5. Offre de transport'!W27","v":0},{"$f":"'5. Offre de transport'!X27","v":0},{"$f":"'5. Offre de transport'!Y27","v":0},{"$f":"'5. Offre de transport'!Z27","v":0},{"$f":"'5. Offre de transport'!AA27","v":0},{"$f":"'5. Offre de transport'!AB27","v":0},{"$f":"'5. Offre de transport'!AC27","v":0},{"$f":"'5. Offre de transport'!AD27","v":0},{"$f":"'5. Offre de transport'!AE27","v":0},{"$f":"'5. Offre de transport'!AF27","v":0},{"$f":"'5. Offre de transport'!AG27","v":0},{"$f":"'5. Offre de transport'!AH27","v":0},{"$f":"'5. Offre de transport'!AI27","v":0},{"$f":"'5. Offre de transport'!AJ27","v":0},{"$f":"'5. Offre de transport'!AK27","v":0},{"$f":"'5. Offre de transport'!AL27","v":0},{"$f":"'5. Offre de transport'!AM27","v":0},{"$f":"'5. Offre de transport'!AN27","v":0},{"$f":"'5. Offre de transport'!AO27","v":0},{"$f":"'5. Offre de transport'!AP27","v":0},{"$f":"'5. Offre de transport'!AQ27","v":0},{"$f":"'5. Offre de transport'!AR27","v":0},{"$f":"'5. Offre de transport'!AS27","v":0},{"$f":"'5. Offre de transport'!AT27","v":0},{"$f":"'5. Offre de transport'!AU27","v":0},{"$f":"'5. Offre de transport'!AV27","v":0},{"$f":"'5. Offre de transport'!AW27","v":0},{"$f":"'5. Offre de transport'!AX27","v":0},{"$f":"'5. Offre de transport'!AY27","v":0},{"$f":"'5. Offre de transport'!AZ27","v":0},{"$f":"'5. Offre de transport'!BA27","v":0},{"$f":"'5. Offre de transport'!BB27","v":0},{"$f":"'5. Offre de transport'!BC27","v":0},{"$f":"'5. Offre de transport'!BD27","v":0},{"$f":"'5. Offre de transport'!BE27","v":0},{"$f":"'5. Offre de transport'!BF27","v":0},{"$f":"'5. Offre de transport'!BG27","v":0},{"$f":"'5. Offre de transport'!BH27","v":0},{"$f":"'5. Offre de transport'!BI27","v":0},{"$f":"'5. Offre de transport'!BJ27","v":0},{"$f":"'5. Offre de transport'!BK27","v":0},{"$f":"'5. Offre de transport'!BL27","v":0},{"$f":"'5. Offre de transport'!BM27","v":0},{"$f":"'5. Offre de transport'!BN27","v":0},{"$f":"'5. Offre de transport'!BO27","v":0},{"$f":"'5. Offre de transport'!BP27","v":0},{"$f":"'5. Offre de transport'!BQ27","v":0},{"$f":"'5. Offre de transport'!BR27","v":0},{"$f":"'5. Offre de transport'!BS27","v":0},{"$f":"'5. Offre de transport'!BT27","v":0},{"$f":"'5. Offre de transport'!BU27","v":0},{"$f":"'5. Offre de transport'!BV27","v":0},{"$f":"'5. Offre de transport'!BW27","v":0},{"$f":"'5. Offre de transport'!BX27","v":0},{"$f":"'5. Offre de transport'!BY27","v":0},{"$f":"'5. Offre de transport'!BZ27","v":0},{"$f":"'5. Offre de transport'!CA27","v":0},{"$f":"'5. Offre de transport'!CB27","v":0},{"$f":"'5. Offre de transport'!CC27","v":0},{"$f":"'5. Offre de transport'!CD27","v":0},{"$f":"'5. Offre de transport'!CE27","v":0},{"$f":"'5. Offre de transport'!CF27","v":0},{"$f":"'5. Offre de transport'!CG27","v":0},{"$f":"'5. Offre de transport'!CH27","v":0},{"$f":"'5. Offre de transport'!CI27","v":0},{"$f":"'5. Offre de transport'!CJ27","v":0},{"$f":"'5. Offre de transport'!CK27","v":0},{"$f":"'5. Offre de transport'!CL27","v":0},{"$f":"'5. Offre de transport'!CM27","v":0},{"$f":"'5. Offre de transport'!CN27","v":0},{"$f":"'5. Offre de transport'!CO27","v":0},{"$f":"'5. Offre de transport'!CP27","v":0},{"$f":"'5. Offre de transport'!CQ27","v":0},{"$f":"'5. Offre de transport'!CR27","v":0},{"$f":"'5. Offre de transport'!CS27","v":0},{"$f":"'5. Offre de transport'!CT27","v":0},{"$f":"'5. Offre de transport'!CU27","v":0},{"$f":"'5. Offre de transport'!CV27","v":0},{"$f":"'5. Offre de transport'!CW27","v":0},{"$f":"'5. Offre de transport'!CX27","v":0},{"$f":"'5. Offre de transport'!CY27","v":0},{"$f":"'5. Offre de transport'!CZ27","v":0},{"$f":"'5. Offre de transport'!DA27","v":0},{"$f":"'5. Offre de transport'!DB27","v":0},{"$f":"'5. Offre de transport'!DC27","v":0},{"$f":"'5. Offre de transport'!DD27","v":0},{"$f":"'5. Offre de transport'!DE27","v":0},{"$f":"'5. Offre de transport'!DF27","v":0},{"$f":"'5. Offre de transport'!DG27","v":0},{"$f":"'5. Offre de transport'!DH27","v":0},{"$f":"'5. Offre de transport'!DI27","v":0},{"$f":"'5. Offre de transport'!DJ27","v":0},{"$f":"'5. Offre de transport'!DK27","v":0},{"$f":"'5. Offre de transport'!DL27","v":0},{"$f":"'5. Offre de transport'!DM27","v":0},{"$f":"'5. Offre de transport'!DN27","v":0},{"$f":"'5. Offre de transport'!DO27","v":0},{"$f":"'5. Offre de transport'!DP27","v":0},{"$f":"'5. Offre de transport'!DQ27","v":0},{"$f":"'5. Offre de transport'!DR27","v":0},{"$f":"'5. Offre de transport'!DS27","v":0},{"$f":"'5. Offre de transport'!DT27","v":0},{"$f":"'5. Offre de transport'!DU27","v":0},{"$f":"'5. Offre de transport'!DV27","v":0},{"$f":"'5. Offre de transport'!DW27","v":0},{"$f":"'5. Offre de transport'!DX27","v":0},{"$f":"'5. Offre de transport'!DY27","v":0},{"$f":"'5. Offre de transport'!DZ27","v":0},{"$f":"'5. Offre de transport'!EA27","v":0},{"$f":"'5. Offre de transport'!EB27","v":0},{"$f":"'5. Offre de transport'!EC27","v":0},{"$f":"'5. Offre de transport'!ED27","v":0},{"$f":"'5. Offre de transport'!EE27","v":0},{"$f":"'5. Offre de transport'!EF27","v":0},{"$f":"'5. Offre de transport'!EG27","v":0},{"$f":"'5. Offre de transport'!EH27","v":0},{"$f":"'5. Offre de transport'!EI27","v":0},{"$f":"'5. Offre de transport'!EJ27","v":0},{"$f":"'5. Offre de transport'!EK27","v":0},{"$f":"'5. Offre de transport'!EL27","v":0},{"$f":"'5. Offre de transport'!EM27","v":0},{"$f":"'5. Offre de transport'!EN27","v":0},{"$f":"'5. Offre de transport'!EO27","v":0},{"$f":"'5. Offre de transport'!EP27","v":0},{"$f":"'5. Offre de transport'!EQ27","v":0},{"$f":"'5. Offre de transport'!ER27","v":0},{"$f":"'5. Offre de transport'!ES27","v":0},{"$f":"'5. Offre de transport'!ET27","v":0},{"$f":"'5. Offre de transport'!EU27","v":0},{"$f":"'5. Offre de transport'!EV27","v":0},{"$f":"'5. Offre de transport'!EW27","v":0},{"$f":"'5. Offre de transport'!EX27","v":0},{"$f":"'5. Offre de transport'!EY27","v":0},{"$f":"'5. Offre de transport'!EZ27","v":0},{"$f":"'5. Offre de transport'!FA27","v":0},{"$f":"'5. Offre de transport'!FB27","v":0},{"$f":"'5. Offre de transport'!FC27","v":0},{"$f":"'5. Offre de transport'!FD27","v":0},{"$f":"'5. Offre de transport'!FE27","v":0},{"$f":"'5. Offre de transport'!FF27","v":0},{"$f":"'5. Offre de transport'!FG27","v":0},{"$f":"'5. Offre de transport'!FH27","v":0},{"$f":"'5. Offre de transport'!FI27","v":0},{"$f":"'5. Offre de transport'!FJ27","v":0},{"$f":"'5. Offre de transport'!FK27","v":0},{"$f":"'5. Offre de transport'!FL27","v":0},{"$f":"'5. Offre de transport'!FM27","v":0},{"$f":"'5. Offre de transport'!FN27","v":0},{"$f":"'5. Offre de transport'!FO27","v":0},{"$f":"'5. Offre de transport'!FP27","v":0},{"$f":"'5. Offre de transport'!FQ27","v":0},{"$f":"'5. Offre de transport'!FR27","v":0},{"$f":"'5. Offre de transport'!FS27","v":0},{"$f":"'5. Offre de transport'!FT27","v":0},{"$f":"'5. Offre de transport'!FU27","v":0},{"$f":"'5. Offre de transport'!FV27","v":0},{"$f":"'5. Offre de transport'!FW27","v":0},{"$f":"'5. Offre de transport'!FX27","v":0},{"$f":"'5. Offre de transport'!FY27","v":0},{"$f":"'5. Offre de transport'!FZ27","v":0},{"$f":"'5. Offre de transport'!GA27","v":0},{"$f":"'5. Offre de transport'!GB27","v":0},{"$f":"'5. Offre de transport'!GC27","v":0},{"$f":"'5. Offre de transport'!GD27","v":0},{"$f":"'5. Offre de transport'!GE27","v":0},{"$f":"'5. Offre de transport'!GF27","v":0},{"$f":"'5. Offre de transport'!GG27","v":0},{"$f":"'5. Offre de transport'!GH27","v":0},{"$f":"'5. Offre de transport'!GI27","v":0},{"$f":"'5. Offre de transport'!GJ27","v":0},{"$f":"'5. Offre de transport'!GK27","v":0},{"$f":"'5. Offre de transport'!GL27","v":0},{"$f":"'5. Offre de transport'!GM27","v":0},{"$f":"'5. Offre de transport'!GN27","v":0},{"$f":"'5. Offre de transport'!GO27","v":0},{"$f":"'5. Offre de transport'!GP27","v":0},{"$f":"'5. Offre de transport'!GQ27","v":0},{"$f":"'5. Offre de transport'!GR27","v":0},{"$f":"'5. Offre de transport'!GS27","v":0},{"$f":"'5. Offre de transport'!GT27","v":0},{"$f":"'5. Offre de transport'!GU27","v":0},{"$f":"'5. Offre de transport'!GV27","v":0},{"$f":"'5. Offre de transport'!GW27","v":0},{"$f":"'5. Offre de transport'!GX27","v":0},{"$f":"'5. Offre de transport'!GY27","v":0},{"$f":"'5. Offre de transport'!GZ27","v":0},{"$f":"'5. Offre de transport'!HA27","v":0},{"$f":"'5. Offre de transport'!HB27","v":0},{"$f":"'5. Offre de transport'!HC27","v":0},{"$f":"'5. Offre de transport'!HD27","v":0},{"$f":"'5. Offre de transport'!HE27","v":0},{"$f":"'5. Offre de transport'!HF27","v":0},{"$f":"'5. Offre de transport'!HG27","v":0},{"$f":"'5. Offre de transport'!HH27","v":0},{"$f":"'5. Offre de transport'!HI27","v":0},{"$f":"'5. Offre de transport'!HJ27","v":0},{"$f":"'5. Offre de transport'!HK27","v":0},{"$f":"'5. Offre de transport'!HL27","v":0},{"$f":"'5. Offre de transport'!HM27","v":0},{"$f":"'5. Offre de transport'!HN27","v":0},{"$f":"'5. Offre de transport'!HO27","v":0},{"$f":"'5. Offre de transport'!HP27","v":0},{"$f":"'5. Offre de transport'!HQ27","v":0},{"$f":"'5. Offre de transport'!HR27","v":0},{"$f":"'5. Offre de transport'!HS27","v":0},{"$f":"'5. Offre de transport'!HT27","v":0},{"$f":"'5. Offre de transport'!HU27","v":0},{"$f":"'5. Offre de transport'!HV27","v":0},{"$f":"'5. Offre de transport'!HW27","v":0},{"$f":"'5. Offre de transport'!HX27","v":0},{"$f":"'5. Offre de transport'!HY27","v":0},{"$f":"'5. Offre de transport'!HZ27","v":0},{"$f":"'5. Offre de transport'!IA27","v":0},{"$f":"'5. Offre de transport'!IB27","v":0},{"$f":"'5. Offre de transport'!IC27","v":0},{"$f":"'5. Offre de transport'!ID27","v":0},{"$f":"'5. Offre de transport'!IE27","v":0},{"$f":"'5. Offre de transport'!IF27","v":0},{"$f":"'5. Offre de transport'!IG27","v":0},{"$f":"'5. Offre de transport'!IH27","v":0},{"$f":"'5. Offre de transport'!II27","v":0},{"$f":"'5. Offre de transport'!IJ27","v":0},{"$f":"'5. Offre de transport'!IK27","v":0},{"$f":"'5. Offre de transport'!IL27","v":0},{"$f":"'5. Offre de transport'!IM27","v":0},{"$f":"'5. Offre de transport'!IN27","v":0},{"$f":"'5. Offre de transport'!IO27","v":0},{"$f":"'5. Offre de transport'!IP27","v":0},{"$f":"'5. Offre de transport'!IQ27","v":0},{"$f":"'5. Offre de transport'!IR27","v":0},{"$f":"'5. Offre de transport'!IS27","v":0},{"$f":"'5. Offre de transport'!IT27","v":0},{"$f":"'5. Offre de transport'!IU27","v":0},{"$f":"'5. Offre de transport'!IV27","v":0},{"$f":"'5. Offre de transport'!IW27","v":0},{"$f":"'5. Offre de transport'!IX27","v":0},{"$f":"'5. Offre de transport'!IY27","v":0},{"$f":"'5. Offre de transport'!IZ27","v":0},{"$f":"'5. Offre de transport'!JA27","v":0},{"$f":"'5. Offre de transport'!JB27","v":0},{"$f":"'5. Offre de transport'!JC27","v":0},{"$f":"'5. Offre de transport'!JD27","v":0},{"$f":"'5. Offre de transport'!JE27","v":0},{"$f":"'5. Offre de transport'!JF27","v":0},{"$f":"'5. Offre de transport'!JG27","v":0},{"$f":"'5. Offre de transport'!JH27","v":0},{"$f":"'5. Offre de transport'!JI27","v":0},{"$f":"'5. Offre de transport'!JJ27","v":0},{"$f":"'5. Offre de transport'!JK27","v":0},{"$f":"'5. Offre de transport'!JL27","v":0},{"$f":"'5. Offre de transport'!JM27","v":0},{"$f":"'5. Offre de transport'!JN27","v":0},{"$f":"'5. Offre de transport'!JO27","v":0},{"$f":"'5. Offre de transport'!JP27","v":0},{"$f":"'5. Offre de transport'!JQ27","v":0},{"$f":"'5. Offre de transport'!JR27","v":0},{"$f":"'5. Offre de transport'!JS27","v":0},{"$f":"'5. Offre de transport'!JT27","v":0},{"$f":"'5. Offre de transport'!JU27","v":0},{"$f":"'5. Offre de transport'!JV27","v":0},{"$f":"'5. Offre de transport'!JW27","v":0},{"$f":"'5. Offre de transport'!JX27","v":0},{"$f":"'5. Offre de transport'!JY27","v":0},{"$f":"'5. Offre de transport'!JZ27","v":0},{"$f":"'5. Offre de transport'!KA27","v":0},{"$f":"'5. Offre de transport'!KB27","v":0},{"$f":"'5. Offre de transport'!KC27","v":0},{"$f":"'5. Offre de transport'!KD27","v":0},{"$f":"'5. Offre de transport'!KE27","v":0},{"$f":"'5. Offre de transport'!KF27","v":0},{"$f":"'5. Offre de transport'!KG27","v":0},{"$f":"'5. Offre de transport'!KH27","v":0},{"$f":"'5. Offre de transport'!KI27","v":0},{"$f":"'5. Offre de transport'!KJ27","v":0},{"$f":"'5. Offre de transport'!KK27","v":0},{"$f":"'5. Offre de transport'!KL27","v":0},{"$f":"'5. Offre de transport'!KM27","v":0},{"$f":"'5. Offre de transport'!KN27","v":0},{"$f":"'5. Offre de transport'!KO27","v":0},{"$f":"'5. Offre de transport'!KP27","v":0},{"$f":"'5. Offre de transport'!KQ27","v":0},{"$f":"'5. Offre de transport'!KR27","v":0},{"$f":"'5. Offre de transport'!KS27","v":0},{"$f":"'5. Offre de transport'!KT27","v":0},{"$f":"'5. Offre de transport'!KU27","v":0},{"$f":"'5. Offre de transport'!KV27","v":0},{"$f":"'5. Offre de transport'!KW27","v":0},{"$f":"'5. Offre de transport'!KX27","v":0},{"$f":"'5. Offre de transport'!KY27","v":0},{"$f":"'5. Offre de transport'!KZ27","v":0},{"$f":"'5. Offre de transport'!LA27","v":0},{"$f":"'5. Offre de transport'!LB27","v":0},{"$f":"'5. Offre de transport'!LC27","v":0},{"$f":"'5. Offre de transport'!LD27","v":0},{"$f":"'5. Offre de transport'!LE27","v":0},{"$f":"'5. Offre de transport'!LF27","v":0},{"$f":"'5. Offre de transport'!LG27","v":0},{"$f":"'5. Offre de transport'!LH27","v":0},{"$f":"'5. Offre de transport'!LI27","v":0},{"$f":"'5. Offre de transport'!LJ27","v":0},{"$f":"'5. Offre de transport'!LK27","v":0},{"$f":"'5. Offre de transport'!LL27","v":0},{"$f":"'5. Offre de transport'!LM27","v":0},{"$f":"'5. Offre de transport'!LN27","v":0},{"$f":"'5. Offre de transport'!LO27","v":0},{"$f":"'5. Offre de transport'!LP27","v":0},{"$f":"'5. Offre de transport'!LQ27","v":0},{"$f":"'5. Offre de transport'!LR27","v":0},{"$f":"'5. Offre de transport'!LS27","v":0},{"$f":"'5. Offre de transport'!LT27","v":0},{"$f":"'5. Offre de transport'!LU27","v":0},{"$f":"'5. Offre de transport'!LV27","v":0},{"$f":"'5. Offre de transport'!LW27","v":0},{"$f":"'5. Offre de transport'!LX27","v":0},{"$f":"'5. Offre de transport'!LY27","v":0},{"$f":"'5. Offre de transport'!LZ27","v":0},{"$f":"'5. Offre de transport'!MA27","v":0},{"$f":"'5. Offre de transport'!MB27","v":0},{"$f":"'5. Offre de transport'!MC27","v":0},{"$f":"'5. Offre de transport'!MD27","v":0},{"$f":"'5. Offre de transport'!ME27","v":0},{"$f":"'5. Offre de transport'!MF27","v":0},{"$f":"'5. Offre de transport'!MG27","v":0},{"$f":"'5. Offre de transport'!MH27","v":0},{"$f":"'5. Offre de transport'!MI27","v":0},{"$f":"'5. Offre de transport'!MJ27","v":0},{"$f":"'5. Offre de transport'!MK27","v":0},{"$f":"'5. Offre de transport'!ML27","v":0},{"$f":"'5. Offre de transport'!MM27","v":0},{"$f":"'5. Offre de transport'!MN27","v":0},{"$f":"'5. Offre de transport'!MO27","v":0},{"$f":"'5. Offre de transport'!MP27","v":0},{"$f":"'5. Offre de transport'!MQ27","v":0},{"$f":"'5. Offre de transport'!MR27","v":0},{"$f":"'5. Offre de transport'!MS27","v":0},{"$f":"'5. Offre de transport'!MT27","v":0},{"$f":"'5. Offre de transport'!MU27","v":0},{"$f":"'5. Offre de transport'!MV27","v":0},{"$f":"'5. Offre de transport'!MW27","v":0},{"$f":"'5. Offre de transport'!MX27","v":0},{"$f":"'5. Offre de transport'!MY27","v":0},{"$f":"'5. Offre de transport'!MZ27","v":0}]
[null,{"$f":"'5. Offre de transport'!B28","v":10},{"$f":"'5. Offre de transport'!C28","v":0},{"$f":"'5. Offre de transport'!D28","v":0},{"$f":"'5. Offre de transport'!E28","v":0},{"$f":"'5. Offre de transport'!F28","v":0},{"$f":"'5. Offre de transport'!G28","v":0},{"$f":"'5. Offre de transport'!H28","v":0},{"$f":"'5. Offre de transport'!I28","v":0},{"$f":"'5. Offre de transport'!J28","v":0},{"$f":"'5. Offre de transport'!K28","v":0},{"$f":"'5. Offre de transport'!L28","v":0},{"$f":"'5. Offre de transport'!M28","v":0},{"$f":"'5. Offre de transport'!N28","v":0},{"$f":"'5. Offre de transport'!O28","v":0},{"$f":"'5. Offre de transport'!P28","v":0},{"$f":"'5. Offre de transport'!Q28","v":0},{"$f":"'5. Offre de transport'!R28","v":0},{"$f":"'5. Offre de transport'!S28","v":0},{"$f":"'5. Offre de transport'!T28","v":0},{"$f":"'5. Offre de transport'!U28","v":0},{"$f":"'5. Offre de transport'!V28","v":0},{"$f":"'5. Offre de transport'!W28","v":0},{"$f":"'5. Offre de transport'!X28","v":0},{"$f":"'5. Offre de transport'!Y28","v":0},{"$f":"'5. Offre de transport'!Z28","v":0},{"$f":"'5. Offre de transport'!AA28","v":0},{"$f":"'5. Offre de transport'!AB28","v":0},{"$f":"'5. Offre de transport'!AC28","v":0},{"$f":"'5. Offre de transport'!AD28","v":0},{"$f":"'5. Offre de transport'!AE28","v":0},{"$f":"'5. Offre de transport'!AF28","v":0},{"$f":"'5. Offre de transport'!AG28","v":0},{"$f":"'5. Offre de transport'!AH28","v":0},{"$f":"'5. Offre de transport'!AI28","v":0},{"$f":"'5. Offre de transport'!AJ28","v":0},{"$f":"'5. Offre de transport'!AK28","v":0},{"$f":"'5. Offre de transport'!AL28","v":0},{"$f":"'5. Offre de transport'!AM28","v":0},{"$f":"'5. Offre de transport'!AN28","v":0},{"$f":"'5. Offre de transport'!AO28","v":0},{"$f":"'5. Offre de transport'!AP28","v":0},{"$f":"'5. Offre de transport'!AQ28","v":0},{"$f":"'5. Offre de transport'!AR28","v":0},{"$f":"'5. Offre de transport'!AS28","v":0},{"$f":"'5. Offre de transport'!AT28","v":0},{"$f":"'5. Offre de transport'!AU28","v":0},{"$f":"'5. Offre de transport'!AV28","v":0},{"$f":"'5. Offre de transport'!AW28","v":0},{"$f":"'5. Offre de transport'!AX28","v":0},{"$f":"'5. Offre de transport'!AY28","v":0},{"$f":"'5. Offre de transport'!AZ28","v":0},{"$f":"'5. Offre de transport'!BA28","v":0},{"$f":"'5. Offre de transport'!BB28","v":0},{"$f":"'5. Offre de transport'!BC28","v":0},{"$f":"'5. Offre de transport'!BD28","v":0},{"$f":"'5. Offre de transport'!BE28","v":0},{"$f":"'5. Offre de transport'!BF28","v":0},{"$f":"'5. Offre de transport'!BG28","v":0},{"$f":"'5. Offre de transport'!BH28","v":0},{"$f":"'5. Offre de transport'!BI28","v":0},{"$f":"'5. Offre de transport'!BJ28","v":0},{"$f":"'5. Offre de transport'!BK28","v":0},{"$f":"'5. Offre de transport'!BL28","v":0},{"$f":"'5. Offre de transport'!BM28","v":0},{"$f":"'5. Offre de transport'!BN28","v":0},{"$f":"'5. Offre de transport'!BO28","v":0},{"$f":"'5. Offre de transport'!BP28","v":0},{"$f":"'5. Offre de transport'!BQ28","v":0},{"$f":"'5. Offre de transport'!BR28","v":0},{"$f":"'5. Offre de transport'!BS28","v":0},{"$f":"'5. Offre de transport'!BT28","v":0},{"$f":"'5. Offre de transport'!BU28","v":0},{"$f":"'5. Offre de transport'!BV28","v":0},{"$f":"'5. Offre de transport'!BW28","v":0},{"$f":"'5. Offre de transport'!BX28","v":0},{"$f":"'5. Offre de transport'!BY28","v":0},{"$f":"'5. Offre de transport'!BZ28","v":0},{"$f":"'5. Offre de transport'!CA28","v":0},{"$f":"'5. Offre de transport'!CB28","v":0},{"$f":"'5. Offre de transport'!CC28","v":0},{"$f":"'5. Offre de transport'!CD28","v":0},{"$f":"'5. Offre de transport'!CE28","v":0},{"$f":"'5. Offre de transport'!CF28","v":0},{"$f":"'5. Offre de transport'!CG28","v":0},{"$f":"'5. Offre de transport'!CH28","v":0},{"$f":"'5. Offre de transport'!CI28","v":0},{"$f":"'5. Offre de transport'!CJ28","v":0},{"$f":"'5. Offre de transport'!CK28","v":0},{"$f":"'5. Offre de transport'!CL28","v":0},{"$f":"'5. Offre de transport'!CM28","v":0},{"$f":"'5. Offre de transport'!CN28","v":0},{"$f":"'5. Offre de transport'!CO28","v":0},{"$f":"'5. Offre de transport'!CP28","v":0},{"$f":"'5. Offre de transport'!CQ28","v":0},{"$f":"'5. Offre de transport'!CR28","v":0},{"$f":"'5. Offre de transport'!CS28","v":0},{"$f":"'5. Offre de transport'!CT28","v":0},{"$f":"'5. Offre de transport'!CU28","v":0},{"$f":"'5. Offre de transport'!CV28","v":0},{"$f":"'5. Offre de transport'!CW28","v":0},{"$f":"'5. Offre de transport'!CX28","v":0},{"$f":"'5. Offre de transport'!CY28","v":0},{"$f":"'5. Offre de transport'!CZ28","v":0},{"$f":"'5. Offre de transport'!DA28","v":0},{"$f":"'5. Offre de transport'!DB28","v":0},{"$f":"'5. Offre de transport'!DC28","v":0},{"$f":"'5. Offre de transport'!DD28","v":0},{"$f":"'5. Offre de transport'!DE28","v":0},{"$f":"'5. Offre de transport'!DF28","v":0},{"$f":"'5. Offre de transport'!DG28","v":0},{"$f":"'5. Offre de transport'!DH28","v":0},{"$f":"'5. Offre de transport'!DI28","v":0},{"$f":"'5. Offre de transport'!DJ28","v":0},{"$f":"'5. Offre de transport'!DK28","v":0},{"$f":"'5. Offre de transport'!DL28","v":0},{"$f":"'5. Offre de transport'!DM28","v":0},{"$f":"'5. Offre de transport'!DN28","v":0},{"$f":"'5. Offre de transport'!DO28","v":0},{"$f":"'5. Offre de transport'!DP28","v":0},{"$f":"'5. Offre de transport'!DQ28","v":0},{"$f":"'5. Offre de transport'!DR28","v":0},{"$f":"'5. Offre de transport'!DS28","v":0},{"$f":"'5. Offre de transport'!DT28","v":0},{"$f":"'5. Offre de transport'!DU28","v":0},{"$f":"'5. Offre de transport'!DV28","v":0},{"$f":"'5. Offre de transport'!DW28","v":0},{"$f":"'5. Offre de transport'!DX28","v":0},{"$f":"'5. Offre de transport'!DY28","v":0},{"$f":"'5. Offre de transport'!DZ28","v":0},{"$f":"'5. Offre de transport'!EA28","v":0},{"$f":"'5. Offre de transport'!EB28","v":0},{"$f":"'5. Offre de transport'!EC28","v":0},{"$f":"'5. Offre de transport'!ED28","v":0},{"$f":"'5. Offre de transport'!EE28","v":0},{"$f":"'5. Offre de transport'!EF28","v":0},{"$f":"'5. Offre de transport'!EG28","v":0},{"$f":"'5. Offre de transport'!EH28","v":0},{"$f":"'5. Offre de transport'!EI28","v":0},{"$f":"'5. Offre de transport'!EJ28","v":0},{"$f":"'5. Offre de transport'!EK28","v":0},{"$f":"'5. Offre de transport'!EL28","v":0},{"$f":"'5. Offre de transport'!EM28","v":0},{"$f":"'5. Offre de transport'!EN28","v":0},{"$f":"'5. Offre de transport'!EO28","v":0},{"$f":"'5. Offre de transport'!EP28","v":0},{"$f":"'5. Offre de transport'!EQ28","v":0},{"$f":"'5. Offre de transport'!ER28","v":0},{"$f":"'5. Offre de transport'!ES28","v":0},{"$f":"'5. Offre de transport'!ET28","v":0},{"$f":"'5. Offre de transport'!EU28","v":0},{"$f":"'5. Offre de transport'!EV28","v":0},{"$f":"'5. Offre de transport'!EW28","v":0},{"$f":"'5. Offre de transport'!EX28","v":0},{"$f":"'5. Offre de transport'!EY28","v":0},{"$f":"'5. Offre de transport'!EZ28","v":0},{"$f":"'5. Offre de transport'!FA28","v":0},{"$f":"'5. Offre de transport'!FB28","v":0},{"$f":"'5. Offre de transport'!FC28","v":0},{"$f":"'5. Offre de transport'!FD28","v":0},{"$f":"'5. Offre de transport'!FE28","v":0},{"$f":"'5. Offre de transport'!FF28","v":0},{"$f":"'5. Offre de transport'!FG28","v":0},{"$f":"'5. Offre de transport'!FH28","v":0},{"$f":"'5. Offre de transport'!FI28","v":0},{"$f":"'5. Offre de transport'!FJ28","v":0},{"$f":"'5. Offre de transport'!FK28","v":0},{"$f":"'5. Offre de transport'!FL28","v":0},{"$f":"'5. Offre de transport'!FM28","v":0},{"$f":"'5. Offre de transport'!FN28","v":0},{"$f":"'5. Offre de transport'!FO28","v":0},{"$f":"'5. Offre de transport'!FP28","v":0},{"$f":"'5. Offre de transport'!FQ28","v":0},{"$f":"'5. Offre de transport'!FR28","v":0},{"$f":"'5. Offre de transport'!FS28","v":0},{"$f":"'5. Offre de transport'!FT28","v":0},{"$f":"'5. Offre de transport'!FU28","v":0},{"$f":"'5. Offre de transport'!FV28","v":0},{"$f":"'5. Offre de transport'!FW28","v":0},{"$f":"'5. Offre de transport'!FX28","v":0},{"$f":"'5. Offre de transport'!FY28","v":0},{"$f":"'5. Offre de transport'!FZ28","v":0},{"$f":"'5. Offre de transport'!GA28","v":0},{"$f":"'5. Offre de transport'!GB28","v":0},{"$f":"'5. Offre de transport'!GC28","v":0},{"$f":"'5. Offre de transport'!GD28","v":0},{"$f":"'5. Offre de transport'!GE28","v":0},{"$f":"'5. Offre de transport'!GF28","v":0},{"$f":"'5. Offre de transport'!GG28","v":0},{"$f":"'5. Offre de transport'!GH28","v":0},{"$f":"'5. Offre de transport'!GI28","v":0},{"$f":"'5. Offre de transport'!GJ28","v":0},{"$f":"'5. Offre de transport'!GK28","v":0},{"$f":"'5. Offre de transport'!GL28","v":0},{"$f":"'5. Offre de transport'!GM28","v":0},{"$f":"'5. Offre de transport'!GN28","v":0},{"$f":"'5. Offre de transport'!GO28","v":0},{"$f":"'5. Offre de transport'!GP28","v":0},{"$f":"'5. Offre de transport'!GQ28","v":0},{"$f":"'5. Offre de transport'!GR28","v":0},{"$f":"'5. Offre de transport'!GS28","v":0},{"$f":"'5. Offre de transport'!GT28","v":0},{"$f":"'5. Offre de transport'!GU28","v":0},{"$f":"'5. Offre de transport'!GV28","v":0},{"$f":"'5. Offre de transport'!GW28","v":0},{"$f":"'5. Offre de transport'!GX28","v":0},{"$f":"'5. Offre de transport'!GY28","v":0},{"$f":"'5. Offre de transport'!GZ28","v":0},{"$f":"'5. Offre de transport'!HA28","v":0},{"$f":"'5. Offre de transport'!HB28","v":0},{"$f":"'5. Offre de transport'!HC28","v":0},{"$f":"'5. Offre de transport'!HD28","v":0},{"$f":"'5. Offre de transport'!HE28","v":0},{"$f":"'5. Offre de transport'!HF28","v":0},{"$f":"'5. Offre de transport'!HG28","v":0},{"$f":"'5. Offre de transport'!HH28","v":0},{"$f":"'5. Offre de transport'!HI28","v":0},{"$f":"'5. Offre de transport'!HJ28","v":0},{"$f":"'5. Offre de transport'!HK28","v":0},{"$f":"'5. Offre de transport'!HL28","v":0},{"$f":"'5. Offre de transport'!HM28","v":0},{"$f":"'5. Offre de transport'!HN28","v":0},{"$f":"'5. Offre de transport'!HO28","v":0},{"$f":"'5. Offre de transport'!HP28","v":0},{"$f":"'5. Offre de transport'!HQ28","v":0},{"$f":"'5. Offre de transport'!HR28","v":0},{"$f":"'5. Offre de transport'!HS28","v":0},{"$f":"'5. Offre de transport'!HT28","v":0},{"$f":"'5. Offre de transport'!HU28","v":0},{"$f":"'5. Offre de transport'!HV28","v":0},{"$f":"'5. Offre de transport'!HW28","v":0},{"$f":"'5. Offre de transport'!HX28","v":0},{"$f":"'5. Offre de transport'!HY28","v":0},{"$f":"'5. Offre de transport'!HZ28","v":0},{"$f":"'5. Offre de transport'!IA28","v":0},{"$f":"'5. Offre de transport'!IB28","v":0},{"$f":"'5. Offre de transport'!IC28","v":0},{"$f":"'5. Offre de transport'!ID28","v":0},{"$f":"'5. Offre de transport'!IE28","v":0},{"$f":"'5. Offre de transport'!IF28","v":0},{"$f":"'5. Offre de transport'!IG28","v":0},{"$f":"'5. Offre de transport'!IH28","v":0},{"$f":"'5. Offre de transport'!II28","v":0},{"$f":"'5. Offre de transport'!IJ28","v":0},{"$f":"'5. Offre de transport'!IK28","v":0},{"$f":"'5. Offre de transport'!IL28","v":0},{"$f":"'5. Offre de transport'!IM28","v":0},{"$f":"'5. Offre de transport'!IN28","v":0},{"$f":"'5. Offre de transport'!IO28","v":0},{"$f":"'5. Offre de transport'!IP28","v":0},{"$f":"'5. Offre de transport'!IQ28","v":0},{"$f":"'5. Offre de transport'!IR28","v":0},{"$f":"'5. Offre de transport'!IS28","v":0},{"$f":"'5. Offre de transport'!IT28","v":0},{"$f":"'5. Offre de transport'!IU28","v":0},{"$f":"'5. Offre de transport'!IV28","v":0},{"$f":"'5. Offre de transport'!IW28","v":0},{"$f":"'5. Offre de transport'!IX28","v":0},{"$f":"'5. Offre de transport'!IY28","v":0},{"$f":"'5. Offre de transport'!IZ28","v":0},{"$f":"'5. Offre de transport'!JA28","v":0},{"$f":"'5. Offre de transport'!JB28","v":0},{"$f":"'5. Offre de transport'!JC28","v":0},{"$f":"'5. Offre de transport'!JD28","v":0},{"$f":"'5. Offre de transport'!JE28","v":0},{"$f":"'5. Offre de transport'!JF28","v":0},{"$f":"'5. Offre de transport'!JG28","v":0},{"$f":"'5. Offre de transport'!JH28","v":0},{"$f":"'5. Offre de transport'!JI28","v":0},{"$f":"'5. Offre de transport'!JJ28","v":0},{"$f":"'5. Offre de transport'!JK28","v":0},{"$f":"'5. Offre de transport'!JL28","v":0},{"$f":"'5. Offre de transport'!JM28","v":0},{"$f":"'5. Offre de transport'!JN28","v":0},{"$f":"'5. Offre de transport'!JO28","v":0},{"$f":"'5. Offre de transport'!JP28","v":0},{"$f":"'5. Offre de transport'!JQ28","v":0},{"$f":"'5. Offre de transport'!JR28","v":0},{"$f":"'5. Offre de transport'!JS28","v":0},{"$f":"'5. Offre de transport'!JT28","v":0},{"$f":"'5. Offre de transport'!JU28","v":0},{"$f":"'5. Offre de transport'!JV28","v":0},{"$f":"'5. Offre de transport'!JW28","v":0},{"$f":"'5. Offre de transport'!JX28","v":0},{"$f":"'5. Offre de transport'!JY28","v":0},{"$f":"'5. Offre de transport'!JZ28","v":0},{"$f":"'5. Offre de transport'!KA28","v":0},{"$f":"'5. Offre de transport'!KB28","v":0},{"$f":"'5. Offre de transport'!KC28","v":0},{"$f":"'5. Offre de transport'!KD28","v":0},{"$f":"'5. Offre de transport'!KE28","v":0},{"$f":"'5. Offre de transport'!KF28","v":0},{"$f":"'5. Offre de transport'!KG28","v":0},{"$f":"'5. Offre de transport'!KH28","v":0},{"$f":"'5. Offre de transport'!KI28","v":0},{"$f":"'5. Offre de transport'!KJ28","v":0},{"$f":"'5. Offre de transport'!KK28","v":0},{"$f":"'5. Offre de transport'!KL28","v":0},{"$f":"'5. Offre de transport'!KM28","v":0},{"$f":"'5. Offre de transport'!KN28","v":0},{"$f":"'5. Offre de transport'!KO28","v":0},{"$f":"'5. Offre de transport'!KP28","v":0},{"$f":"'5. Offre de transport'!KQ28","v":0},{"$f":"'5. Offre de transport'!KR28","v":0},{"$f":"'5. Offre de transport'!KS28","v":0},{"$f":"'5. Offre de transport'!KT28","v":0},{"$f":"'5. Offre de transport'!KU28","v":0},{"$f":"'5. Offre de transport'!KV28","v":0},{"$f":"'5. Offre de transport'!KW28","v":0},{"$f":"'5. Offre de transport'!KX28","v":0},{"$f":"'5. Offre de transport'!KY28","v":0},{"$f":"'5. Offre de transport'!KZ28","v":0},{"$f":"'5. Offre de transport'!LA28","v":0},{"$f":"'5. Offre de transport'!LB28","v":0},{"$f":"'5. Offre de transport'!LC28","v":0},{"$f":"'5. Offre de transport'!LD28","v":0},{"$f":"'5. Offre de transport'!LE28","v":0},{"$f":"'5. Offre de transport'!LF28","v":0},{"$f":"'5. Offre de transport'!LG28","v":0},{"$f":"'5. Offre de transport'!LH28","v":0},{"$f":"'5. Offre de transport'!LI28","v":0},{"$f":"'5. Offre de transport'!LJ28","v":0},{"$f":"'5. Offre de transport'!LK28","v":0},{"$f":"'5. Offre de transport'!LL28","v":0},{"$f":"'5. Offre de transport'!LM28","v":0},{"$f":"'5. Offre de transport'!LN28","v":0},{"$f":"'5. Offre de transport'!LO28","v":0},{"$f":"'5. Offre de transport'!LP28","v":0},{"$f":"'5. Offre de transport'!LQ28","v":0},{"$f":"'5. Offre de transport'!LR28","v":0},{"$f":"'5. Offre de transport'!LS28","v":0},{"$f":"'5. Offre de transport'!LT28","v":0},{"$f":"'5. Offre de transport'!LU28","v":0},{"$f":"'5. Offre de transport'!LV28","v":0},{"$f":"'5. Offre de transport'!LW28","v":0},{"$f":"'5. Offre de transport'!LX28","v":0},{"$f":"'5. Offre de transport'!LY28","v":0},{"$f":"'5. Offre de transport'!LZ28","v":0},{"$f":"'5. Offre de transport'!MA28","v":0},{"$f":"'5. Offre de transport'!MB28","v":0},{"$f":"'5. Offre de transport'!MC28","v":0},{"$f":"'5. Offre de transport'!MD28","v":0},{"$f":"'5. Offre de transport'!ME28","v":0},{"$f":"'5. Offre de transport'!MF28","v":0},{"$f":"'5. Offre de transport'!MG28","v":0},{"$f":"'5. Offre de transport'!MH28","v":0},{"$f":"'5. Offre de transport'!MI28","v":0},{"$f":"'5. Offre de transport'!MJ28","v":0},{"$f":"'5. Offre de transport'!MK28","v":0},{"$f":"'5. Offre de transport'!ML28","v":0},{"$f":"'5. Offre de transport'!MM28","v":0},{"$f":"'5. Offre de transport'!MN28","v":0},{"$f":"'5. Offre de transport'!MO28","v":0},{"$f":"'5. Offre de transport'!MP28","v":0},{"$f":"'5. Offre de transport'!MQ28","v":0},{"$f":"'5. Offre de transport'!MR28","v":0},{"$f":"'5. Offre de transport'!MS28","v":0},{"$f":"'5. Offre de transport'!MT28","v":0},{"$f":"'5. Offre de transport'!MU28","v":0},{"$f":"'5. Offre de transport'!MV28","v":0},{"$f":"'5. Offre de transport'!MW28","v":0},{"$f":"'5. Offre de transport'!MX28","v":0},{"$f":"'5. Offre de transport'!MY28","v":0},{"$f":"'5. Offre de transport'!MZ28","v":0}]
[null,{"$f":"'5. Offre de transport'!B29","v":11},{"$f":"'5. Offre de transport'!C29","v":0},{"$f":"'5. Offre de transport'!D29","v":0},{"$f":"'5. Offre de transport'!E29","v":0},{"$f":"'5. Offre de transport'!F29","v":0},{"$f":"'5. Offre de transport'!G29","v":0},{"$f":"'5. Offre de transport'!H29","v":0},{"$f":"'5. Offre de transport'!I29","v":0},{"$f":"'5. Offre de transport'!J29","v":0},{"$f":"'5. Offre de transport'!K29","v":0},{"$f":"'5. Offre de transport'!L29","v":0},{"$f":"'5. Offre de transport'!M29","v":0},{"$f":"'5. Offre de transport'!N29","v":0},{"$f":"'5. Offre de transport'!O29","v":0},{"$f":"'5. Offre de transport'!P29","v":0},{"$f":"'5. Offre de transport'!Q29","v":0},{"$f":"'5. Offre de transport'!R29","v":0},{"$f":"'5. Offre de transport'!S29","v":0},{"$f":"'5. Offre de transport'!T29","v":0},{"$f":"'5. Offre de transport'!U29","v":0},{"$f":"'5. Offre de transport'!V29","v":0},{"$f":"'5. Offre de transport'!W29","v":0},{"$f":"'5. Offre de transport'!X29","v":0},{"$f":"'5. Offre de transport'!Y29","v":0},{"$f":"'5. Offre de transport'!Z29","v":0},{"$f":"'5. Offre de transport'!AA29","v":0},{"$f":"'5. Offre de transport'!AB29","v":0},{"$f":"'5. Offre de transport'!AC29","v":0},{"$f":"'5. Offre de transport'!AD29","v":0},{"$f":"'5. Offre de transport'!AE29","v":0},{"$f":"'5. Offre de transport'!AF29","v":0},{"$f":"'5. Offre de transport'!AG29","v":0},{"$f":"'5. Offre de transport'!AH29","v":0},{"$f":"'5. Offre de transport'!AI29","v":0},{"$f":"'5. Offre de transport'!AJ29","v":0},{"$f":"'5. Offre de transport'!AK29","v":0},{"$f":"'5. Offre de transport'!AL29","v":0},{"$f":"'5. Offre de transport'!AM29","v":0},{"$f":"'5. Offre de transport'!AN29","v":0},{"$f":"'5. Offre de transport'!AO29","v":0},{"$f":"'5. Offre de transport'!AP29","v":0},{"$f":"'5. Offre de transport'!AQ29","v":0},{"$f":"'5. Offre de transport'!AR29","v":0},{"$f":"'5. Offre de transport'!AS29","v":0},{"$f":"'5. Offre de transport'!AT29","v":0},{"$f":"'5. Offre de transport'!AU29","v":0},{"$f":"'5. Offre de transport'!AV29","v":0},{"$f":"'5. Offre de transport'!AW29","v":0},{"$f":"'5. Offre de transport'!AX29","v":0},{"$f":"'5. Offre de transport'!AY29","v":0},{"$f":"'5. Offre de transport'!AZ29","v":0},{"$f":"'5. Offre de transport'!BA29","v":0},{"$f":"'5. Offre de transport'!BB29","v":0},{"$f":"'5. Offre de transport'!BC29","v":0},{"$f":"'5. Offre de transport'!BD29","v":0},{"$f":"'5. Offre de transport'!BE29","v":0},{"$f":"'5. Offre de transport'!BF29","v":0},{"$f":"'5. Offre de transport'!BG29","v":0},{"$f":"'5. Offre de transport'!BH29","v":0},{"$f":"'5. Offre de transport'!BI29","v":0},{"$f":"'5. Offre de transport'!BJ29","v":0},{"$f":"'5. Offre de transport'!BK29","v":0},{"$f":"'5. Offre de transport'!BL29","v":0},{"$f":"'5. Offre de transport'!BM29","v":0},{"$f":"'5. Offre de transport'!BN29","v":0},{"$f":"'5. Offre de transport'!BO29","v":0},{"$f":"'5. Offre de transport'!BP29","v":0},{"$f":"'5. Offre de transport'!BQ29","v":0},{"$f":"'5. Offre de transport'!BR29","v":0},{"$f":"'5. Offre de transport'!BS29","v":0},{"$f":"'5. Offre de transport'!BT29","v":0},{"$f":"'5. Offre de transport'!BU29","v":0},{"$f":"'5. Offre de transport'!BV29","v":0},{"$f":"'5. Offre de transport'!BW29","v":0},{"$f":"'5. Offre de transport'!BX29","v":0},{"$f":"'5. Offre de transport'!BY29","v":0},{"$f":"'5. Offre de transport'!BZ29","v":0},{"$f":"'5. Offre de transport'!CA29","v":0},{"$f":"'5. Offre de transport'!CB29","v":0},{"$f":"'5. Offre de transport'!CC29","v":0},{"$f":"'5. Offre de transport'!CD29","v":0},{"$f":"'5. Offre de transport'!CE29","v":0},{"$f":"'5. Offre de transport'!CF29","v":0},{"$f":"'5. Offre de transport'!CG29","v":0},{"$f":"'5. Offre de transport'!CH29","v":0},{"$f":"'5. Offre de transport'!CI29","v":0},{"$f":"'5. Offre de transport'!CJ29","v":0},{"$f":"'5. Offre de transport'!CK29","v":0},{"$f":"'5. Offre de transport'!CL29","v":0},{"$f":"'5. Offre de transport'!CM29","v":0},{"$f":"'5. Offre de transport'!CN29","v":0},{"$f":"'5. Offre de transport'!CO29","v":0},{"$f":"'5. Offre de transport'!CP29","v":0},{"$f":"'5. Offre de transport'!CQ29","v":0},{"$f":"'5. Offre de transport'!CR29","v":0},{"$f":"'5. Offre de transport'!CS29","v":0},{"$f":"'5. Offre de transport'!CT29","v":0},{"$f":"'5. Offre de transport'!CU29","v":0},{"$f":"'5. Offre de transport'!CV29","v":0},{"$f":"'5. Offre de transport'!CW29","v":0},{"$f":"'5. Offre de transport'!CX29","v":0},{"$f":"'5. Offre de transport'!CY29","v":0},{"$f":"'5. Offre de transport'!CZ29","v":0},{"$f":"'5. Offre de transport'!DA29","v":0},{"$f":"'5. Offre de transport'!DB29","v":0},{"$f":"'5. Offre de transport'!DC29","v":0},{"$f":"'5. Offre de transport'!DD29","v":0},{"$f":"'5. Offre de transport'!DE29","v":0},{"$f":"'5. Offre de transport'!DF29","v":0},{"$f":"'5. Offre de transport'!DG29","v":0},{"$f":"'5. Offre de transport'!DH29","v":0},{"$f":"'5. Offre de transport'!DI29","v":0},{"$f":"'5. Offre de transport'!DJ29","v":0},{"$f":"'5. Offre de transport'!DK29","v":0},{"$f":"'5. Offre de transport'!DL29","v":0},{"$f":"'5. Offre de transport'!DM29","v":0},{"$f":"'5. Offre de transport'!DN29","v":0},{"$f":"'5. Offre de transport'!DO29","v":0},{"$f":"'5. Offre de transport'!DP29","v":0},{"$f":"'5. Offre de transport'!DQ29","v":0},{"$f":"'5. Offre de transport'!DR29","v":0},{"$f":"'5. Offre de transport'!DS29","v":0},{"$f":"'5. Offre de transport'!DT29","v":0},{"$f":"'5. Offre de transport'!DU29","v":0},{"$f":"'5. Offre de transport'!DV29","v":0},{"$f":"'5. Offre de transport'!DW29","v":0},{"$f":"'5. Offre de transport'!DX29","v":0},{"$f":"'5. Offre de transport'!DY29","v":0},{"$f":"'5. Offre de transport'!DZ29","v":0},{"$f":"'5. Offre de transport'!EA29","v":0},{"$f":"'5. Offre de transport'!EB29","v":0},{"$f":"'5. Offre de transport'!EC29","v":0},{"$f":"'5. Offre de transport'!ED29","v":0},{"$f":"'5. Offre de transport'!EE29","v":0},{"$f":"'5. Offre de transport'!EF29","v":0},{"$f":"'5. Offre de transport'!EG29","v":0},{"$f":"'5. Offre de transport'!EH29","v":0},{"$f":"'5. Offre de transport'!EI29","v":0},{"$f":"'5. Offre de transport'!EJ29","v":0},{"$f":"'5. Offre de transport'!EK29","v":0},{"$f":"'5. Offre de transport'!EL29","v":0},{"$f":"'5. Offre de transport'!EM29","v":0},{"$f":"'5. Offre de transport'!EN29","v":0},{"$f":"'5. Offre de transport'!EO29","v":0},{"$f":"'5. Offre de transport'!EP29","v":0},{"$f":"'5. Offre de transport'!EQ29","v":0},{"$f":"'5. Offre de transport'!ER29","v":0},{"$f":"'5. Offre de transport'!ES29","v":0},{"$f":"'5. Offre de transport'!ET29","v":0},{"$f":"'5. Offre de transport'!EU29","v":0},{"$f":"'5. Offre de transport'!EV29","v":0},{"$f":"'5. Offre de transport'!EW29","v":0},{"$f":"'5. Offre de transport'!EX29","v":0},{"$f":"'5. Offre de transport'!EY29","v":0},{"$f":"'5. Offre de transport'!EZ29","v":0},{"$f":"'5. Offre de transport'!FA29","v":0},{"$f":"'5. Offre de transport'!FB29","v":0},{"$f":"'5. Offre de transport'!FC29","v":0},{"$f":"'5. Offre de transport'!FD29","v":0},{"$f":"'5. Offre de transport'!FE29","v":0},{"$f":"'5. Offre de transport'!FF29","v":0},{"$f":"'5. Offre de transport'!FG29","v":0},{"$f":"'5. Offre de transport'!FH29","v":0},{"$f":"'5. Offre de transport'!FI29","v":0},{"$f":"'5. Offre de transport'!FJ29","v":0},{"$f":"'5. Offre de transport'!FK29","v":0},{"$f":"'5. Offre de transport'!FL29","v":0},{"$f":"'5. Offre de transport'!FM29","v":0},{"$f":"'5. Offre de transport'!FN29","v":0},{"$f":"'5. Offre de transport'!FO29","v":0},{"$f":"'5. Offre de transport'!FP29","v":0},{"$f":"'5. Offre de transport'!FQ29","v":0},{"$f":"'5. Offre de transport'!FR29","v":0},{"$f":"'5. Offre de transport'!FS29","v":0},{"$f":"'5. Offre de transport'!FT29","v":0},{"$f":"'5. Offre de transport'!FU29","v":0},{"$f":"'5. Offre de transport'!FV29","v":0},{"$f":"'5. Offre de transport'!FW29","v":0},{"$f":"'5. Offre de transport'!FX29","v":0},{"$f":"'5. Offre de transport'!FY29","v":0},{"$f":"'5. Offre de transport'!FZ29","v":0},{"$f":"'5. Offre de transport'!GA29","v":0},{"$f":"'5. Offre de transport'!GB29","v":0},{"$f":"'5. Offre de transport'!GC29","v":0},{"$f":"'5. Offre de transport'!GD29","v":0},{"$f":"'5. Offre de transport'!GE29","v":0},{"$f":"'5. Offre de transport'!GF29","v":0},{"$f":"'5. Offre de transport'!GG29","v":0},{"$f":"'5. Offre de transport'!GH29","v":0},{"$f":"'5. Offre de transport'!GI29","v":0},{"$f":"'5. Offre de transport'!GJ29","v":0},{"$f":"'5. Offre de transport'!GK29","v":0},{"$f":"'5. Offre de transport'!GL29","v":0},{"$f":"'5. Offre de transport'!GM29","v":0},{"$f":"'5. Offre de transport'!GN29","v":0},{"$f":"'5. Offre de transport'!GO29","v":0},{"$f":"'5. Offre de transport'!GP29","v":0},{"$f":"'5. Offre de transport'!GQ29","v":0},{"$f":"'5. Offre de transport'!GR29","v":0},{"$f":"'5. Offre de transport'!GS29","v":0},{"$f":"'5. Offre de transport'!GT29","v":0},{"$f":"'5. Offre de transport'!GU29","v":0},{"$f":"'5. Offre de transport'!GV29","v":0},{"$f":"'5. Offre de transport'!GW29","v":0},{"$f":"'5. Offre de transport'!GX29","v":0},{"$f":"'5. Offre de transport'!GY29","v":0},{"$f":"'5. Offre de transport'!GZ29","v":0},{"$f":"'5. Offre de transport'!HA29","v":0},{"$f":"'5. Offre de transport'!HB29","v":0},{"$f":"'5. Offre de transport'!HC29","v":0},{"$f":"'5. Offre de transport'!HD29","v":0},{"$f":"'5. Offre de transport'!HE29","v":0},{"$f":"'5. Offre de transport'!HF29","v":0},{"$f":"'5. Offre de transport'!HG29","v":0},{"$f":"'5. Offre de transport'!HH29","v":0},{"$f":"'5. Offre de transport'!HI29","v":0},{"$f":"'5. Offre de transport'!HJ29","v":0},{"$f":"'5. Offre de transport'!HK29","v":0},{"$f":"'5. Offre de transport'!HL29","v":0},{"$f":"'5. Offre de transport'!HM29","v":0},{"$f":"'5. Offre de transport'!HN29","v":0},{"$f":"'5. Offre de transport'!HO29","v":0},{"$f":"'5. Offre de transport'!HP29","v":0},{"$f":"'5. Offre de transport'!HQ29","v":0},{"$f":"'5. Offre de transport'!HR29","v":0},{"$f":"'5. Offre de transport'!HS29","v":0},{"$f":"'5. Offre de transport'!HT29","v":0},{"$f":"'5. Offre de transport'!HU29","v":0},{"$f":"'5. Offre de transport'!HV29","v":0},{"$f":"'5. Offre de transport'!HW29","v":0},{"$f":"'5. Offre de transport'!HX29","v":0},{"$f":"'5. Offre de transport'!HY29","v":0},{"$f":"'5. Offre de transport'!HZ29","v":0},{"$f":"'5. Offre de transport'!IA29","v":0},{"$f":"'5. Offre de transport'!IB29","v":0},{"$f":"'5. Offre de transport'!IC29","v":0},{"$f":"'5. Offre de transport'!ID29","v":0},{"$f":"'5. Offre de transport'!IE29","v":0},{"$f":"'5. Offre de transport'!IF29","v":0},{"$f":"'5. Offre de transport'!IG29","v":0},{"$f":"'5. Offre de transport'!IH29","v":0},{"$f":"'5. Offre de transport'!II29","v":0},{"$f":"'5. Offre de transport'!IJ29","v":0},{"$f":"'5. Offre de transport'!IK29","v":0},{"$f":"'5. Offre de transport'!IL29","v":0},{"$f":"'5. Offre de transport'!IM29","v":0},{"$f":"'5. Offre de transport'!IN29","v":0},{"$f":"'5. Offre de transport'!IO29","v":0},{"$f":"'5. Offre de transport'!IP29","v":0},{"$f":"'5. Offre de transport'!IQ29","v":0},{"$f":"'5. Offre de transport'!IR29","v":0},{"$f":"'5. Offre de transport'!IS29","v":0},{"$f":"'5. Offre de transport'!IT29","v":0},{"$f":"'5. Offre de transport'!IU29","v":0},{"$f":"'5. Offre de transport'!IV29","v":0},{"$f":"'5. Offre de transport'!IW29","v":0},{"$f":"'5. Offre de transport'!IX29","v":0},{"$f":"'5. Offre de transport'!IY29","v":0},{"$f":"'5. Offre de transport'!IZ29","v":0},{"$f":"'5. Offre de transport'!JA29","v":0},{"$f":"'5. Offre de transport'!JB29","v":0},{"$f":"'5. Offre de transport'!JC29","v":0},{"$f":"'5. Offre de transport'!JD29","v":0},{"$f":"'5. Offre de transport'!JE29","v":0},{"$f":"'5. Offre de transport'!JF29","v":0},{"$f":"'5. Offre de transport'!JG29","v":0},{"$f":"'5. Offre de transport'!JH29","v":0},{"$f":"'5. Offre de transport'!JI29","v":0},{"$f":"'5. Offre de transport'!JJ29","v":0},{"$f":"'5. Offre de transport'!JK29","v":0},{"$f":"'5. Offre de transport'!JL29","v":0},{"$f":"'5. Offre de transport'!JM29","v":0},{"$f":"'5. Offre de transport'!JN29","v":0},{"$f":"'5. Offre de transport'!JO29","v":0},{"$f":"'5. Offre de transport'!JP29","v":0},{"$f":"'5. Offre de transport'!JQ29","v":0},{"$f":"'5. Offre de transport'!JR29","v":0},{"$f":"'5. Offre de transport'!JS29","v":0},{"$f":"'5. Offre de transport'!JT29","v":0},{"$f":"'5. Offre de transport'!JU29","v":0},{"$f":"'5. Offre de transport'!JV29","v":0},{"$f":"'5. Offre de transport'!JW29","v":0},{"$f":"'5. Offre de transport'!JX29","v":0},{"$f":"'5. Offre de transport'!JY29","v":0},{"$f":"'5. Offre de transport'!JZ29","v":0},{"$f":"'5. Offre de transport'!KA29","v":0},{"$f":"'5. Offre de transport'!KB29","v":0},{"$f":"'5. Offre de transport'!KC29","v":0},{"$f":"'5. Offre de transport'!KD29","v":0},{"$f":"'5. Offre de transport'!KE29","v":0},{"$f":"'5. Offre de transport'!KF29","v":0},{"$f":"'5. Offre de transport'!KG29","v":0},{"$f":"'5. Offre de transport'!KH29","v":0},{"$f":"'5. Offre de transport'!KI29","v":0},{"$f":"'5. Offre de transport'!KJ29","v":0},{"$f":"'5. Offre de transport'!KK29","v":0},{"$f":"'5. Offre de transport'!KL29","v":0},{"$f":"'5. Offre de transport'!KM29","v":0},{"$f":"'5. Offre de transport'!KN29","v":0},{"$f":"'5. Offre de transport'!KO29","v":0},{"$f":"'5. Offre de transport'!KP29","v":0},{"$f":"'5. Offre de transport'!KQ29","v":0},{"$f":"'5. Offre de transport'!KR29","v":0},{"$f":"'5. Offre de transport'!KS29","v":0},{"$f":"'5. Offre de transport'!KT29","v":0},{"$f":"'5. Offre de transport'!KU29","v":0},{"$f":"'5. Offre de transport'!KV29","v":0},{"$f":"'5. Offre de transport'!KW29","v":0},{"$f":"'5. Offre de transport'!KX29","v":0},{"$f":"'5. Offre de transport'!KY29","v":0},{"$f":"'5. Offre de transport'!KZ29","v":0},{"$f":"'5. Offre de transport'!LA29","v":0},{"$f":"'5. Offre de transport'!LB29","v":0},{"$f":"'5. Offre de transport'!LC29","v":0},{"$f":"'5. Offre de transport'!LD29","v":0},{"$f":"'5. Offre de transport'!LE29","v":0},{"$f":"'5. Offre de transport'!LF29","v":0},{"$f":"'5. Offre de transport'!LG29","v":0},{"$f":"'5. Offre de transport'!LH29","v":0},{"$f":"'5. Offre de transport'!LI29","v":0},{"$f":"'5. Offre de transport'!LJ29","v":0},{"$f":"'5. Offre de transport'!LK29","v":0},{"$f":"'5. Offre de transport'!LL29","v":0},{"$f":"'5. Offre de transport'!LM29","v":0},{"$f":"'5. Offre de transport'!LN29","v":0},{"$f":"'5. Offre de transport'!LO29","v":0},{"$f":"'5. Offre de transport'!LP29","v":0},{"$f":"'5. Offre de transport'!LQ29","v":0},{"$f":"'5. Offre de transport'!LR29","v":0},{"$f":"'5. Offre de transport'!LS29","v":0},{"$f":"'5. Offre de transport'!LT29","v":0},{"$f":"'5. Offre de transport'!LU29","v":0},{"$f":"'5. Offre de transport'!LV29","v":0},{"$f":"'5. Offre de transport'!LW29","v":0},{"$f":"'5. Offre de transport'!LX29","v":0},{"$f":"'5. Offre de transport'!LY29","v":0},{"$f":"'5. Offre de transport'!LZ29","v":0},{"$f":"'5. Offre de transport'!MA29","v":0},{"$f":"'5. Offre de transport'!MB29","v":0},{"$f":"'5. Offre de transport'!MC29","v":0},{"$f":"'5. Offre de transport'!MD29","v":0},{"$f":"'5. Offre de transport'!ME29","v":0},{"$f":"'5. Offre de transport'!MF29","v":0},{"$f":"'5. Offre de transport'!MG29","v":0},{"$f":"'5. Offre de transport'!MH29","v":0},{"$f":"'5. Offre de transport'!MI29","v":0},{"$f":"'5. Offre de transport'!MJ29","v":0},{"$f":"'5. Offre de transport'!MK29","v":0},{"$f":"'5. Offre de transport'!ML29","v":0},{"$f":"'5. Offre de transport'!MM29","v":0},{"$f":"'5. Offre de transport'!MN29","v":0},{"$f":"'5. Offre de transport'!MO29","v":0},{"$f":"'5. Offre de transport'!MP29","v":0},{"$f":"'5. Offre de transport'!MQ29","v":0},{"$f":"'5. Offre de transport'!MR29","v":0},{"$f":"'5. Offre de transport'!MS29","v":0},{"$f":"'5. Offre de transport'!MT29","v":0},{"$f":"'5. Offre de transport'!MU29","v":0},{"$f":"'5. Offre de transport'!MV29","v":0},{"$f":"'5. Offre de transport'!MW29","v":0},{"$f":"'5. Offre de transport'!MX29","v":0},{"$f":"'5. Offre de transport'!MY29","v":0},{"$f":"'5. Offre de transport'!MZ29","v":0}]
[null,{"$f":"'5. Offre de transport'!B30","v":12},{"$f":"'5. Offre de transport'!C30","v":0},{"$f":"'5. Offre de transport'!D30","v":0},{"$f":"'5. Offre de transport'!E30","v":0},{"$f":"'5. Offre de transport'!F30","v":0},{"$f":"'5. Offre de transport'!G30","v":0},{"$f":"'5. Offre de transport'!H30","v":0},{"$f":"'5. Offre de transport'!I30","v":0},{"$f":"'5. Offre de transport'!J30","v":0},{"$f":"'5. Offre de transport'!K30","v":0},{"$f":"'5. Offre de transport'!L30","v":0},{"$f":"'5. Offre de transport'!M30","v":0},{"$f":"'5. Offre de transport'!N30","v":0},{"$f":"'5. Offre de transport'!O30","v":0},{"$f":"'5. Offre de transport'!P30","v":0},{"$f":"'5. Offre de transport'!Q30","v":0},{"$f":"'5. Offre de transport'!R30","v":0},{"$f":"'5. Offre de transport'!S30","v":0},{"$f":"'5. Offre de transport'!T30","v":0},{"$f":"'5. Offre de transport'!U30","v":0},{"$f":"'5. Offre de transport'!V30","v":0},{"$f":"'5. Offre de transport'!W30","v":0},{"$f":"'5. Offre de transport'!X30","v":0},{"$f":"'5. Offre de transport'!Y30","v":0},{"$f":"'5. Offre de transport'!Z30","v":0},{"$f":"'5. Offre de transport'!AA30","v":0},{"$f":"'5. Offre de transport'!AB30","v":0},{"$f":"'5. Offre de transport'!AC30","v":0},{"$f":"'5. Offre de transport'!AD30","v":0},{"$f":"'5. Offre de transport'!AE30","v":0},{"$f":"'5. Offre de transport'!AF30","v":0},{"$f":"'5. Offre de transport'!AG30","v":0},{"$f":"'5. Offre de transport'!AH30","v":0},{"$f":"'5. Offre de transport'!AI30","v":0},{"$f":"'5. Offre de transport'!AJ30","v":0},{"$f":"'5. Offre de transport'!AK30","v":0},{"$f":"'5. Offre de transport'!AL30","v":0},{"$f":"'5. Offre de transport'!AM30","v":0},{"$f":"'5. Offre de transport'!AN30","v":0},{"$f":"'5. Offre de transport'!AO30","v":0},{"$f":"'5. Offre de transport'!AP30","v":0},{"$f":"'5. Offre de transport'!AQ30","v":0},{"$f":"'5. Offre de transport'!AR30","v":0},{"$f":"'5. Offre de transport'!AS30","v":0},{"$f":"'5. Offre de transport'!AT30","v":0},{"$f":"'5. Offre de transport'!AU30","v":0},{"$f":"'5. Offre de transport'!AV30","v":0},{"$f":"'5. Offre de transport'!AW30","v":0},{"$f":"'5. Offre de transport'!AX30","v":0},{"$f":"'5. Offre de transport'!AY30","v":0},{"$f":"'5. Offre de transport'!AZ30","v":0},{"$f":"'5. Offre de transport'!BA30","v":0},{"$f":"'5. Offre de transport'!BB30","v":0},{"$f":"'5. Offre de transport'!BC30","v":0},{"$f":"'5. Offre de transport'!BD30","v":0},{"$f":"'5. Offre de transport'!BE30","v":0},{"$f":"'5. Offre de transport'!BF30","v":0},{"$f":"'5. Offre de transport'!BG30","v":0},{"$f":"'5. Offre de transport'!BH30","v":0},{"$f":"'5. Offre de transport'!BI30","v":0},{"$f":"'5. Offre de transport'!BJ30","v":0},{"$f":"'5. Offre de transport'!BK30","v":0},{"$f":"'5. Offre de transport'!BL30","v":0},{"$f":"'5. Offre de transport'!BM30","v":0},{"$f":"'5. Offre de transport'!BN30","v":0},{"$f":"'5. Offre de transport'!BO30","v":0},{"$f":"'5. Offre de transport'!BP30","v":0},{"$f":"'5. Offre de transport'!BQ30","v":0},{"$f":"'5. Offre de transport'!BR30","v":0},{"$f":"'5. Offre de transport'!BS30","v":0},{"$f":"'5. Offre de transport'!BT30","v":0},{"$f":"'5. Offre de transport'!BU30","v":0},{"$f":"'5. Offre de transport'!BV30","v":0},{"$f":"'5. Offre de transport'!BW30","v":0},{"$f":"'5. Offre de transport'!BX30","v":0},{"$f":"'5. Offre de transport'!BY30","v":0},{"$f":"'5. Offre de transport'!BZ30","v":0},{"$f":"'5. Offre de transport'!CA30","v":0},{"$f":"'5. Offre de transport'!CB30","v":0},{"$f":"'5. Offre de transport'!CC30","v":0},{"$f":"'5. Offre de transport'!CD30","v":0},{"$f":"'5. Offre de transport'!CE30","v":0},{"$f":"'5. Offre de transport'!CF30","v":0},{"$f":"'5. Offre de transport'!CG30","v":0},{"$f":"'5. Offre de transport'!CH30","v":0},{"$f":"'5. Offre de transport'!CI30","v":0},{"$f":"'5. Offre de transport'!CJ30","v":0},{"$f":"'5. Offre de transport'!CK30","v":0},{"$f":"'5. Offre de transport'!CL30","v":0},{"$f":"'5. Offre de transport'!CM30","v":0},{"$f":"'5. Offre de transport'!CN30","v":0},{"$f":"'5. Offre de transport'!CO30","v":0},{"$f":"'5. Offre de transport'!CP30","v":0},{"$f":"'5. Offre de transport'!CQ30","v":0},{"$f":"'5. Offre de transport'!CR30","v":0},{"$f":"'5. Offre de transport'!CS30","v":0},{"$f":"'5. Offre de transport'!CT30","v":0},{"$f":"'5. Offre de transport'!CU30","v":0},{"$f":"'5. Offre de transport'!CV30","v":0},{"$f":"'5. Offre de transport'!CW30","v":0},{"$f":"'5. Offre de transport'!CX30","v":0},{"$f":"'5. Offre de transport'!CY30","v":0},{"$f":"'5. Offre de transport'!CZ30","v":0},{"$f":"'5. Offre de transport'!DA30","v":0},{"$f":"'5. Offre de transport'!DB30","v":0},{"$f":"'5. Offre de transport'!DC30","v":0},{"$f":"'5. Offre de transport'!DD30","v":0},{"$f":"'5. Offre de transport'!DE30","v":0},{"$f":"'5. Offre de transport'!DF30","v":0},{"$f":"'5. Offre de transport'!DG30","v":0},{"$f":"'5. Offre de transport'!DH30","v":0},{"$f":"'5. Offre de transport'!DI30","v":0},{"$f":"'5. Offre de transport'!DJ30","v":0},{"$f":"'5. Offre de transport'!DK30","v":0},{"$f":"'5. Offre de transport'!DL30","v":0},{"$f":"'5. Offre de transport'!DM30","v":0},{"$f":"'5. Offre de transport'!DN30","v":0},{"$f":"'5. Offre de transport'!DO30","v":0},{"$f":"'5. Offre de transport'!DP30","v":0},{"$f":"'5. Offre de transport'!DQ30","v":0},{"$f":"'5. Offre de transport'!DR30","v":0},{"$f":"'5. Offre de transport'!DS30","v":0},{"$f":"'5. Offre de transport'!DT30","v":0},{"$f":"'5. Offre de transport'!DU30","v":0},{"$f":"'5. Offre de transport'!DV30","v":0},{"$f":"'5. Offre de transport'!DW30","v":0},{"$f":"'5. Offre de transport'!DX30","v":0},{"$f":"'5. Offre de transport'!DY30","v":0},{"$f":"'5. Offre de transport'!DZ30","v":0},{"$f":"'5. Offre de transport'!EA30","v":0},{"$f":"'5. Offre de transport'!EB30","v":0},{"$f":"'5. Offre de transport'!EC30","v":0},{"$f":"'5. Offre de transport'!ED30","v":0},{"$f":"'5. Offre de transport'!EE30","v":0},{"$f":"'5. Offre de transport'!EF30","v":0},{"$f":"'5. Offre de transport'!EG30","v":0},{"$f":"'5. Offre de transport'!EH30","v":0},{"$f":"'5. Offre de transport'!EI30","v":0},{"$f":"'5. Offre de transport'!EJ30","v":0},{"$f":"'5. Offre de transport'!EK30","v":0},{"$f":"'5. Offre de transport'!EL30","v":0},{"$f":"'5. Offre de transport'!EM30","v":0},{"$f":"'5. Offre de transport'!EN30","v":0},{"$f":"'5. Offre de transport'!EO30","v":0},{"$f":"'5. Offre de transport'!EP30","v":0},{"$f":"'5. Offre de transport'!EQ30","v":0},{"$f":"'5. Offre de transport'!ER30","v":0},{"$f":"'5. Offre de transport'!ES30","v":0},{"$f":"'5. Offre de transport'!ET30","v":0},{"$f":"'5. Offre de transport'!EU30","v":0},{"$f":"'5. Offre de transport'!EV30","v":0},{"$f":"'5. Offre de transport'!EW30","v":0},{"$f":"'5. Offre de transport'!EX30","v":0},{"$f":"'5. Offre de transport'!EY30","v":0},{"$f":"'5. Offre de transport'!EZ30","v":0},{"$f":"'5. Offre de transport'!FA30","v":0},{"$f":"'5. Offre de transport'!FB30","v":0},{"$f":"'5. Offre de transport'!FC30","v":0},{"$f":"'5. Offre de transport'!FD30","v":0},{"$f":"'5. Offre de transport'!FE30","v":0},{"$f":"'5. Offre de transport'!FF30","v":0},{"$f":"'5. Offre de transport'!FG30","v":0},{"$f":"'5. Offre de transport'!FH30","v":0},{"$f":"'5. Offre de transport'!FI30","v":0},{"$f":"'5. Offre de transport'!FJ30","v":0},{"$f":"'5. Offre de transport'!FK30","v":0},{"$f":"'5. Offre de transport'!FL30","v":0},{"$f":"'5. Offre de transport'!FM30","v":0},{"$f":"'5. Offre de transport'!FN30","v":0},{"$f":"'5. Offre de transport'!FO30","v":0},{"$f":"'5. Offre de transport'!FP30","v":0},{"$f":"'5. Offre de transport'!FQ30","v":0},{"$f":"'5. Offre de transport'!FR30","v":0},{"$f":"'5. Offre de transport'!FS30","v":0},{"$f":"'5. Offre de transport'!FT30","v":0},{"$f":"'5. Offre de transport'!FU30","v":0},{"$f":"'5. Offre de transport'!FV30","v":0},{"$f":"'5. Offre de transport'!FW30","v":0},{"$f":"'5. Offre de transport'!FX30","v":0},{"$f":"'5. Offre de transport'!FY30","v":0},{"$f":"'5. Offre de transport'!FZ30","v":0},{"$f":"'5. Offre de transport'!GA30","v":0},{"$f":"'5. Offre de transport'!GB30","v":0},{"$f":"'5. Offre de transport'!GC30","v":0},{"$f":"'5. Offre de transport'!GD30","v":0},{"$f":"'5. Offre de transport'!GE30","v":0},{"$f":"'5. Offre de transport'!GF30","v":0},{"$f":"'5. Offre de transport'!GG30","v":0},{"$f":"'5. Offre de transport'!GH30","v":0},{"$f":"'5. Offre de transport'!GI30","v":0},{"$f":"'5. Offre de transport'!GJ30","v":0},{"$f":"'5. Offre de transport'!GK30","v":0},{"$f":"'5. Offre de transport'!GL30","v":0},{"$f":"'5. Offre de transport'!GM30","v":0},{"$f":"'5. Offre de transport'!GN30","v":0},{"$f":"'5. Offre de transport'!GO30","v":0},{"$f":"'5. Offre de transport'!GP30","v":0},{"$f":"'5. Offre de transport'!GQ30","v":0},{"$f":"'5. Offre de transport'!GR30","v":0},{"$f":"'5. Offre de transport'!GS30","v":0},{"$f":"'5. Offre de transport'!GT30","v":0},{"$f":"'5. Offre de transport'!GU30","v":0},{"$f":"'5. Offre de transport'!GV30","v":0},{"$f":"'5. Offre de transport'!GW30","v":0},{"$f":"'5. Offre de transport'!GX30","v":0},{"$f":"'5. Offre de transport'!GY30","v":0},{"$f":"'5. Offre de transport'!GZ30","v":0},{"$f":"'5. Offre de transport'!HA30","v":0},{"$f":"'5. Offre de transport'!HB30","v":0},{"$f":"'5. Offre de transport'!HC30","v":0},{"$f":"'5. Offre de transport'!HD30","v":0},{"$f":"'5. Offre de transport'!HE30","v":0},{"$f":"'5. Offre de transport'!HF30","v":0},{"$f":"'5. Offre de transport'!HG30","v":0},{"$f":"'5. Offre de transport'!HH30","v":0},{"$f":"'5. Offre de transport'!HI30","v":0},{"$f":"'5. Offre de transport'!HJ30","v":0},{"$f":"'5. Offre de transport'!HK30","v":0},{"$f":"'5. Offre de transport'!HL30","v":0},{"$f":"'5. Offre de transport'!HM30","v":0},{"$f":"'5. Offre de transport'!HN30","v":0},{"$f":"'5. Offre de transport'!HO30","v":0},{"$f":"'5. Offre de transport'!HP30","v":0},{"$f":"'5. Offre de transport'!HQ30","v":0},{"$f":"'5. Offre de transport'!HR30","v":0},{"$f":"'5. Offre de transport'!HS30","v":0},{"$f":"'5. Offre de transport'!HT30","v":0},{"$f":"'5. Offre de transport'!HU30","v":0},{"$f":"'5. Offre de transport'!HV30","v":0},{"$f":"'5. Offre de transport'!HW30","v":0},{"$f":"'5. Offre de transport'!HX30","v":0},{"$f":"'5. Offre de transport'!HY30","v":0},{"$f":"'5. Offre de transport'!HZ30","v":0},{"$f":"'5. Offre de transport'!IA30","v":0},{"$f":"'5. Offre de transport'!IB30","v":0},{"$f":"'5. Offre de transport'!IC30","v":0},{"$f":"'5. Offre de transport'!ID30","v":0},{"$f":"'5. Offre de transport'!IE30","v":0},{"$f":"'5. Offre de transport'!IF30","v":0},{"$f":"'5. Offre de transport'!IG30","v":0},{"$f":"'5. Offre de transport'!IH30","v":0},{"$f":"'5. Offre de transport'!II30","v":0},{"$f":"'5. Offre de transport'!IJ30","v":0},{"$f":"'5. Offre de transport'!IK30","v":0},{"$f":"'5. Offre de transport'!IL30","v":0},{"$f":"'5. Offre de transport'!IM30","v":0},{"$f":"'5. Offre de transport'!IN30","v":0},{"$f":"'5. Offre de transport'!IO30","v":0},{"$f":"'5. Offre de transport'!IP30","v":0},{"$f":"'5. Offre de transport'!IQ30","v":0},{"$f":"'5. Offre de transport'!IR30","v":0},{"$f":"'5. Offre de transport'!IS30","v":0},{"$f":"'5. Offre de transport'!IT30","v":0},{"$f":"'5. Offre de transport'!IU30","v":0},{"$f":"'5. Offre de transport'!IV30","v":0},{"$f":"'5. Offre de transport'!IW30","v":0},{"$f":"'5. Offre de transport'!IX30","v":0},{"$f":"'5. Offre de transport'!IY30","v":0},{"$f":"'5. Offre de transport'!IZ30","v":0},{"$f":"'5. Offre de transport'!JA30","v":0},{"$f":"'5. Offre de transport'!JB30","v":0},{"$f":"'5. Offre de transport'!JC30","v":0},{"$f":"'5. Offre de transport'!JD30","v":0},{"$f":"'5. Offre de transport'!JE30","v":0},{"$f":"'5. Offre de transport'!JF30","v":0},{"$f":"'5. Offre de transport'!JG30","v":0},{"$f":"'5. Offre de transport'!JH30","v":0},{"$f":"'5. Offre de transport'!JI30","v":0},{"$f":"'5. Offre de transport'!JJ30","v":0},{"$f":"'5. Offre de transport'!JK30","v":0},{"$f":"'5. Offre de transport'!JL30","v":0},{"$f":"'5. Offre de transport'!JM30","v":0},{"$f":"'5. Offre de transport'!JN30","v":0},{"$f":"'5. Offre de transport'!JO30","v":0},{"$f":"'5. Offre de transport'!JP30","v":0},{"$f":"'5. Offre de transport'!JQ30","v":0},{"$f":"'5. Offre de transport'!JR30","v":0},{"$f":"'5. Offre de transport'!JS30","v":0},{"$f":"'5. Offre de transport'!JT30","v":0},{"$f":"'5. Offre de transport'!JU30","v":0},{"$f":"'5. Offre de transport'!JV30","v":0},{"$f":"'5. Offre de transport'!JW30","v":0},{"$f":"'5. Offre de transport'!JX30","v":0},{"$f":"'5. Offre de transport'!JY30","v":0},{"$f":"'5. Offre de transport'!JZ30","v":0},{"$f":"'5. Offre de transport'!KA30","v":0},{"$f":"'5. Offre de transport'!KB30","v":0},{"$f":"'5. Offre de transport'!KC30","v":0},{"$f":"'5. Offre de transport'!KD30","v":0},{"$f":"'5. Offre de transport'!KE30","v":0},{"$f":"'5. Offre de transport'!KF30","v":0},{"$f":"'5. Offre de transport'!KG30","v":0},{"$f":"'5. Offre de transport'!KH30","v":0},{"$f":"'5. Offre de transport'!KI30","v":0},{"$f":"'5. Offre de transport'!KJ30","v":0},{"$f":"'5. Offre de transport'!KK30","v":0},{"$f":"'5. Offre de transport'!KL30","v":0},{"$f":"'5. Offre de transport'!KM30","v":0},{"$f":"'5. Offre de transport'!KN30","v":0},{"$f":"'5. Offre de transport'!KO30","v":0},{"$f":"'5. Offre de transport'!KP30","v":0},{"$f":"'5. Offre de transport'!KQ30","v":0},{"$f":"'5. Offre de transport'!KR30","v":0},{"$f":"'5. Offre de transport'!KS30","v":0},{"$f":"'5. Offre de transport'!KT30","v":0},{"$f":"'5. Offre de transport'!KU30","v":0},{"$f":"'5. Offre de transport'!KV30","v":0},{"$f":"'5. Offre de transport'!KW30","v":0},{"$f":"'5. Offre de transport'!KX30","v":0},{"$f":"'5. Offre de transport'!KY30","v":0},{"$f":"'5. Offre de transport'!KZ30","v":0},{"$f":"'5. Offre de transport'!LA30","v":0},{"$f":"'5. Offre de transport'!LB30","v":0},{"$f":"'5. Offre de transport'!LC30","v":0},{"$f":"'5. Offre de transport'!LD30","v":0},{"$f":"'5. Offre de transport'!LE30","v":0},{"$f":"'5. Offre de transport'!LF30","v":0},{"$f":"'5. Offre de transport'!LG30","v":0},{"$f":"'5. Offre de transport'!LH30","v":0},{"$f":"'5. Offre de transport'!LI30","v":0},{"$f":"'5. Offre de transport'!LJ30","v":0},{"$f":"'5. Offre de transport'!LK30","v":0},{"$f":"'5. Offre de transport'!LL30","v":0},{"$f":"'5. Offre de transport'!LM30","v":0},{"$f":"'5. Offre de transport'!LN30","v":0},{"$f":"'5. Offre de transport'!LO30","v":0},{"$f":"'5. Offre de transport'!LP30","v":0},{"$f":"'5. Offre de transport'!LQ30","v":0},{"$f":"'5. Offre de transport'!LR30","v":0},{"$f":"'5. Offre de transport'!LS30","v":0},{"$f":"'5. Offre de transport'!LT30","v":0},{"$f":"'5. Offre de transport'!LU30","v":0},{"$f":"'5. Offre de transport'!LV30","v":0},{"$f":"'5. Offre de transport'!LW30","v":0},{"$f":"'5. Offre de transport'!LX30","v":0},{"$f":"'5. Offre de transport'!LY30","v":0},{"$f":"'5. Offre de transport'!LZ30","v":0},{"$f":"'5. Offre de transport'!MA30","v":0},{"$f":"'5. Offre de transport'!MB30","v":0},{"$f":"'5. Offre de transport'!MC30","v":0},{"$f":"'5. Offre de transport'!MD30","v":0},{"$f":"'5. Offre de transport'!ME30","v":0},{"$f":"'5. Offre de transport'!MF30","v":0},{"$f":"'5. Offre de transport'!MG30","v":0},{"$f":"'5. Offre de transport'!MH30","v":0},{"$f":"'5. Offre de transport'!MI30","v":0},{"$f":"'5. Offre de transport'!MJ30","v":0},{"$f":"'5. Offre de transport'!MK30","v":0},{"$f":"'5. Offre de transport'!ML30","v":0},{"$f":"'5. Offre de transport'!MM30","v":0},{"$f":"'5. Offre de transport'!MN30","v":0},{"$f":"'5. Offre de transport'!MO30","v":0},{"$f":"'5. Offre de transport'!MP30","v":0},{"$f":"'5. Offre de transport'!MQ30","v":0},{"$f":"'5. Offre de transport'!MR30","v":0},{"$f":"'5. Offre de transport'!MS30","v":0},{"$f":"'5. Offre de transport'!MT30","v":0},{"$f":"'5. Offre de transport'!MU30","v":0},{"$f":"'5. Offre de transport'!MV30","v":0},{"$f":"'5. Offre de transport'!MW30","v":0},{"$f":"'5. Offre de transport'!MX30","v":0},{"$f":"'5. Offre de transport'!MY30","v":0},{"$f":"'5. Offre de transport'!MZ30","v":0}]
[null,{"$f":"'5. Offre de transport'!B31","v":13},{"$f":"'5. Offre de transport'!C31","v":0},{"$f":"'5. Offre de transport'!D31","v":0},{"$f":"'5. Offre de transport'!E31","v":0},{"$f":"'5. Offre de transport'!F31","v":0},{"$f":"'5. Offre de transport'!G31","v":0},{"$f":"'5. Offre de transport'!H31","v":0},{"$f":"'5. Offre de transport'!I31","v":0},{"$f":"'5. Offre de transport'!J31","v":0},{"$f":"'5. Offre de transport'!K31","v":0},{"$f":"'5. Offre de transport'!L31","v":0},{"$f":"'5. Offre de transport'!M31","v":0},{"$f":"'5. Offre de transport'!N31","v":0},{"$f":"'5. Offre de transport'!O31","v":0},{"$f":"'5. Offre de transport'!P31","v":0},{"$f":"'5. Offre de transport'!Q31","v":0},{"$f":"'5. Offre de transport'!R31","v":0},{"$f":"'5. Offre de transport'!S31","v":0},{"$f":"'5. Offre de transport'!T31","v":0},{"$f":"'5. Offre de transport'!U31","v":0},{"$f":"'5. Offre de transport'!V31","v":0},{"$f":"'5. Offre de transport'!W31","v":0},{"$f":"'5. Offre de transport'!X31","v":0},{"$f":"'5. Offre de transport'!Y31","v":0},{"$f":"'5. Offre de transport'!Z31","v":0},{"$f":"'5. Offre de transport'!AA31","v":0},{"$f":"'5. Offre de transport'!AB31","v":0},{"$f":"'5. Offre de transport'!AC31","v":0},{"$f":"'5. Offre de transport'!AD31","v":0},{"$f":"'5. Offre de transport'!AE31","v":0},{"$f":"'5. Offre de transport'!AF31","v":0},{"$f":"'5. Offre de transport'!AG31","v":0},{"$f":"'5. Offre de transport'!AH31","v":0},{"$f":"'5. Offre de transport'!AI31","v":0},{"$f":"'5. Offre de transport'!AJ31","v":0},{"$f":"'5. Offre de transport'!AK31","v":0},{"$f":"'5. Offre de transport'!AL31","v":0},{"$f":"'5. Offre de transport'!AM31","v":0},{"$f":"'5. Offre de transport'!AN31","v":0},{"$f":"'5. Offre de transport'!AO31","v":0},{"$f":"'5. Offre de transport'!AP31","v":0},{"$f":"'5. Offre de transport'!AQ31","v":0},{"$f":"'5. Offre de transport'!AR31","v":0},{"$f":"'5. Offre de transport'!AS31","v":0},{"$f":"'5. Offre de transport'!AT31","v":0},{"$f":"'5. Offre de transport'!AU31","v":0},{"$f":"'5. Offre de transport'!AV31","v":0},{"$f":"'5. Offre de transport'!AW31","v":0},{"$f":"'5. Offre de transport'!AX31","v":0},{"$f":"'5. Offre de transport'!AY31","v":0},{"$f":"'5. Offre de transport'!AZ31","v":0},{"$f":"'5. Offre de transport'!BA31","v":0},{"$f":"'5. Offre de transport'!BB31","v":0},{"$f":"'5. Offre de transport'!BC31","v":0},{"$f":"'5. Offre de transport'!BD31","v":0},{"$f":"'5. Offre de transport'!BE31","v":0},{"$f":"'5. Offre de transport'!BF31","v":0},{"$f":"'5. Offre de transport'!BG31","v":0},{"$f":"'5. Offre de transport'!BH31","v":0},{"$f":"'5. Offre de transport'!BI31","v":0},{"$f":"'5. Offre de transport'!BJ31","v":0},{"$f":"'5. Offre de transport'!BK31","v":0},{"$f":"'5. Offre de transport'!BL31","v":0},{"$f":"'5. Offre de transport'!BM31","v":0},{"$f":"'5. Offre de transport'!BN31","v":0},{"$f":"'5. Offre de transport'!BO31","v":0},{"$f":"'5. Offre de transport'!BP31","v":0},{"$f":"'5. Offre de transport'!BQ31","v":0},{"$f":"'5. Offre de transport'!BR31","v":0},{"$f":"'5. Offre de transport'!BS31","v":0},{"$f":"'5. Offre de transport'!BT31","v":0},{"$f":"'5. Offre de transport'!BU31","v":0},{"$f":"'5. Offre de transport'!BV31","v":0},{"$f":"'5. Offre de transport'!BW31","v":0},{"$f":"'5. Offre de transport'!BX31","v":0},{"$f":"'5. Offre de transport'!BY31","v":0},{"$f":"'5. Offre de transport'!BZ31","v":0},{"$f":"'5. Offre de transport'!CA31","v":0},{"$f":"'5. Offre de transport'!CB31","v":0},{"$f":"'5. Offre de transport'!CC31","v":0},{"$f":"'5. Offre de transport'!CD31","v":0},{"$f":"'5. Offre de transport'!CE31","v":0},{"$f":"'5. Offre de transport'!CF31","v":0},{"$f":"'5. Offre de transport'!CG31","v":0},{"$f":"'5. Offre de transport'!CH31","v":0},{"$f":"'5. Offre de transport'!CI31","v":0},{"$f":"'5. Offre de transport'!CJ31","v":0},{"$f":"'5. Offre de transport'!CK31","v":0},{"$f":"'5. Offre de transport'!CL31","v":0},{"$f":"'5. Offre de transport'!CM31","v":0},{"$f":"'5. Offre de transport'!CN31","v":0},{"$f":"'5. Offre de transport'!CO31","v":0},{"$f":"'5. Offre de transport'!CP31","v":0},{"$f":"'5. Offre de transport'!CQ31","v":0},{"$f":"'5. Offre de transport'!CR31","v":0},{"$f":"'5. Offre de transport'!CS31","v":0},{"$f":"'5. Offre de transport'!CT31","v":0},{"$f":"'5. Offre de transport'!CU31","v":0},{"$f":"'5. Offre de transport'!CV31","v":0},{"$f":"'5. Offre de transport'!CW31","v":0},{"$f":"'5. Offre de transport'!CX31","v":0},{"$f":"'5. Offre de transport'!CY31","v":0},{"$f":"'5. Offre de transport'!CZ31","v":0},{"$f":"'5. Offre de transport'!DA31","v":0},{"$f":"'5. Offre de transport'!DB31","v":0},{"$f":"'5. Offre de transport'!DC31","v":0},{"$f":"'5. Offre de transport'!DD31","v":0},{"$f":"'5. Offre de transport'!DE31","v":0},{"$f":"'5. Offre de transport'!DF31","v":0},{"$f":"'5. Offre de transport'!DG31","v":0},{"$f":"'5. Offre de transport'!DH31","v":0},{"$f":"'5. Offre de transport'!DI31","v":0},{"$f":"'5. Offre de transport'!DJ31","v":0},{"$f":"'5. Offre de transport'!DK31","v":0},{"$f":"'5. Offre de transport'!DL31","v":0},{"$f":"'5. Offre de transport'!DM31","v":0},{"$f":"'5. Offre de transport'!DN31","v":0},{"$f":"'5. Offre de transport'!DO31","v":0},{"$f":"'5. Offre de transport'!DP31","v":0},{"$f":"'5. Offre de transport'!DQ31","v":0},{"$f":"'5. Offre de transport'!DR31","v":0},{"$f":"'5. Offre de transport'!DS31","v":0},{"$f":"'5. Offre de transport'!DT31","v":0},{"$f":"'5. Offre de transport'!DU31","v":0},{"$f":"'5. Offre de transport'!DV31","v":0},{"$f":"'5. Offre de transport'!DW31","v":0},{"$f":"'5. Offre de transport'!DX31","v":0},{"$f":"'5. Offre de transport'!DY31","v":0},{"$f":"'5. Offre de transport'!DZ31","v":0},{"$f":"'5. Offre de transport'!EA31","v":0},{"$f":"'5. Offre de transport'!EB31","v":0},{"$f":"'5. Offre de transport'!EC31","v":0},{"$f":"'5. Offre de transport'!ED31","v":0},{"$f":"'5. Offre de transport'!EE31","v":0},{"$f":"'5. Offre de transport'!EF31","v":0},{"$f":"'5. Offre de transport'!EG31","v":0},{"$f":"'5. Offre de transport'!EH31","v":0},{"$f":"'5. Offre de transport'!EI31","v":0},{"$f":"'5. Offre de transport'!EJ31","v":0},{"$f":"'5. Offre de transport'!EK31","v":0},{"$f":"'5. Offre de transport'!EL31","v":0},{"$f":"'5. Offre de transport'!EM31","v":0},{"$f":"'5. Offre de transport'!EN31","v":0},{"$f":"'5. Offre de transport'!EO31","v":0},{"$f":"'5. Offre de transport'!EP31","v":0},{"$f":"'5. Offre de transport'!EQ31","v":0},{"$f":"'5. Offre de transport'!ER31","v":0},{"$f":"'5. Offre de transport'!ES31","v":0},{"$f":"'5. Offre de transport'!ET31","v":0},{"$f":"'5. Offre de transport'!EU31","v":0},{"$f":"'5. Offre de transport'!EV31","v":0},{"$f":"'5. Offre de transport'!EW31","v":0},{"$f":"'5. Offre de transport'!EX31","v":0},{"$f":"'5. Offre de transport'!EY31","v":0},{"$f":"'5. Offre de transport'!EZ31","v":0},{"$f":"'5. Offre de transport'!FA31","v":0},{"$f":"'5. Offre de transport'!FB31","v":0},{"$f":"'5. Offre de transport'!FC31","v":0},{"$f":"'5. Offre de transport'!FD31","v":0},{"$f":"'5. Offre de transport'!FE31","v":0},{"$f":"'5. Offre de transport'!FF31","v":0},{"$f":"'5. Offre de transport'!FG31","v":0},{"$f":"'5. Offre de transport'!FH31","v":0},{"$f":"'5. Offre de transport'!FI31","v":0},{"$f":"'5. Offre de transport'!FJ31","v":0},{"$f":"'5. Offre de transport'!FK31","v":0},{"$f":"'5. Offre de transport'!FL31","v":0},{"$f":"'5. Offre de transport'!FM31","v":0},{"$f":"'5. Offre de transport'!FN31","v":0},{"$f":"'5. Offre de transport'!FO31","v":0},{"$f":"'5. Offre de transport'!FP31","v":0},{"$f":"'5. Offre de transport'!FQ31","v":0},{"$f":"'5. Offre de transport'!FR31","v":0},{"$f":"'5. Offre de transport'!FS31","v":0},{"$f":"'5. Offre de transport'!FT31","v":0},{"$f":"'5. Offre de transport'!FU31","v":0},{"$f":"'5. Offre de transport'!FV31","v":0},{"$f":"'5. Offre de transport'!FW31","v":0},{"$f":"'5. Offre de transport'!FX31","v":0},{"$f":"'5. Offre de transport'!FY31","v":0},{"$f":"'5. Offre de transport'!FZ31","v":0},{"$f":"'5. Offre de transport'!GA31","v":0},{"$f":"'5. Offre de transport'!GB31","v":0},{"$f":"'5. Offre de transport'!GC31","v":0},{"$f":"'5. Offre de transport'!GD31","v":0},{"$f":"'5. Offre de transport'!GE31","v":0},{"$f":"'5. Offre de transport'!GF31","v":0},{"$f":"'5. Offre de transport'!GG31","v":0},{"$f":"'5. Offre de transport'!GH31","v":0},{"$f":"'5. Offre de transport'!GI31","v":0},{"$f":"'5. Offre de transport'!GJ31","v":0},{"$f":"'5. Offre de transport'!GK31","v":0},{"$f":"'5. Offre de transport'!GL31","v":0},{"$f":"'5. Offre de transport'!GM31","v":0},{"$f":"'5. Offre de transport'!GN31","v":0},{"$f":"'5. Offre de transport'!GO31","v":0},{"$f":"'5. Offre de transport'!GP31","v":0},{"$f":"'5. Offre de transport'!GQ31","v":0},{"$f":"'5. Offre de transport'!GR31","v":0},{"$f":"'5. Offre de transport'!GS31","v":0},{"$f":"'5. Offre de transport'!GT31","v":0},{"$f":"'5. Offre de transport'!GU31","v":0},{"$f":"'5. Offre de transport'!GV31","v":0},{"$f":"'5. Offre de transport'!GW31","v":0},{"$f":"'5. Offre de transport'!GX31","v":0},{"$f":"'5. Offre de transport'!GY31","v":0},{"$f":"'5. Offre de transport'!GZ31","v":0},{"$f":"'5. Offre de transport'!HA31","v":0},{"$f":"'5. Offre de transport'!HB31","v":0},{"$f":"'5. Offre de transport'!HC31","v":0},{"$f":"'5. Offre de transport'!HD31","v":0},{"$f":"'5. Offre de transport'!HE31","v":0},{"$f":"'5. Offre de transport'!HF31","v":0},{"$f":"'5. Offre de transport'!HG31","v":0},{"$f":"'5. Offre de transport'!HH31","v":0},{"$f":"'5. Offre de transport'!HI31","v":0},{"$f":"'5. Offre de transport'!HJ31","v":0},{"$f":"'5. Offre de transport'!HK31","v":0},{"$f":"'5. Offre de transport'!HL31","v":0},{"$f":"'5. Offre de transport'!HM31","v":0},{"$f":"'5. Offre de transport'!HN31","v":0},{"$f":"'5. Offre de transport'!HO31","v":0},{"$f":"'5. Offre de transport'!HP31","v":0},{"$f":"'5. Offre de transport'!HQ31","v":0},{"$f":"'5. Offre de transport'!HR31","v":0},{"$f":"'5. Offre de transport'!HS31","v":0},{"$f":"'5. Offre de transport'!HT31","v":0},{"$f":"'5. Offre de transport'!HU31","v":0},{"$f":"'5. Offre de transport'!HV31","v":0},{"$f":"'5. Offre de transport'!HW31","v":0},{"$f":"'5. Offre de transport'!HX31","v":0},{"$f":"'5. Offre de transport'!HY31","v":0},{"$f":"'5. Offre de transport'!HZ31","v":0},{"$f":"'5. Offre de transport'!IA31","v":0},{"$f":"'5. Offre de transport'!IB31","v":0},{"$f":"'5. Offre de transport'!IC31","v":0},{"$f":"'5. Offre de transport'!ID31","v":0},{"$f":"'5. Offre de transport'!IE31","v":0},{"$f":"'5. Offre de transport'!IF31","v":0},{"$f":"'5. Offre de transport'!IG31","v":0},{"$f":"'5. Offre de transport'!IH31","v":0},{"$f":"'5. Offre de transport'!II31","v":0},{"$f":"'5. Offre de transport'!IJ31","v":0},{"$f":"'5. Offre de transport'!IK31","v":0},{"$f":"'5. Offre de transport'!IL31","v":0},{"$f":"'5. Offre de transport'!IM31","v":0},{"$f":"'5. Offre de transport'!IN31","v":0},{"$f":"'5. Offre de transport'!IO31","v":0},{"$f":"'5. Offre de transport'!IP31","v":0},{"$f":"'5. Offre de transport'!IQ31","v":0},{"$f":"'5. Offre de transport'!IR31","v":0},{"$f":"'5. Offre de transport'!IS31","v":0},{"$f":"'5. Offre de transport'!IT31","v":0},{"$f":"'5. Offre de transport'!IU31","v":0},{"$f":"'5. Offre de transport'!IV31","v":0},{"$f":"'5. Offre de transport'!IW31","v":0},{"$f":"'5. Offre de transport'!IX31","v":0},{"$f":"'5. Offre de transport'!IY31","v":0},{"$f":"'5. Offre de transport'!IZ31","v":0},{"$f":"'5. Offre de transport'!JA31","v":0},{"$f":"'5. Offre de transport'!JB31","v":0},{"$f":"'5. Offre de transport'!JC31","v":0},{"$f":"'5. Offre de transport'!JD31","v":0},{"$f":"'5. Offre de transport'!JE31","v":0},{"$f":"'5. Offre de transport'!JF31","v":0},{"$f":"'5. Offre de transport'!JG31","v":0},{"$f":"'5. Offre de transport'!JH31","v":0},{"$f":"'5. Offre de transport'!JI31","v":0},{"$f":"'5. Offre de transport'!JJ31","v":0},{"$f":"'5. Offre de transport'!JK31","v":0},{"$f":"'5. Offre de transport'!JL31","v":0},{"$f":"'5. Offre de transport'!JM31","v":0},{"$f":"'5. Offre de transport'!JN31","v":0},{"$f":"'5. Offre de transport'!JO31","v":0},{"$f":"'5. Offre de transport'!JP31","v":0},{"$f":"'5. Offre de transport'!JQ31","v":0},{"$f":"'5. Offre de transport'!JR31","v":0},{"$f":"'5. Offre de transport'!JS31","v":0},{"$f":"'5. Offre de transport'!JT31","v":0},{"$f":"'5. Offre de transport'!JU31","v":0},{"$f":"'5. Offre de transport'!JV31","v":0},{"$f":"'5. Offre de transport'!JW31","v":0},{"$f":"'5. Offre de transport'!JX31","v":0},{"$f":"'5. Offre de transport'!JY31","v":0},{"$f":"'5. Offre de transport'!JZ31","v":0},{"$f":"'5. Offre de transport'!KA31","v":0},{"$f":"'5. Offre de transport'!KB31","v":0},{"$f":"'5. Offre de transport'!KC31","v":0},{"$f":"'5. Offre de transport'!KD31","v":0},{"$f":"'5. Offre de transport'!KE31","v":0},{"$f":"'5. Offre de transport'!KF31","v":0},{"$f":"'5. Offre de transport'!KG31","v":0},{"$f":"'5. Offre de transport'!KH31","v":0},{"$f":"'5. Offre de transport'!KI31","v":0},{"$f":"'5. Offre de transport'!KJ31","v":0},{"$f":"'5. Offre de transport'!KK31","v":0},{"$f":"'5. Offre de transport'!KL31","v":0},{"$f":"'5. Offre de transport'!KM31","v":0},{"$f":"'5. Offre de transport'!KN31","v":0},{"$f":"'5. Offre de transport'!KO31","v":0},{"$f":"'5. Offre de transport'!KP31","v":0},{"$f":"'5. Offre de transport'!KQ31","v":0},{"$f":"'5. Offre de transport'!KR31","v":0},{"$f":"'5. Offre de transport'!KS31","v":0},{"$f":"'5. Offre de transport'!KT31","v":0},{"$f":"'5. Offre de transport'!KU31","v":0},{"$f":"'5. Offre de transport'!KV31","v":0},{"$f":"'5. Offre de transport'!KW31","v":0},{"$f":"'5. Offre de transport'!KX31","v":0},{"$f":"'5. Offre de transport'!KY31","v":0},{"$f":"'5. Offre de transport'!KZ31","v":0},{"$f":"'5. Offre de transport'!LA31","v":0},{"$f":"'5. Offre de transport'!LB31","v":0},{"$f":"'5. Offre de transport'!LC31","v":0},{"$f":"'5. Offre de transport'!LD31","v":0},{"$f":"'5. Offre de transport'!LE31","v":0},{"$f":"'5. Offre de transport'!LF31","v":0},{"$f":"'5. Offre de transport'!LG31","v":0},{"$f":"'5. Offre de transport'!LH31","v":0},{"$f":"'5. Offre de transport'!LI31","v":0},{"$f":"'5. Offre de transport'!LJ31","v":0},{"$f":"'5. Offre de transport'!LK31","v":0},{"$f":"'5. Offre de transport'!LL31","v":0},{"$f":"'5. Offre de transport'!LM31","v":0},{"$f":"'5. Offre de transport'!LN31","v":0},{"$f":"'5. Offre de transport'!LO31","v":0},{"$f":"'5. Offre de transport'!LP31","v":0},{"$f":"'5. Offre de transport'!LQ31","v":0},{"$f":"'5. Offre de transport'!LR31","v":0},{"$f":"'5. Offre de transport'!LS31","v":0},{"$f":"'5. Offre de transport'!LT31","v":0},{"$f":"'5. Offre de transport'!LU31","v":0},{"$f":"'5. Offre de transport'!LV31","v":0},{"$f":"'5. Offre de transport'!LW31","v":0},{"$f":"'5. Offre de transport'!LX31","v":0},{"$f":"'5. Offre de transport'!LY31","v":0},{"$f":"'5. Offre de transport'!LZ31","v":0},{"$f":"'5. Offre de transport'!MA31","v":0},{"$f":"'5. Offre de transport'!MB31","v":0},{"$f":"'5. Offre de transport'!MC31","v":0},{"$f":"'5. Offre de transport'!MD31","v":0},{"$f":"'5. Offre de transport'!ME31","v":0},{"$f":"'5. Offre de transport'!MF31","v":0},{"$f":"'5. Offre de transport'!MG31","v":0},{"$f":"'5. Offre de transport'!MH31","v":0},{"$f":"'5. Offre de transport'!MI31","v":0},{"$f":"'5. Offre de transport'!MJ31","v":0},{"$f":"'5. Offre de transport'!MK31","v":0},{"$f":"'5. Offre de transport'!ML31","v":0},{"$f":"'5. Offre de transport'!MM31","v":0},{"$f":"'5. Offre de transport'!MN31","v":0},{"$f":"'5. Offre de transport'!MO31","v":0},{"$f":"'5. Offre de transport'!MP31","v":0},{"$f":"'5. Offre de transport'!MQ31","v":0},{"$f":"'5. Offre de transport'!MR31","v":0},{"$f":"'5. Offre de transport'!MS31","v":0},{"$f":"'5. Offre de transport'!MT31","v":0},{"$f":"'5. Offre de transport'!MU31","v":0},{"$f":"'5. Offre de transport'!MV31","v":0},{"$f":"'5. Offre de transport'!MW31","v":0},{"$f":"'5. Offre de transport'!MX31","v":0},{"$f":"'5. Offre de transport'!MY31","v":0},{"$f":"'5. Offre de transport'!MZ31","v":0}]
[null,{"$f":"'5. Offre de transport'!B32","v":14},{"$f":"'5. Offre de transport'!C32","v":0},{"$f":"'5. Offre de transport'!D32","v":0},{"$f":"'5. Offre de transport'!E32","v":0},{"$f":"'5. Offre de transport'!F32","v":0},{"$f":"'5. Offre de transport'!G32","v":0},{"$f":"'5. Offre de transport'!H32","v":0},{"$f":"'5. Offre de transport'!I32","v":0},{"$f":"'5. Offre de transport'!J32","v":0},{"$f":"'5. Offre de transport'!K32","v":0},{"$f":"'5. Offre de transport'!L32","v":0},{"$f":"'5. Offre de transport'!M32","v":0},{"$f":"'5. Offre de transport'!N32","v":0},{"$f":"'5. Offre de transport'!O32","v":0},{"$f":"'5. Offre de transport'!P32","v":0},{"$f":"'5. Offre de transport'!Q32","v":0},{"$f":"'5. Offre de transport'!R32","v":0},{"$f":"'5. Offre de transport'!S32","v":0},{"$f":"'5. Offre de transport'!T32","v":0},{"$f":"'5. Offre de transport'!U32","v":0},{"$f":"'5. Offre de transport'!V32","v":0},{"$f":"'5. Offre de transport'!W32","v":0},{"$f":"'5. Offre de transport'!X32","v":0},{"$f":"'5. Offre de transport'!Y32","v":0},{"$f":"'5. Offre de transport'!Z32","v":0},{"$f":"'5. Offre de transport'!AA32","v":0},{"$f":"'5. Offre de transport'!AB32","v":0},{"$f":"'5. Offre de transport'!AC32","v":0},{"$f":"'5. Offre de transport'!AD32","v":0},{"$f":"'5. Offre de transport'!AE32","v":0},{"$f":"'5. Offre de transport'!AF32","v":0},{"$f":"'5. Offre de transport'!AG32","v":0},{"$f":"'5. Offre de transport'!AH32","v":0},{"$f":"'5. Offre de transport'!AI32","v":0},{"$f":"'5. Offre de transport'!AJ32","v":0},{"$f":"'5. Offre de transport'!AK32","v":0},{"$f":"'5. Offre de transport'!AL32","v":0},{"$f":"'5. Offre de transport'!AM32","v":0},{"$f":"'5. Offre de transport'!AN32","v":0},{"$f":"'5. Offre de transport'!AO32","v":0},{"$f":"'5. Offre de transport'!AP32","v":0},{"$f":"'5. Offre de transport'!AQ32","v":0},{"$f":"'5. Offre de transport'!AR32","v":0},{"$f":"'5. Offre de transport'!AS32","v":0},{"$f":"'5. Offre de transport'!AT32","v":0},{"$f":"'5. Offre de transport'!AU32","v":0},{"$f":"'5. Offre de transport'!AV32","v":0},{"$f":"'5. Offre de transport'!AW32","v":0},{"$f":"'5. Offre de transport'!AX32","v":0},{"$f":"'5. Offre de transport'!AY32","v":0},{"$f":"'5. Offre de transport'!AZ32","v":0},{"$f":"'5. Offre de transport'!BA32","v":0},{"$f":"'5. Offre de transport'!BB32","v":0},{"$f":"'5. Offre de transport'!BC32","v":0},{"$f":"'5. Offre de transport'!BD32","v":0},{"$f":"'5. Offre de transport'!BE32","v":0},{"$f":"'5. Offre de transport'!BF32","v":0},{"$f":"'5. Offre de transport'!BG32","v":0},{"$f":"'5. Offre de transport'!BH32","v":0},{"$f":"'5. Offre de transport'!BI32","v":0},{"$f":"'5. Offre de transport'!BJ32","v":0},{"$f":"'5. Offre de transport'!BK32","v":0},{"$f":"'5. Offre de transport'!BL32","v":0},{"$f":"'5. Offre de transport'!BM32","v":0},{"$f":"'5. Offre de transport'!BN32","v":0},{"$f":"'5. Offre de transport'!BO32","v":0},{"$f":"'5. Offre de transport'!BP32","v":0},{"$f":"'5. Offre de transport'!BQ32","v":0},{"$f":"'5. Offre de transport'!BR32","v":0},{"$f":"'5. Offre de transport'!BS32","v":0},{"$f":"'5. Offre de transport'!BT32","v":0},{"$f":"'5. Offre de transport'!BU32","v":0},{"$f":"'5. Offre de transport'!BV32","v":0},{"$f":"'5. Offre de transport'!BW32","v":0},{"$f":"'5. Offre de transport'!BX32","v":0},{"$f":"'5. Offre de transport'!BY32","v":0},{"$f":"'5. Offre de transport'!BZ32","v":0},{"$f":"'5. Offre de transport'!CA32","v":0},{"$f":"'5. Offre de transport'!CB32","v":0},{"$f":"'5. Offre de transport'!CC32","v":0},{"$f":"'5. Offre de transport'!CD32","v":0},{"$f":"'5. Offre de transport'!CE32","v":0},{"$f":"'5. Offre de transport'!CF32","v":0},{"$f":"'5. Offre de transport'!CG32","v":0},{"$f":"'5. Offre de transport'!CH32","v":0},{"$f":"'5. Offre de transport'!CI32","v":0},{"$f":"'5. Offre de transport'!CJ32","v":0},{"$f":"'5. Offre de transport'!CK32","v":0},{"$f":"'5. Offre de transport'!CL32","v":0},{"$f":"'5. Offre de transport'!CM32","v":0},{"$f":"'5. Offre de transport'!CN32","v":0},{"$f":"'5. Offre de transport'!CO32","v":0},{"$f":"'5. Offre de transport'!CP32","v":0},{"$f":"'5. Offre de transport'!CQ32","v":0},{"$f":"'5. Offre de transport'!CR32","v":0},{"$f":"'5. Offre de transport'!CS32","v":0},{"$f":"'5. Offre de transport'!CT32","v":0},{"$f":"'5. Offre de transport'!CU32","v":0},{"$f":"'5. Offre de transport'!CV32","v":0},{"$f":"'5. Offre de transport'!CW32","v":0},{"$f":"'5. Offre de transport'!CX32","v":0},{"$f":"'5. Offre de transport'!CY32","v":0},{"$f":"'5. Offre de transport'!CZ32","v":0},{"$f":"'5. Offre de transport'!DA32","v":0},{"$f":"'5. Offre de transport'!DB32","v":0},{"$f":"'5. Offre de transport'!DC32","v":0},{"$f":"'5. Offre de transport'!DD32","v":0},{"$f":"'5. Offre de transport'!DE32","v":0},{"$f":"'5. Offre de transport'!DF32","v":0},{"$f":"'5. Offre de transport'!DG32","v":0},{"$f":"'5. Offre de transport'!DH32","v":0},{"$f":"'5. Offre de transport'!DI32","v":0},{"$f":"'5. Offre de transport'!DJ32","v":0},{"$f":"'5. Offre de transport'!DK32","v":0},{"$f":"'5. Offre de transport'!DL32","v":0},{"$f":"'5. Offre de transport'!DM32","v":0},{"$f":"'5. Offre de transport'!DN32","v":0},{"$f":"'5. Offre de transport'!DO32","v":0},{"$f":"'5. Offre de transport'!DP32","v":0},{"$f":"'5. Offre de transport'!DQ32","v":0},{"$f":"'5. Offre de transport'!DR32","v":0},{"$f":"'5. Offre de transport'!DS32","v":0},{"$f":"'5. Offre de transport'!DT32","v":0},{"$f":"'5. Offre de transport'!DU32","v":0},{"$f":"'5. Offre de transport'!DV32","v":0},{"$f":"'5. Offre de transport'!DW32","v":0},{"$f":"'5. Offre de transport'!DX32","v":0},{"$f":"'5. Offre de transport'!DY32","v":0},{"$f":"'5. Offre de transport'!DZ32","v":0},{"$f":"'5. Offre de transport'!EA32","v":0},{"$f":"'5. Offre de transport'!EB32","v":0},{"$f":"'5. Offre de transport'!EC32","v":0},{"$f":"'5. Offre de transport'!ED32","v":0},{"$f":"'5. Offre de transport'!EE32","v":0},{"$f":"'5. Offre de transport'!EF32","v":0},{"$f":"'5. Offre de transport'!EG32","v":0},{"$f":"'5. Offre de transport'!EH32","v":0},{"$f":"'5. Offre de transport'!EI32","v":0},{"$f":"'5. Offre de transport'!EJ32","v":0},{"$f":"'5. Offre de transport'!EK32","v":0},{"$f":"'5. Offre de transport'!EL32","v":0},{"$f":"'5. Offre de transport'!EM32","v":0},{"$f":"'5. Offre de transport'!EN32","v":0},{"$f":"'5. Offre de transport'!EO32","v":0},{"$f":"'5. Offre de transport'!EP32","v":0},{"$f":"'5. Offre de transport'!EQ32","v":0},{"$f":"'5. Offre de transport'!ER32","v":0},{"$f":"'5. Offre de transport'!ES32","v":0},{"$f":"'5. Offre de transport'!ET32","v":0},{"$f":"'5. Offre de transport'!EU32","v":0},{"$f":"'5. Offre de transport'!EV32","v":0},{"$f":"'5. Offre de transport'!EW32","v":0},{"$f":"'5. Offre de transport'!EX32","v":0},{"$f":"'5. Offre de transport'!EY32","v":0},{"$f":"'5. Offre de transport'!EZ32","v":0},{"$f":"'5. Offre de transport'!FA32","v":0},{"$f":"'5. Offre de transport'!FB32","v":0},{"$f":"'5. Offre de transport'!FC32","v":0},{"$f":"'5. Offre de transport'!FD32","v":0},{"$f":"'5. Offre de transport'!FE32","v":0},{"$f":"'5. Offre de transport'!FF32","v":0},{"$f":"'5. Offre de transport'!FG32","v":0},{"$f":"'5. Offre de transport'!FH32","v":0},{"$f":"'5. Offre de transport'!FI32","v":0},{"$f":"'5. Offre de transport'!FJ32","v":0},{"$f":"'5. Offre de transport'!FK32","v":0},{"$f":"'5. Offre de transport'!FL32","v":0},{"$f":"'5. Offre de transport'!FM32","v":0},{"$f":"'5. Offre de transport'!FN32","v":0},{"$f":"'5. Offre de transport'!FO32","v":0},{"$f":"'5. Offre de transport'!FP32","v":0},{"$f":"'5. Offre de transport'!FQ32","v":0},{"$f":"'5. Offre de transport'!FR32","v":0},{"$f":"'5. Offre de transport'!FS32","v":0},{"$f":"'5. Offre de transport'!FT32","v":0},{"$f":"'5. Offre de transport'!FU32","v":0},{"$f":"'5. Offre de transport'!FV32","v":0},{"$f":"'5. Offre de transport'!FW32","v":0},{"$f":"'5. Offre de transport'!FX32","v":0},{"$f":"'5. Offre de transport'!FY32","v":0},{"$f":"'5. Offre de transport'!FZ32","v":0},{"$f":"'5. Offre de transport'!GA32","v":0},{"$f":"'5. Offre de transport'!GB32","v":0},{"$f":"'5. Offre de transport'!GC32","v":0},{"$f":"'5. Offre de transport'!GD32","v":0},{"$f":"'5. Offre de transport'!GE32","v":0},{"$f":"'5. Offre de transport'!GF32","v":0},{"$f":"'5. Offre de transport'!GG32","v":0},{"$f":"'5. Offre de transport'!GH32","v":0},{"$f":"'5. Offre de transport'!GI32","v":0},{"$f":"'5. Offre de transport'!GJ32","v":0},{"$f":"'5. Offre de transport'!GK32","v":0},{"$f":"'5. Offre de transport'!GL32","v":0},{"$f":"'5. Offre de transport'!GM32","v":0},{"$f":"'5. Offre de transport'!GN32","v":0},{"$f":"'5. Offre de transport'!GO32","v":0},{"$f":"'5. Offre de transport'!GP32","v":0},{"$f":"'5. Offre de transport'!GQ32","v":0},{"$f":"'5. Offre de transport'!GR32","v":0},{"$f":"'5. Offre de transport'!GS32","v":0},{"$f":"'5. Offre de transport'!GT32","v":0},{"$f":"'5. Offre de transport'!GU32","v":0},{"$f":"'5. Offre de transport'!GV32","v":0},{"$f":"'5. Offre de transport'!GW32","v":0},{"$f":"'5. Offre de transport'!GX32","v":0},{"$f":"'5. Offre de transport'!GY32","v":0},{"$f":"'5. Offre de transport'!GZ32","v":0},{"$f":"'5. Offre de transport'!HA32","v":0},{"$f":"'5. Offre de transport'!HB32","v":0},{"$f":"'5. Offre de transport'!HC32","v":0},{"$f":"'5. Offre de transport'!HD32","v":0},{"$f":"'5. Offre de transport'!HE32","v":0},{"$f":"'5. Offre de transport'!HF32","v":0},{"$f":"'5. Offre de transport'!HG32","v":0},{"$f":"'5. Offre de transport'!HH32","v":0},{"$f":"'5. Offre de transport'!HI32","v":0},{"$f":"'5. Offre de transport'!HJ32","v":0},{"$f":"'5. Offre de transport'!HK32","v":0},{"$f":"'5. Offre de transport'!HL32","v":0},{"$f":"'5. Offre de transport'!HM32","v":0},{"$f":"'5. Offre de transport'!HN32","v":0},{"$f":"'5. Offre de transport'!HO32","v":0},{"$f":"'5. Offre de transport'!HP32","v":0},{"$f":"'5. Offre de transport'!HQ32","v":0},{"$f":"'5. Offre de transport'!HR32","v":0},{"$f":"'5. Offre de transport'!HS32","v":0},{"$f":"'5. Offre de transport'!HT32","v":0},{"$f":"'5. Offre de transport'!HU32","v":0},{"$f":"'5. Offre de transport'!HV32","v":0},{"$f":"'5. Offre de transport'!HW32","v":0},{"$f":"'5. Offre de transport'!HX32","v":0},{"$f":"'5. Offre de transport'!HY32","v":0},{"$f":"'5. Offre de transport'!HZ32","v":0},{"$f":"'5. Offre de transport'!IA32","v":0},{"$f":"'5. Offre de transport'!IB32","v":0},{"$f":"'5. Offre de transport'!IC32","v":0},{"$f":"'5. Offre de transport'!ID32","v":0},{"$f":"'5. Offre de transport'!IE32","v":0},{"$f":"'5. Offre de transport'!IF32","v":0},{"$f":"'5. Offre de transport'!IG32","v":0},{"$f":"'5. Offre de transport'!IH32","v":0},{"$f":"'5. Offre de transport'!II32","v":0},{"$f":"'5. Offre de transport'!IJ32","v":0},{"$f":"'5. Offre de transport'!IK32","v":0},{"$f":"'5. Offre de transport'!IL32","v":0},{"$f":"'5. Offre de transport'!IM32","v":0},{"$f":"'5. Offre de transport'!IN32","v":0},{"$f":"'5. Offre de transport'!IO32","v":0},{"$f":"'5. Offre de transport'!IP32","v":0},{"$f":"'5. Offre de transport'!IQ32","v":0},{"$f":"'5. Offre de transport'!IR32","v":0},{"$f":"'5. Offre de transport'!IS32","v":0},{"$f":"'5. Offre de transport'!IT32","v":0},{"$f":"'5. Offre de transport'!IU32","v":0},{"$f":"'5. Offre de transport'!IV32","v":0},{"$f":"'5. Offre de transport'!IW32","v":0},{"$f":"'5. Offre de transport'!IX32","v":0},{"$f":"'5. Offre de transport'!IY32","v":0},{"$f":"'5. Offre de transport'!IZ32","v":0},{"$f":"'5. Offre de transport'!JA32","v":0},{"$f":"'5. Offre de transport'!JB32","v":0},{"$f":"'5. Offre de transport'!JC32","v":0},{"$f":"'5. Offre de transport'!JD32","v":0},{"$f":"'5. Offre de transport'!JE32","v":0},{"$f":"'5. Offre de transport'!JF32","v":0},{"$f":"'5. Offre de transport'!JG32","v":0},{"$f":"'5. Offre de transport'!JH32","v":0},{"$f":"'5. Offre de transport'!JI32","v":0},{"$f":"'5. Offre de transport'!JJ32","v":0},{"$f":"'5. Offre de transport'!JK32","v":0},{"$f":"'5. Offre de transport'!JL32","v":0},{"$f":"'5. Offre de transport'!JM32","v":0},{"$f":"'5. Offre de transport'!JN32","v":0},{"$f":"'5. Offre de transport'!JO32","v":0},{"$f":"'5. Offre de transport'!JP32","v":0},{"$f":"'5. Offre de transport'!JQ32","v":0},{"$f":"'5. Offre de transport'!JR32","v":0},{"$f":"'5. Offre de transport'!JS32","v":0},{"$f":"'5. Offre de transport'!JT32","v":0},{"$f":"'5. Offre de transport'!JU32","v":0},{"$f":"'5. Offre de transport'!JV32","v":0},{"$f":"'5. Offre de transport'!JW32","v":0},{"$f":"'5. Offre de transport'!JX32","v":0},{"$f":"'5. Offre de transport'!JY32","v":0},{"$f":"'5. Offre de transport'!JZ32","v":0},{"$f":"'5. Offre de transport'!KA32","v":0},{"$f":"'5. Offre de transport'!KB32","v":0},{"$f":"'5. Offre de transport'!KC32","v":0},{"$f":"'5. Offre de transport'!KD32","v":0},{"$f":"'5. Offre de transport'!KE32","v":0},{"$f":"'5. Offre de transport'!KF32","v":0},{"$f":"'5. Offre de transport'!KG32","v":0},{"$f":"'5. Offre de transport'!KH32","v":0},{"$f":"'5. Offre de transport'!KI32","v":0},{"$f":"'5. Offre de transport'!KJ32","v":0},{"$f":"'5. Offre de transport'!KK32","v":0},{"$f":"'5. Offre de transport'!KL32","v":0},{"$f":"'5. Offre de transport'!KM32","v":0},{"$f":"'5. Offre de transport'!KN32","v":0},{"$f":"'5. Offre de transport'!KO32","v":0},{"$f":"'5. Offre de transport'!KP32","v":0},{"$f":"'5. Offre de transport'!KQ32","v":0},{"$f":"'5. Offre de transport'!KR32","v":0},{"$f":"'5. Offre de transport'!KS32","v":0},{"$f":"'5. Offre de transport'!KT32","v":0},{"$f":"'5. Offre de transport'!KU32","v":0},{"$f":"'5. Offre de transport'!KV32","v":0},{"$f":"'5. Offre de transport'!KW32","v":0},{"$f":"'5. Offre de transport'!KX32","v":0},{"$f":"'5. Offre de transport'!KY32","v":0},{"$f":"'5. Offre de transport'!KZ32","v":0},{"$f":"'5. Offre de transport'!LA32","v":0},{"$f":"'5. Offre de transport'!LB32","v":0},{"$f":"'5. Offre de transport'!LC32","v":0},{"$f":"'5. Offre de transport'!LD32","v":0},{"$f":"'5. Offre de transport'!LE32","v":0},{"$f":"'5. Offre de transport'!LF32","v":0},{"$f":"'5. Offre de transport'!LG32","v":0},{"$f":"'5. Offre de transport'!LH32","v":0},{"$f":"'5. Offre de transport'!LI32","v":0},{"$f":"'5. Offre de transport'!LJ32","v":0},{"$f":"'5. Offre de transport'!LK32","v":0},{"$f":"'5. Offre de transport'!LL32","v":0},{"$f":"'5. Offre de transport'!LM32","v":0},{"$f":"'5. Offre de transport'!LN32","v":0},{"$f":"'5. Offre de transport'!LO32","v":0},{"$f":"'5. Offre de transport'!LP32","v":0},{"$f":"'5. Offre de transport'!LQ32","v":0},{"$f":"'5. Offre de transport'!LR32","v":0},{"$f":"'5. Offre de transport'!LS32","v":0},{"$f":"'5. Offre de transport'!LT32","v":0},{"$f":"'5. Offre de transport'!LU32","v":0},{"$f":"'5. Offre de transport'!LV32","v":0},{"$f":"'5. Offre de transport'!LW32","v":0},{"$f":"'5. Offre de transport'!LX32","v":0},{"$f":"'5. Offre de transport'!LY32","v":0},{"$f":"'5. Offre de transport'!LZ32","v":0},{"$f":"'5. Offre de transport'!MA32","v":0},{"$f":"'5. Offre de transport'!MB32","v":0},{"$f":"'5. Offre de transport'!MC32","v":0},{"$f":"'5. Offre de transport'!MD32","v":0},{"$f":"'5. Offre de transport'!ME32","v":0},{"$f":"'5. Offre de transport'!MF32","v":0},{"$f":"'5. Offre de transport'!MG32","v":0},{"$f":"'5. Offre de transport'!MH32","v":0},{"$f":"'5. Offre de transport'!MI32","v":0},{"$f":"'5. Offre de transport'!MJ32","v":0},{"$f":"'5. Offre de transport'!MK32","v":0},{"$f":"'5. Offre de transport'!ML32","v":0},{"$f":"'5. Offre de transport'!MM32","v":0},{"$f":"'5. Offre de transport'!MN32","v":0},{"$f":"'5. Offre de transport'!MO32","v":0},{"$f":"'5. Offre de transport'!MP32","v":0},{"$f":"'5. Offre de transport'!MQ32","v":0},{"$f":"'5. Offre de transport'!MR32","v":0},{"$f":"'5. Offre de transport'!MS32","v":0},{"$f":"'5. Offre de transport'!MT32","v":0},{"$f":"'5. Offre de transport'!MU32","v":0},{"$f":"'5. Offre de transport'!MV32","v":0},{"$f":"'5. Offre de transport'!MW32","v":0},{"$f":"'5. Offre de transport'!MX32","v":0},{"$f":"'5. Offre de transport'!MY32","v":0},{"$f":"'5. Offre de transport'!MZ32","v":0}]
[null,{"$f":"'5. Offre de transport'!B33","v":15},{"$f":"'5. Offre de transport'!C33","v":0},{"$f":"'5. Offre de transport'!D33","v":0},{"$f":"'5. Offre de transport'!E33","v":0},{"$f":"'5. Offre de transport'!F33","v":0},{"$f":"'5. Offre de transport'!G33","v":0},{"$f":"'5. Offre de transport'!H33","v":0},{"$f":"'5. Offre de transport'!I33","v":0},{"$f":"'5. Offre de transport'!J33","v":0},{"$f":"'5. Offre de transport'!K33","v":0},{"$f":"'5. Offre de transport'!L33","v":0},{"$f":"'5. Offre de transport'!M33","v":0},{"$f":"'5. Offre de transport'!N33","v":0},{"$f":"'5. Offre de transport'!O33","v":0},{"$f":"'5. Offre de transport'!P33","v":0},{"$f":"'5. Offre de transport'!Q33","v":0},{"$f":"'5. Offre de transport'!R33","v":0},{"$f":"'5. Offre de transport'!S33","v":0},{"$f":"'5. Offre de transport'!T33","v":0},{"$f":"'5. Offre de transport'!U33","v":0},{"$f":"'5. Offre de transport'!V33","v":0},{"$f":"'5. Offre de transport'!W33","v":0},{"$f":"'5. Offre de transport'!X33","v":0},{"$f":"'5. Offre de transport'!Y33","v":0},{"$f":"'5. Offre de transport'!Z33","v":0},{"$f":"'5. Offre de transport'!AA33","v":0},{"$f":"'5. Offre de transport'!AB33","v":0},{"$f":"'5. Offre de transport'!AC33","v":0},{"$f":"'5. Offre de transport'!AD33","v":0},{"$f":"'5. Offre de transport'!AE33","v":0},{"$f":"'5. Offre de transport'!AF33","v":0},{"$f":"'5. Offre de transport'!AG33","v":0},{"$f":"'5. Offre de transport'!AH33","v":0},{"$f":"'5. Offre de transport'!AI33","v":0},{"$f":"'5. Offre de transport'!AJ33","v":0},{"$f":"'5. Offre de transport'!AK33","v":0},{"$f":"'5. Offre de transport'!AL33","v":0},{"$f":"'5. Offre de transport'!AM33","v":0},{"$f":"'5. Offre de transport'!AN33","v":0},{"$f":"'5. Offre de transport'!AO33","v":0},{"$f":"'5. Offre de transport'!AP33","v":0},{"$f":"'5. Offre de transport'!AQ33","v":0},{"$f":"'5. Offre de transport'!AR33","v":0},{"$f":"'5. Offre de transport'!AS33","v":0},{"$f":"'5. Offre de transport'!AT33","v":0},{"$f":"'5. Offre de transport'!AU33","v":0},{"$f":"'5. Offre de transport'!AV33","v":0},{"$f":"'5. Offre de transport'!AW33","v":0},{"$f":"'5. Offre de transport'!AX33","v":0},{"$f":"'5. Offre de transport'!AY33","v":0},{"$f":"'5. Offre de transport'!AZ33","v":0},{"$f":"'5. Offre de transport'!BA33","v":0},{"$f":"'5. Offre de transport'!BB33","v":0},{"$f":"'5. Offre de transport'!BC33","v":0},{"$f":"'5. Offre de transport'!BD33","v":0},{"$f":"'5. Offre de transport'!BE33","v":0},{"$f":"'5. Offre de transport'!BF33","v":0},{"$f":"'5. Offre de transport'!BG33","v":0},{"$f":"'5. Offre de transport'!BH33","v":0},{"$f":"'5. Offre de transport'!BI33","v":0},{"$f":"'5. Offre de transport'!BJ33","v":0},{"$f":"'5. Offre de transport'!BK33","v":0},{"$f":"'5. Offre de transport'!BL33","v":0},{"$f":"'5. Offre de transport'!BM33","v":0},{"$f":"'5. Offre de transport'!BN33","v":0},{"$f":"'5. Offre de transport'!BO33","v":0},{"$f":"'5. Offre de transport'!BP33","v":0},{"$f":"'5. Offre de transport'!BQ33","v":0},{"$f":"'5. Offre de transport'!BR33","v":0},{"$f":"'5. Offre de transport'!BS33","v":0},{"$f":"'5. Offre de transport'!BT33","v":0},{"$f":"'5. Offre de transport'!BU33","v":0},{"$f":"'5. Offre de transport'!BV33","v":0},{"$f":"'5. Offre de transport'!BW33","v":0},{"$f":"'5. Offre de transport'!BX33","v":0},{"$f":"'5. Offre de transport'!BY33","v":0},{"$f":"'5. Offre de transport'!BZ33","v":0},{"$f":"'5. Offre de transport'!CA33","v":0},{"$f":"'5. Offre de transport'!CB33","v":0},{"$f":"'5. Offre de transport'!CC33","v":0},{"$f":"'5. Offre de transport'!CD33","v":0},{"$f":"'5. Offre de transport'!CE33","v":0},{"$f":"'5. Offre de transport'!CF33","v":0},{"$f":"'5. Offre de transport'!CG33","v":0},{"$f":"'5. Offre de transport'!CH33","v":0},{"$f":"'5. Offre de transport'!CI33","v":0},{"$f":"'5. Offre de transport'!CJ33","v":0},{"$f":"'5. Offre de transport'!CK33","v":0},{"$f":"'5. Offre de transport'!CL33","v":0},{"$f":"'5. Offre de transport'!CM33","v":0},{"$f":"'5. Offre de transport'!CN33","v":0},{"$f":"'5. Offre de transport'!CO33","v":0},{"$f":"'5. Offre de transport'!CP33","v":0},{"$f":"'5. Offre de transport'!CQ33","v":0},{"$f":"'5. Offre de transport'!CR33","v":0},{"$f":"'5. Offre de transport'!CS33","v":0},{"$f":"'5. Offre de transport'!CT33","v":0},{"$f":"'5. Offre de transport'!CU33","v":0},{"$f":"'5. Offre de transport'!CV33","v":0},{"$f":"'5. Offre de transport'!CW33","v":0},{"$f":"'5. Offre de transport'!CX33","v":0},{"$f":"'5. Offre de transport'!CY33","v":0},{"$f":"'5. Offre de transport'!CZ33","v":0},{"$f":"'5. Offre de transport'!DA33","v":0},{"$f":"'5. Offre de transport'!DB33","v":0},{"$f":"'5. Offre de transport'!DC33","v":0},{"$f":"'5. Offre de transport'!DD33","v":0},{"$f":"'5. Offre de transport'!DE33","v":0},{"$f":"'5. Offre de transport'!DF33","v":0},{"$f":"'5. Offre de transport'!DG33","v":0},{"$f":"'5. Offre de transport'!DH33","v":0},{"$f":"'5. Offre de transport'!DI33","v":0},{"$f":"'5. Offre de transport'!DJ33","v":0},{"$f":"'5. Offre de transport'!DK33","v":0},{"$f":"'5. Offre de transport'!DL33","v":0},{"$f":"'5. Offre de transport'!DM33","v":0},{"$f":"'5. Offre de transport'!DN33","v":0},{"$f":"'5. Offre de transport'!DO33","v":0},{"$f":"'5. Offre de transport'!DP33","v":0},{"$f":"'5. Offre de transport'!DQ33","v":0},{"$f":"'5. Offre de transport'!DR33","v":0},{"$f":"'5. Offre de transport'!DS33","v":0},{"$f":"'5. Offre de transport'!DT33","v":0},{"$f":"'5. Offre de transport'!DU33","v":0},{"$f":"'5. Offre de transport'!DV33","v":0},{"$f":"'5. Offre de transport'!DW33","v":0},{"$f":"'5. Offre de transport'!DX33","v":0},{"$f":"'5. Offre de transport'!DY33","v":0},{"$f":"'5. Offre de transport'!DZ33","v":0},{"$f":"'5. Offre de transport'!EA33","v":0},{"$f":"'5. Offre de transport'!EB33","v":0},{"$f":"'5. Offre de transport'!EC33","v":0},{"$f":"'5. Offre de transport'!ED33","v":0},{"$f":"'5. Offre de transport'!EE33","v":0},{"$f":"'5. Offre de transport'!EF33","v":0},{"$f":"'5. Offre de transport'!EG33","v":0},{"$f":"'5. Offre de transport'!EH33","v":0},{"$f":"'5. Offre de transport'!EI33","v":0},{"$f":"'5. Offre de transport'!EJ33","v":0},{"$f":"'5. Offre de transport'!EK33","v":0},{"$f":"'5. Offre de transport'!EL33","v":0},{"$f":"'5. Offre de transport'!EM33","v":0},{"$f":"'5. Offre de transport'!EN33","v":0},{"$f":"'5. Offre de transport'!EO33","v":0},{"$f":"'5. Offre de transport'!EP33","v":0},{"$f":"'5. Offre de transport'!EQ33","v":0},{"$f":"'5. Offre de transport'!ER33","v":0},{"$f":"'5. Offre de transport'!ES33","v":0},{"$f":"'5. Offre de transport'!ET33","v":0},{"$f":"'5. Offre de transport'!EU33","v":0},{"$f":"'5. Offre de transport'!EV33","v":0},{"$f":"'5. Offre de transport'!EW33","v":0},{"$f":"'5. Offre de transport'!EX33","v":0},{"$f":"'5. Offre de transport'!EY33","v":0},{"$f":"'5. Offre de transport'!EZ33","v":0},{"$f":"'5. Offre de transport'!FA33","v":0},{"$f":"'5. Offre de transport'!FB33","v":0},{"$f":"'5. Offre de transport'!FC33","v":0},{"$f":"'5. Offre de transport'!FD33","v":0},{"$f":"'5. Offre de transport'!FE33","v":0},{"$f":"'5. Offre de transport'!FF33","v":0},{"$f":"'5. Offre de transport'!FG33","v":0},{"$f":"'5. Offre de transport'!FH33","v":0},{"$f":"'5. Offre de transport'!FI33","v":0},{"$f":"'5. Offre de transport'!FJ33","v":0},{"$f":"'5. Offre de transport'!FK33","v":0},{"$f":"'5. Offre de transport'!FL33","v":0},{"$f":"'5. Offre de transport'!FM33","v":0},{"$f":"'5. Offre de transport'!FN33","v":0},{"$f":"'5. Offre de transport'!FO33","v":0},{"$f":"'5. Offre de transport'!FP33","v":0},{"$f":"'5. Offre de transport'!FQ33","v":0},{"$f":"'5. Offre de transport'!FR33","v":0},{"$f":"'5. Offre de transport'!FS33","v":0},{"$f":"'5. Offre de transport'!FT33","v":0},{"$f":"'5. Offre de transport'!FU33","v":0},{"$f":"'5. Offre de transport'!FV33","v":0},{"$f":"'5. Offre de transport'!FW33","v":0},{"$f":"'5. Offre de transport'!FX33","v":0},{"$f":"'5. Offre de transport'!FY33","v":0},{"$f":"'5. Offre de transport'!FZ33","v":0},{"$f":"'5. Offre de transport'!GA33","v":0},{"$f":"'5. Offre de transport'!GB33","v":0},{"$f":"'5. Offre de transport'!GC33","v":0},{"$f":"'5. Offre de transport'!GD33","v":0},{"$f":"'5. Offre de transport'!GE33","v":0},{"$f":"'5. Offre de transport'!GF33","v":0},{"$f":"'5. Offre de transport'!GG33","v":0},{"$f":"'5. Offre de transport'!GH33","v":0},{"$f":"'5. Offre de transport'!GI33","v":0},{"$f":"'5. Offre de transport'!GJ33","v":0},{"$f":"'5. Offre de transport'!GK33","v":0},{"$f":"'5. Offre de transport'!GL33","v":0},{"$f":"'5. Offre de transport'!GM33","v":0},{"$f":"'5. Offre de transport'!GN33","v":0},{"$f":"'5. Offre de transport'!GO33","v":0},{"$f":"'5. Offre de transport'!GP33","v":0},{"$f":"'5. Offre de transport'!GQ33","v":0},{"$f":"'5. Offre de transport'!GR33","v":0},{"$f":"'5. Offre de transport'!GS33","v":0},{"$f":"'5. Offre de transport'!GT33","v":0},{"$f":"'5. Offre de transport'!GU33","v":0},{"$f":"'5. Offre de transport'!GV33","v":0},{"$f":"'5. Offre de transport'!GW33","v":0},{"$f":"'5. Offre de transport'!GX33","v":0},{"$f":"'5. Offre de transport'!GY33","v":0},{"$f":"'5. Offre de transport'!GZ33","v":0},{"$f":"'5. Offre de transport'!HA33","v":0},{"$f":"'5. Offre de transport'!HB33","v":0},{"$f":"'5. Offre de transport'!HC33","v":0},{"$f":"'5. Offre de transport'!HD33","v":0},{"$f":"'5. Offre de transport'!HE33","v":0},{"$f":"'5. Offre de transport'!HF33","v":0},{"$f":"'5. Offre de transport'!HG33","v":0},{"$f":"'5. Offre de transport'!HH33","v":0},{"$f":"'5. Offre de transport'!HI33","v":0},{"$f":"'5. Offre de transport'!HJ33","v":0},{"$f":"'5. Offre de transport'!HK33","v":0},{"$f":"'5. Offre de transport'!HL33","v":0},{"$f":"'5. Offre de transport'!HM33","v":0},{"$f":"'5. Offre de transport'!HN33","v":0},{"$f":"'5. Offre de transport'!HO33","v":0},{"$f":"'5. Offre de transport'!HP33","v":0},{"$f":"'5. Offre de transport'!HQ33","v":0},{"$f":"'5. Offre de transport'!HR33","v":0},{"$f":"'5. Offre de transport'!HS33","v":0},{"$f":"'5. Offre de transport'!HT33","v":0},{"$f":"'5. Offre de transport'!HU33","v":0},{"$f":"'5. Offre de transport'!HV33","v":0},{"$f":"'5. Offre de transport'!HW33","v":0},{"$f":"'5. Offre de transport'!HX33","v":0},{"$f":"'5. Offre de transport'!HY33","v":0},{"$f":"'5. Offre de transport'!HZ33","v":0},{"$f":"'5. Offre de transport'!IA33","v":0},{"$f":"'5. Offre de transport'!IB33","v":0},{"$f":"'5. Offre de transport'!IC33","v":0},{"$f":"'5. Offre de transport'!ID33","v":0},{"$f":"'5. Offre de transport'!IE33","v":0},{"$f":"'5. Offre de transport'!IF33","v":0},{"$f":"'5. Offre de transport'!IG33","v":0},{"$f":"'5. Offre de transport'!IH33","v":0},{"$f":"'5. Offre de transport'!II33","v":0},{"$f":"'5. Offre de transport'!IJ33","v":0},{"$f":"'5. Offre de transport'!IK33","v":0},{"$f":"'5. Offre de transport'!IL33","v":0},{"$f":"'5. Offre de transport'!IM33","v":0},{"$f":"'5. Offre de transport'!IN33","v":0},{"$f":"'5. Offre de transport'!IO33","v":0},{"$f":"'5. Offre de transport'!IP33","v":0},{"$f":"'5. Offre de transport'!IQ33","v":0},{"$f":"'5. Offre de transport'!IR33","v":0},{"$f":"'5. Offre de transport'!IS33","v":0},{"$f":"'5. Offre de transport'!IT33","v":0},{"$f":"'5. Offre de transport'!IU33","v":0},{"$f":"'5. Offre de transport'!IV33","v":0},{"$f":"'5. Offre de transport'!IW33","v":0},{"$f":"'5. Offre de transport'!IX33","v":0},{"$f":"'5. Offre de transport'!IY33","v":0},{"$f":"'5. Offre de transport'!IZ33","v":0},{"$f":"'5. Offre de transport'!JA33","v":0},{"$f":"'5. Offre de transport'!JB33","v":0},{"$f":"'5. Offre de transport'!JC33","v":0},{"$f":"'5. Offre de transport'!JD33","v":0},{"$f":"'5. Offre de transport'!JE33","v":0},{"$f":"'5. Offre de transport'!JF33","v":0},{"$f":"'5. Offre de transport'!JG33","v":0},{"$f":"'5. Offre de transport'!JH33","v":0},{"$f":"'5. Offre de transport'!JI33","v":0},{"$f":"'5. Offre de transport'!JJ33","v":0},{"$f":"'5. Offre de transport'!JK33","v":0},{"$f":"'5. Offre de transport'!JL33","v":0},{"$f":"'5. Offre de transport'!JM33","v":0},{"$f":"'5. Offre de transport'!JN33","v":0},{"$f":"'5. Offre de transport'!JO33","v":0},{"$f":"'5. Offre de transport'!JP33","v":0},{"$f":"'5. Offre de transport'!JQ33","v":0},{"$f":"'5. Offre de transport'!JR33","v":0},{"$f":"'5. Offre de transport'!JS33","v":0},{"$f":"'5. Offre de transport'!JT33","v":0},{"$f":"'5. Offre de transport'!JU33","v":0},{"$f":"'5. Offre de transport'!JV33","v":0},{"$f":"'5. Offre de transport'!JW33","v":0},{"$f":"'5. Offre de transport'!JX33","v":0},{"$f":"'5. Offre de transport'!JY33","v":0},{"$f":"'5. Offre de transport'!JZ33","v":0},{"$f":"'5. Offre de transport'!KA33","v":0},{"$f":"'5. Offre de transport'!KB33","v":0},{"$f":"'5. Offre de transport'!KC33","v":0},{"$f":"'5. Offre de transport'!KD33","v":0},{"$f":"'5. Offre de transport'!KE33","v":0},{"$f":"'5. Offre de transport'!KF33","v":0},{"$f":"'5. Offre de transport'!KG33","v":0},{"$f":"'5. Offre de transport'!KH33","v":0},{"$f":"'5. Offre de transport'!KI33","v":0},{"$f":"'5. Offre de transport'!KJ33","v":0},{"$f":"'5. Offre de transport'!KK33","v":0},{"$f":"'5. Offre de transport'!KL33","v":0},{"$f":"'5. Offre de transport'!KM33","v":0},{"$f":"'5. Offre de transport'!KN33","v":0},{"$f":"'5. Offre de transport'!KO33","v":0},{"$f":"'5. Offre de transport'!KP33","v":0},{"$f":"'5. Offre de transport'!KQ33","v":0},{"$f":"'5. Offre de transport'!KR33","v":0},{"$f":"'5. Offre de transport'!KS33","v":0},{"$f":"'5. Offre de transport'!KT33","v":0},{"$f":"'5. Offre de transport'!KU33","v":0},{"$f":"'5. Offre de transport'!KV33","v":0},{"$f":"'5. Offre de transport'!KW33","v":0},{"$f":"'5. Offre de transport'!KX33","v":0},{"$f":"'5. Offre de transport'!KY33","v":0},{"$f":"'5. Offre de transport'!KZ33","v":0},{"$f":"'5. Offre de transport'!LA33","v":0},{"$f":"'5. Offre de transport'!LB33","v":0},{"$f":"'5. Offre de transport'!LC33","v":0},{"$f":"'5. Offre de transport'!LD33","v":0},{"$f":"'5. Offre de transport'!LE33","v":0},{"$f":"'5. Offre de transport'!LF33","v":0},{"$f":"'5. Offre de transport'!LG33","v":0},{"$f":"'5. Offre de transport'!LH33","v":0},{"$f":"'5. Offre de transport'!LI33","v":0},{"$f":"'5. Offre de transport'!LJ33","v":0},{"$f":"'5. Offre de transport'!LK33","v":0},{"$f":"'5. Offre de transport'!LL33","v":0},{"$f":"'5. Offre de transport'!LM33","v":0},{"$f":"'5. Offre de transport'!LN33","v":0},{"$f":"'5. Offre de transport'!LO33","v":0},{"$f":"'5. Offre de transport'!LP33","v":0},{"$f":"'5. Offre de transport'!LQ33","v":0},{"$f":"'5. Offre de transport'!LR33","v":0},{"$f":"'5. Offre de transport'!LS33","v":0},{"$f":"'5. Offre de transport'!LT33","v":0},{"$f":"'5. Offre de transport'!LU33","v":0},{"$f":"'5. Offre de transport'!LV33","v":0},{"$f":"'5. Offre de transport'!LW33","v":0},{"$f":"'5. Offre de transport'!LX33","v":0},{"$f":"'5. Offre de transport'!LY33","v":0},{"$f":"'5. Offre de transport'!LZ33","v":0},{"$f":"'5. Offre de transport'!MA33","v":0},{"$f":"'5. Offre de transport'!MB33","v":0},{"$f":"'5. Offre de transport'!MC33","v":0},{"$f":"'5. Offre de transport'!MD33","v":0},{"$f":"'5. Offre de transport'!ME33","v":0},{"$f":"'5. Offre de transport'!MF33","v":0},{"$f":"'5. Offre de transport'!MG33","v":0},{"$f":"'5. Offre de transport'!MH33","v":0},{"$f":"'5. Offre de transport'!MI33","v":0},{"$f":"'5. Offre de transport'!MJ33","v":0},{"$f":"'5. Offre de transport'!MK33","v":0},{"$f":"'5. Offre de transport'!ML33","v":0},{"$f":"'5. Offre de transport'!MM33","v":0},{"$f":"'5. Offre de transport'!MN33","v":0},{"$f":"'5. Offre de transport'!MO33","v":0},{"$f":"'5. Offre de transport'!MP33","v":0},{"$f":"'5. Offre de transport'!MQ33","v":0},{"$f":"'5. Offre de transport'!MR33","v":0},{"$f":"'5. Offre de transport'!MS33","v":0},{"$f":"'5. Offre de transport'!MT33","v":0},{"$f":"'5. Offre de transport'!MU33","v":0},{"$f":"'5. Offre de transport'!MV33","v":0},{"$f":"'5. Offre de transport'!MW33","v":0},{"$f":"'5. Offre de transport'!MX33","v":0},{"$f":"'5. Offre de transport'!MY33","v":0},{"$f":"'5. Offre de transport'!MZ33","v":0}]
[null,{"$f":"'5. Offre de transport'!B34","v":16},{"$f":"'5. Offre de transport'!C34","v":0},{"$f":"'5. Offre de transport'!D34","v":0},{"$f":"'5. Offre de transport'!E34","v":0},{"$f":"'5. Offre de transport'!F34","v":0},{"$f":"'5. Offre de transport'!G34","v":0},{"$f":"'5. Offre de transport'!H34","v":0},{"$f":"'5. Offre de transport'!I34","v":0},{"$f":"'5. Offre de transport'!J34","v":0},{"$f":"'5. Offre de transport'!K34","v":0},{"$f":"'5. Offre de transport'!L34","v":0},{"$f":"'5. Offre de transport'!M34","v":0},{"$f":"'5. Offre de transport'!N34","v":0},{"$f":"'5. Offre de transport'!O34","v":0},{"$f":"'5. Offre de transport'!P34","v":0},{"$f":"'5. Offre de transport'!Q34","v":0},{"$f":"'5. Offre de transport'!R34","v":0},{"$f":"'5. Offre de transport'!S34","v":0},{"$f":"'5. Offre de transport'!T34","v":0},{"$f":"'5. Offre de transport'!U34","v":0},{"$f":"'5. Offre de transport'!V34","v":0},{"$f":"'5. Offre de transport'!W34","v":0},{"$f":"'5. Offre de transport'!X34","v":0},{"$f":"'5. Offre de transport'!Y34","v":0},{"$f":"'5. Offre de transport'!Z34","v":0},{"$f":"'5. Offre de transport'!AA34","v":0},{"$f":"'5. Offre de transport'!AB34","v":0},{"$f":"'5. Offre de transport'!AC34","v":0},{"$f":"'5. Offre de transport'!AD34","v":0},{"$f":"'5. Offre de transport'!AE34","v":0},{"$f":"'5. Offre de transport'!AF34","v":0},{"$f":"'5. Offre de transport'!AG34","v":0},{"$f":"'5. Offre de transport'!AH34","v":0},{"$f":"'5. Offre de transport'!AI34","v":0},{"$f":"'5. Offre de transport'!AJ34","v":0},{"$f":"'5. Offre de transport'!AK34","v":0},{"$f":"'5. Offre de transport'!AL34","v":0},{"$f":"'5. Offre de transport'!AM34","v":0},{"$f":"'5. Offre de transport'!AN34","v":0},{"$f":"'5. Offre de transport'!AO34","v":0},{"$f":"'5. Offre de transport'!AP34","v":0},{"$f":"'5. Offre de transport'!AQ34","v":0},{"$f":"'5. Offre de transport'!AR34","v":0},{"$f":"'5. Offre de transport'!AS34","v":0},{"$f":"'5. Offre de transport'!AT34","v":0},{"$f":"'5. Offre de transport'!AU34","v":0},{"$f":"'5. Offre de transport'!AV34","v":0},{"$f":"'5. Offre de transport'!AW34","v":0},{"$f":"'5. Offre de transport'!AX34","v":0},{"$f":"'5. Offre de transport'!AY34","v":0},{"$f":"'5. Offre de transport'!AZ34","v":0},{"$f":"'5. Offre de transport'!BA34","v":0},{"$f":"'5. Offre de transport'!BB34","v":0},{"$f":"'5. Offre de transport'!BC34","v":0},{"$f":"'5. Offre de transport'!BD34","v":0},{"$f":"'5. Offre de transport'!BE34","v":0},{"$f":"'5. Offre de transport'!BF34","v":0},{"$f":"'5. Offre de transport'!BG34","v":0},{"$f":"'5. Offre de transport'!BH34","v":0},{"$f":"'5. Offre de transport'!BI34","v":0},{"$f":"'5. Offre de transport'!BJ34","v":0},{"$f":"'5. Offre de transport'!BK34","v":0},{"$f":"'5. Offre de transport'!BL34","v":0},{"$f":"'5. Offre de transport'!BM34","v":0},{"$f":"'5. Offre de transport'!BN34","v":0},{"$f":"'5. Offre de transport'!BO34","v":0},{"$f":"'5. Offre de transport'!BP34","v":0},{"$f":"'5. Offre de transport'!BQ34","v":0},{"$f":"'5. Offre de transport'!BR34","v":0},{"$f":"'5. Offre de transport'!BS34","v":0},{"$f":"'5. Offre de transport'!BT34","v":0},{"$f":"'5. Offre de transport'!BU34","v":0},{"$f":"'5. Offre de transport'!BV34","v":0},{"$f":"'5. Offre de transport'!BW34","v":0},{"$f":"'5. Offre de transport'!BX34","v":0},{"$f":"'5. Offre de transport'!BY34","v":0},{"$f":"'5. Offre de transport'!BZ34","v":0},{"$f":"'5. Offre de transport'!CA34","v":0},{"$f":"'5. Offre de transport'!CB34","v":0},{"$f":"'5. Offre de transport'!CC34","v":0},{"$f":"'5. Offre de transport'!CD34","v":0},{"$f":"'5. Offre de transport'!CE34","v":0},{"$f":"'5. Offre de transport'!CF34","v":0},{"$f":"'5. Offre de transport'!CG34","v":0},{"$f":"'5. Offre de transport'!CH34","v":0},{"$f":"'5. Offre de transport'!CI34","v":0},{"$f":"'5. Offre de transport'!CJ34","v":0},{"$f":"'5. Offre de transport'!CK34","v":0},{"$f":"'5. Offre de transport'!CL34","v":0},{"$f":"'5. Offre de transport'!CM34","v":0},{"$f":"'5. Offre de transport'!CN34","v":0},{"$f":"'5. Offre de transport'!CO34","v":0},{"$f":"'5. Offre de transport'!CP34","v":0},{"$f":"'5. Offre de transport'!CQ34","v":0},{"$f":"'5. Offre de transport'!CR34","v":0},{"$f":"'5. Offre de transport'!CS34","v":0},{"$f":"'5. Offre de transport'!CT34","v":0},{"$f":"'5. Offre de transport'!CU34","v":0},{"$f":"'5. Offre de transport'!CV34","v":0},{"$f":"'5. Offre de transport'!CW34","v":0},{"$f":"'5. Offre de transport'!CX34","v":0},{"$f":"'5. Offre de transport'!CY34","v":0},{"$f":"'5. Offre de transport'!CZ34","v":0},{"$f":"'5. Offre de transport'!DA34","v":0},{"$f":"'5. Offre de transport'!DB34","v":0},{"$f":"'5. Offre de transport'!DC34","v":0},{"$f":"'5. Offre de transport'!DD34","v":0},{"$f":"'5. Offre de transport'!DE34","v":0},{"$f":"'5. Offre de transport'!DF34","v":0},{"$f":"'5. Offre de transport'!DG34","v":0},{"$f":"'5. Offre de transport'!DH34","v":0},{"$f":"'5. Offre de transport'!DI34","v":0},{"$f":"'5. Offre de transport'!DJ34","v":0},{"$f":"'5. Offre de transport'!DK34","v":0},{"$f":"'5. Offre de transport'!DL34","v":0},{"$f":"'5. Offre de transport'!DM34","v":0},{"$f":"'5. Offre de transport'!DN34","v":0},{"$f":"'5. Offre de transport'!DO34","v":0},{"$f":"'5. Offre de transport'!DP34","v":0},{"$f":"'5. Offre de transport'!DQ34","v":0},{"$f":"'5. Offre de transport'!DR34","v":0},{"$f":"'5. Offre de transport'!DS34","v":0},{"$f":"'5. Offre de transport'!DT34","v":0},{"$f":"'5. Offre de transport'!DU34","v":0},{"$f":"'5. Offre de transport'!DV34","v":0},{"$f":"'5. Offre de transport'!DW34","v":0},{"$f":"'5. Offre de transport'!DX34","v":0},{"$f":"'5. Offre de transport'!DY34","v":0},{"$f":"'5. Offre de transport'!DZ34","v":0},{"$f":"'5. Offre de transport'!EA34","v":0},{"$f":"'5. Offre de transport'!EB34","v":0},{"$f":"'5. Offre de transport'!EC34","v":0},{"$f":"'5. Offre de transport'!ED34","v":0},{"$f":"'5. Offre de transport'!EE34","v":0},{"$f":"'5. Offre de transport'!EF34","v":0},{"$f":"'5. Offre de transport'!EG34","v":0},{"$f":"'5. Offre de transport'!EH34","v":0},{"$f":"'5. Offre de transport'!EI34","v":0},{"$f":"'5. Offre de transport'!EJ34","v":0},{"$f":"'5. Offre de transport'!EK34","v":0},{"$f":"'5. Offre de transport'!EL34","v":0},{"$f":"'5. Offre de transport'!EM34","v":0},{"$f":"'5. Offre de transport'!EN34","v":0},{"$f":"'5. Offre de transport'!EO34","v":0},{"$f":"'5. Offre de transport'!EP34","v":0},{"$f":"'5. Offre de transport'!EQ34","v":0},{"$f":"'5. Offre de transport'!ER34","v":0},{"$f":"'5. Offre de transport'!ES34","v":0},{"$f":"'5. Offre de transport'!ET34","v":0},{"$f":"'5. Offre de transport'!EU34","v":0},{"$f":"'5. Offre de transport'!EV34","v":0},{"$f":"'5. Offre de transport'!EW34","v":0},{"$f":"'5. Offre de transport'!EX34","v":0},{"$f":"'5. Offre de transport'!EY34","v":0},{"$f":"'5. Offre de transport'!EZ34","v":0},{"$f":"'5. Offre de transport'!FA34","v":0},{"$f":"'5. Offre de transport'!FB34","v":0},{"$f":"'5. Offre de transport'!FC34","v":0},{"$f":"'5. Offre de transport'!FD34","v":0},{"$f":"'5. Offre de transport'!FE34","v":0},{"$f":"'5. Offre de transport'!FF34","v":0},{"$f":"'5. Offre de transport'!FG34","v":0},{"$f":"'5. Offre de transport'!FH34","v":0},{"$f":"'5. Offre de transport'!FI34","v":0},{"$f":"'5. Offre de transport'!FJ34","v":0},{"$f":"'5. Offre de transport'!FK34","v":0},{"$f":"'5. Offre de transport'!FL34","v":0},{"$f":"'5. Offre de transport'!FM34","v":0},{"$f":"'5. Offre de transport'!FN34","v":0},{"$f":"'5. Offre de transport'!FO34","v":0},{"$f":"'5. Offre de transport'!FP34","v":0},{"$f":"'5. Offre de transport'!FQ34","v":0},{"$f":"'5. Offre de transport'!FR34","v":0},{"$f":"'5. Offre de transport'!FS34","v":0},{"$f":"'5. Offre de transport'!FT34","v":0},{"$f":"'5. Offre de transport'!FU34","v":0},{"$f":"'5. Offre de transport'!FV34","v":0},{"$f":"'5. Offre de transport'!FW34","v":0},{"$f":"'5. Offre de transport'!FX34","v":0},{"$f":"'5. Offre de transport'!FY34","v":0},{"$f":"'5. Offre de transport'!FZ34","v":0},{"$f":"'5. Offre de transport'!GA34","v":0},{"$f":"'5. Offre de transport'!GB34","v":0},{"$f":"'5. Offre de transport'!GC34","v":0},{"$f":"'5. Offre de transport'!GD34","v":0},{"$f":"'5. Offre de transport'!GE34","v":0},{"$f":"'5. Offre de transport'!GF34","v":0},{"$f":"'5. Offre de transport'!GG34","v":0},{"$f":"'5. Offre de transport'!GH34","v":0},{"$f":"'5. Offre de transport'!GI34","v":0},{"$f":"'5. Offre de transport'!GJ34","v":0},{"$f":"'5. Offre de transport'!GK34","v":0},{"$f":"'5. Offre de transport'!GL34","v":0},{"$f":"'5. Offre de transport'!GM34","v":0},{"$f":"'5. Offre de transport'!GN34","v":0},{"$f":"'5. Offre de transport'!GO34","v":0},{"$f":"'5. Offre de transport'!GP34","v":0},{"$f":"'5. Offre de transport'!GQ34","v":0},{"$f":"'5. Offre de transport'!GR34","v":0},{"$f":"'5. Offre de transport'!GS34","v":0},{"$f":"'5. Offre de transport'!GT34","v":0},{"$f":"'5. Offre de transport'!GU34","v":0},{"$f":"'5. Offre de transport'!GV34","v":0},{"$f":"'5. Offre de transport'!GW34","v":0},{"$f":"'5. Offre de transport'!GX34","v":0},{"$f":"'5. Offre de transport'!GY34","v":0},{"$f":"'5. Offre de transport'!GZ34","v":0},{"$f":"'5. Offre de transport'!HA34","v":0},{"$f":"'5. Offre de transport'!HB34","v":0},{"$f":"'5. Offre de transport'!HC34","v":0},{"$f":"'5. Offre de transport'!HD34","v":0},{"$f":"'5. Offre de transport'!HE34","v":0},{"$f":"'5. Offre de transport'!HF34","v":0},{"$f":"'5. Offre de transport'!HG34","v":0},{"$f":"'5. Offre de transport'!HH34","v":0},{"$f":"'5. Offre de transport'!HI34","v":0},{"$f":"'5. Offre de transport'!HJ34","v":0},{"$f":"'5. Offre de transport'!HK34","v":0},{"$f":"'5. Offre de transport'!HL34","v":0},{"$f":"'5. Offre de transport'!HM34","v":0},{"$f":"'5. Offre de transport'!HN34","v":0},{"$f":"'5. Offre de transport'!HO34","v":0},{"$f":"'5. Offre de transport'!HP34","v":0},{"$f":"'5. Offre de transport'!HQ34","v":0},{"$f":"'5. Offre de transport'!HR34","v":0},{"$f":"'5. Offre de transport'!HS34","v":0},{"$f":"'5. Offre de transport'!HT34","v":0},{"$f":"'5. Offre de transport'!HU34","v":0},{"$f":"'5. Offre de transport'!HV34","v":0},{"$f":"'5. Offre de transport'!HW34","v":0},{"$f":"'5. Offre de transport'!HX34","v":0},{"$f":"'5. Offre de transport'!HY34","v":0},{"$f":"'5. Offre de transport'!HZ34","v":0},{"$f":"'5. Offre de transport'!IA34","v":0},{"$f":"'5. Offre de transport'!IB34","v":0},{"$f":"'5. Offre de transport'!IC34","v":0},{"$f":"'5. Offre de transport'!ID34","v":0},{"$f":"'5. Offre de transport'!IE34","v":0},{"$f":"'5. Offre de transport'!IF34","v":0},{"$f":"'5. Offre de transport'!IG34","v":0},{"$f":"'5. Offre de transport'!IH34","v":0},{"$f":"'5. Offre de transport'!II34","v":0},{"$f":"'5. Offre de transport'!IJ34","v":0},{"$f":"'5. Offre de transport'!IK34","v":0},{"$f":"'5. Offre de transport'!IL34","v":0},{"$f":"'5. Offre de transport'!IM34","v":0},{"$f":"'5. Offre de transport'!IN34","v":0},{"$f":"'5. Offre de transport'!IO34","v":0},{"$f":"'5. Offre de transport'!IP34","v":0},{"$f":"'5. Offre de transport'!IQ34","v":0},{"$f":"'5. Offre de transport'!IR34","v":0},{"$f":"'5. Offre de transport'!IS34","v":0},{"$f":"'5. Offre de transport'!IT34","v":0},{"$f":"'5. Offre de transport'!IU34","v":0},{"$f":"'5. Offre de transport'!IV34","v":0},{"$f":"'5. Offre de transport'!IW34","v":0},{"$f":"'5. Offre de transport'!IX34","v":0},{"$f":"'5. Offre de transport'!IY34","v":0},{"$f":"'5. Offre de transport'!IZ34","v":0},{"$f":"'5. Offre de transport'!JA34","v":0},{"$f":"'5. Offre de transport'!JB34","v":0},{"$f":"'5. Offre de transport'!JC34","v":0},{"$f":"'5. Offre de transport'!JD34","v":0},{"$f":"'5. Offre de transport'!JE34","v":0},{"$f":"'5. Offre de transport'!JF34","v":0},{"$f":"'5. Offre de transport'!JG34","v":0},{"$f":"'5. Offre de transport'!JH34","v":0},{"$f":"'5. Offre de transport'!JI34","v":0},{"$f":"'5. Offre de transport'!JJ34","v":0},{"$f":"'5. Offre de transport'!JK34","v":0},{"$f":"'5. Offre de transport'!JL34","v":0},{"$f":"'5. Offre de transport'!JM34","v":0},{"$f":"'5. Offre de transport'!JN34","v":0},{"$f":"'5. Offre de transport'!JO34","v":0},{"$f":"'5. Offre de transport'!JP34","v":0},{"$f":"'5. Offre de transport'!JQ34","v":0},{"$f":"'5. Offre de transport'!JR34","v":0},{"$f":"'5. Offre de transport'!JS34","v":0},{"$f":"'5. Offre de transport'!JT34","v":0},{"$f":"'5. Offre de transport'!JU34","v":0},{"$f":"'5. Offre de transport'!JV34","v":0},{"$f":"'5. Offre de transport'!JW34","v":0},{"$f":"'5. Offre de transport'!JX34","v":0},{"$f":"'5. Offre de transport'!JY34","v":0},{"$f":"'5. Offre de transport'!JZ34","v":0},{"$f":"'5. Offre de transport'!KA34","v":0},{"$f":"'5. Offre de transport'!KB34","v":0},{"$f":"'5. Offre de transport'!KC34","v":0},{"$f":"'5. Offre de transport'!KD34","v":0},{"$f":"'5. Offre de transport'!KE34","v":0},{"$f":"'5. Offre de transport'!KF34","v":0},{"$f":"'5. Offre de transport'!KG34","v":0},{"$f":"'5. Offre de transport'!KH34","v":0},{"$f":"'5. Offre de transport'!KI34","v":0},{"$f":"'5. Offre de transport'!KJ34","v":0},{"$f":"'5. Offre de transport'!KK34","v":0},{"$f":"'5. Offre de transport'!KL34","v":0},{"$f":"'5. Offre de transport'!KM34","v":0},{"$f":"'5. Offre de transport'!KN34","v":0},{"$f":"'5. Offre de transport'!KO34","v":0},{"$f":"'5. Offre de transport'!KP34","v":0},{"$f":"'5. Offre de transport'!KQ34","v":0},{"$f":"'5. Offre de transport'!KR34","v":0},{"$f":"'5. Offre de transport'!KS34","v":0},{"$f":"'5. Offre de transport'!KT34","v":0},{"$f":"'5. Offre de transport'!KU34","v":0},{"$f":"'5. Offre de transport'!KV34","v":0},{"$f":"'5. Offre de transport'!KW34","v":0},{"$f":"'5. Offre de transport'!KX34","v":0},{"$f":"'5. Offre de transport'!KY34","v":0},{"$f":"'5. Offre de transport'!KZ34","v":0},{"$f":"'5. Offre de transport'!LA34","v":0},{"$f":"'5. Offre de transport'!LB34","v":0},{"$f":"'5. Offre de transport'!LC34","v":0},{"$f":"'5. Offre de transport'!LD34","v":0},{"$f":"'5. Offre de transport'!LE34","v":0},{"$f":"'5. Offre de transport'!LF34","v":0},{"$f":"'5. Offre de transport'!LG34","v":0},{"$f":"'5. Offre de transport'!LH34","v":0},{"$f":"'5. Offre de transport'!LI34","v":0},{"$f":"'5. Offre de transport'!LJ34","v":0},{"$f":"'5. Offre de transport'!LK34","v":0},{"$f":"'5. Offre de transport'!LL34","v":0},{"$f":"'5. Offre de transport'!LM34","v":0},{"$f":"'5. Offre de transport'!LN34","v":0},{"$f":"'5. Offre de transport'!LO34","v":0},{"$f":"'5. Offre de transport'!LP34","v":0},{"$f":"'5. Offre de transport'!LQ34","v":0},{"$f":"'5. Offre de transport'!LR34","v":0},{"$f":"'5. Offre de transport'!LS34","v":0},{"$f":"'5. Offre de transport'!LT34","v":0},{"$f":"'5. Offre de transport'!LU34","v":0},{"$f":"'5. Offre de transport'!LV34","v":0},{"$f":"'5. Offre de transport'!LW34","v":0},{"$f":"'5. Offre de transport'!LX34","v":0},{"$f":"'5. Offre de transport'!LY34","v":0},{"$f":"'5. Offre de transport'!LZ34","v":0},{"$f":"'5. Offre de transport'!MA34","v":0},{"$f":"'5. Offre de transport'!MB34","v":0},{"$f":"'5. Offre de transport'!MC34","v":0},{"$f":"'5. Offre de transport'!MD34","v":0},{"$f":"'5. Offre de transport'!ME34","v":0},{"$f":"'5. Offre de transport'!MF34","v":0},{"$f":"'5. Offre de transport'!MG34","v":0},{"$f":"'5. Offre de transport'!MH34","v":0},{"$f":"'5. Offre de transport'!MI34","v":0},{"$f":"'5. Offre de transport'!MJ34","v":0},{"$f":"'5. Offre de transport'!MK34","v":0},{"$f":"'5. Offre de transport'!ML34","v":0},{"$f":"'5. Offre de transport'!MM34","v":0},{"$f":"'5. Offre de transport'!MN34","v":0},{"$f":"'5. Offre de transport'!MO34","v":0},{"$f":"'5. Offre de transport'!MP34","v":0},{"$f":"'5. Offre de transport'!MQ34","v":0},{"$f":"'5. Offre de transport'!MR34","v":0},{"$f":"'5. Offre de transport'!MS34","v":0},{"$f":"'5. Offre de transport'!MT34","v":0},{"$f":"'5. Offre de transport'!MU34","v":0},{"$f":"'5. Offre de transport'!MV34","v":0},{"$f":"'5. Offre de transport'!MW34","v":0},{"$f":"'5. Offre de transport'!MX34","v":0},{"$f":"'5. Offre de transport'!MY34","v":0},{"$f":"'5. Offre de transport'!MZ34","v":0}]
[null,{"$f":"'5. Offre de transport'!B35","v":17},{"$f":"'5. Offre de transport'!C35","v":0},{"$f":"'5. Offre de transport'!D35","v":0},{"$f":"'5. Offre de transport'!E35","v":0},{"$f":"'5. Offre de transport'!F35","v":0},{"$f":"'5. Offre de transport'!G35","v":0},{"$f":"'5. Offre de transport'!H35","v":0},{"$f":"'5. Offre de transport'!I35","v":0},{"$f":"'5. Offre de transport'!J35","v":0},{"$f":"'5. Offre de transport'!K35","v":0},{"$f":"'5. Offre de transport'!L35","v":0},{"$f":"'5. Offre de transport'!M35","v":0},{"$f":"'5. Offre de transport'!N35","v":0},{"$f":"'5. Offre de transport'!O35","v":0},{"$f":"'5. Offre de transport'!P35","v":0},{"$f":"'5. Offre de transport'!Q35","v":0},{"$f":"'5. Offre de transport'!R35","v":0},{"$f":"'5. Offre de transport'!S35","v":0},{"$f":"'5. Offre de transport'!T35","v":0},{"$f":"'5. Offre de transport'!U35","v":0},{"$f":"'5. Offre de transport'!V35","v":0},{"$f":"'5. Offre de transport'!W35","v":0},{"$f":"'5. Offre de transport'!X35","v":0},{"$f":"'5. Offre de transport'!Y35","v":0},{"$f":"'5. Offre de transport'!Z35","v":0},{"$f":"'5. Offre de transport'!AA35","v":0},{"$f":"'5. Offre de transport'!AB35","v":0},{"$f":"'5. Offre de transport'!AC35","v":0},{"$f":"'5. Offre de transport'!AD35","v":0},{"$f":"'5. Offre de transport'!AE35","v":0},{"$f":"'5. Offre de transport'!AF35","v":0},{"$f":"'5. Offre de transport'!AG35","v":0},{"$f":"'5. Offre de transport'!AH35","v":0},{"$f":"'5. Offre de transport'!AI35","v":0},{"$f":"'5. Offre de transport'!AJ35","v":0},{"$f":"'5. Offre de transport'!AK35","v":0},{"$f":"'5. Offre de transport'!AL35","v":0},{"$f":"'5. Offre de transport'!AM35","v":0},{"$f":"'5. Offre de transport'!AN35","v":0},{"$f":"'5. Offre de transport'!AO35","v":0},{"$f":"'5. Offre de transport'!AP35","v":0},{"$f":"'5. Offre de transport'!AQ35","v":0},{"$f":"'5. Offre de transport'!AR35","v":0},{"$f":"'5. Offre de transport'!AS35","v":0},{"$f":"'5. Offre de transport'!AT35","v":0},{"$f":"'5. Offre de transport'!AU35","v":0},{"$f":"'5. Offre de transport'!AV35","v":0},{"$f":"'5. Offre de transport'!AW35","v":0},{"$f":"'5. Offre de transport'!AX35","v":0},{"$f":"'5. Offre de transport'!AY35","v":0},{"$f":"'5. Offre de transport'!AZ35","v":0},{"$f":"'5. Offre de transport'!BA35","v":0},{"$f":"'5. Offre de transport'!BB35","v":0},{"$f":"'5. Offre de transport'!BC35","v":0},{"$f":"'5. Offre de transport'!BD35","v":0},{"$f":"'5. Offre de transport'!BE35","v":0},{"$f":"'5. Offre de transport'!BF35","v":0},{"$f":"'5. Offre de transport'!BG35","v":0},{"$f":"'5. Offre de transport'!BH35","v":0},{"$f":"'5. Offre de transport'!BI35","v":0},{"$f":"'5. Offre de transport'!BJ35","v":0},{"$f":"'5. Offre de transport'!BK35","v":0},{"$f":"'5. Offre de transport'!BL35","v":0},{"$f":"'5. Offre de transport'!BM35","v":0},{"$f":"'5. Offre de transport'!BN35","v":0},{"$f":"'5. Offre de transport'!BO35","v":0},{"$f":"'5. Offre de transport'!BP35","v":0},{"$f":"'5. Offre de transport'!BQ35","v":0},{"$f":"'5. Offre de transport'!BR35","v":0},{"$f":"'5. Offre de transport'!BS35","v":0},{"$f":"'5. Offre de transport'!BT35","v":0},{"$f":"'5. Offre de transport'!BU35","v":0},{"$f":"'5. Offre de transport'!BV35","v":0},{"$f":"'5. Offre de transport'!BW35","v":0},{"$f":"'5. Offre de transport'!BX35","v":0},{"$f":"'5. Offre de transport'!BY35","v":0},{"$f":"'5. Offre de transport'!BZ35","v":0},{"$f":"'5. Offre de transport'!CA35","v":0},{"$f":"'5. Offre de transport'!CB35","v":0},{"$f":"'5. Offre de transport'!CC35","v":0},{"$f":"'5. Offre de transport'!CD35","v":0},{"$f":"'5. Offre de transport'!CE35","v":0},{"$f":"'5. Offre de transport'!CF35","v":0},{"$f":"'5. Offre de transport'!CG35","v":0},{"$f":"'5. Offre de transport'!CH35","v":0},{"$f":"'5. Offre de transport'!CI35","v":0},{"$f":"'5. Offre de transport'!CJ35","v":0},{"$f":"'5. Offre de transport'!CK35","v":0},{"$f":"'5. Offre de transport'!CL35","v":0},{"$f":"'5. Offre de transport'!CM35","v":0},{"$f":"'5. Offre de transport'!CN35","v":0},{"$f":"'5. Offre de transport'!CO35","v":0},{"$f":"'5. Offre de transport'!CP35","v":0},{"$f":"'5. Offre de transport'!CQ35","v":0},{"$f":"'5. Offre de transport'!CR35","v":0},{"$f":"'5. Offre de transport'!CS35","v":0},{"$f":"'5. Offre de transport'!CT35","v":0},{"$f":"'5. Offre de transport'!CU35","v":0},{"$f":"'5. Offre de transport'!CV35","v":0},{"$f":"'5. Offre de transport'!CW35","v":0},{"$f":"'5. Offre de transport'!CX35","v":0},{"$f":"'5. Offre de transport'!CY35","v":0},{"$f":"'5. Offre de transport'!CZ35","v":0},{"$f":"'5. Offre de transport'!DA35","v":0},{"$f":"'5. Offre de transport'!DB35","v":0},{"$f":"'5. Offre de transport'!DC35","v":0},{"$f":"'5. Offre de transport'!DD35","v":0},{"$f":"'5. Offre de transport'!DE35","v":0},{"$f":"'5. Offre de transport'!DF35","v":0},{"$f":"'5. Offre de transport'!DG35","v":0},{"$f":"'5. Offre de transport'!DH35","v":0},{"$f":"'5. Offre de transport'!DI35","v":0},{"$f":"'5. Offre de transport'!DJ35","v":0},{"$f":"'5. Offre de transport'!DK35","v":0},{"$f":"'5. Offre de transport'!DL35","v":0},{"$f":"'5. Offre de transport'!DM35","v":0},{"$f":"'5. Offre de transport'!DN35","v":0},{"$f":"'5. Offre de transport'!DO35","v":0},{"$f":"'5. Offre de transport'!DP35","v":0},{"$f":"'5. Offre de transport'!DQ35","v":0},{"$f":"'5. Offre de transport'!DR35","v":0},{"$f":"'5. Offre de transport'!DS35","v":0},{"$f":"'5. Offre de transport'!DT35","v":0},{"$f":"'5. Offre de transport'!DU35","v":0},{"$f":"'5. Offre de transport'!DV35","v":0},{"$f":"'5. Offre de transport'!DW35","v":0},{"$f":"'5. Offre de transport'!DX35","v":0},{"$f":"'5. Offre de transport'!DY35","v":0},{"$f":"'5. Offre de transport'!DZ35","v":0},{"$f":"'5. Offre de transport'!EA35","v":0},{"$f":"'5. Offre de transport'!EB35","v":0},{"$f":"'5. Offre de transport'!EC35","v":0},{"$f":"'5. Offre de transport'!ED35","v":0},{"$f":"'5. Offre de transport'!EE35","v":0},{"$f":"'5. Offre de transport'!EF35","v":0},{"$f":"'5. Offre de transport'!EG35","v":0},{"$f":"'5. Offre de transport'!EH35","v":0},{"$f":"'5. Offre de transport'!EI35","v":0},{"$f":"'5. Offre de transport'!EJ35","v":0},{"$f":"'5. Offre de transport'!EK35","v":0},{"$f":"'5. Offre de transport'!EL35","v":0},{"$f":"'5. Offre de transport'!EM35","v":0},{"$f":"'5. Offre de transport'!EN35","v":0},{"$f":"'5. Offre de transport'!EO35","v":0},{"$f":"'5. Offre de transport'!EP35","v":0},{"$f":"'5. Offre de transport'!EQ35","v":0},{"$f":"'5. Offre de transport'!ER35","v":0},{"$f":"'5. Offre de transport'!ES35","v":0},{"$f":"'5. Offre de transport'!ET35","v":0},{"$f":"'5. Offre de transport'!EU35","v":0},{"$f":"'5. Offre de transport'!EV35","v":0},{"$f":"'5. Offre de transport'!EW35","v":0},{"$f":"'5. Offre de transport'!EX35","v":0},{"$f":"'5. Offre de transport'!EY35","v":0},{"$f":"'5. Offre de transport'!EZ35","v":0},{"$f":"'5. Offre de transport'!FA35","v":0},{"$f":"'5. Offre de transport'!FB35","v":0},{"$f":"'5. Offre de transport'!FC35","v":0},{"$f":"'5. Offre de transport'!FD35","v":0},{"$f":"'5. Offre de transport'!FE35","v":0},{"$f":"'5. Offre de transport'!FF35","v":0},{"$f":"'5. Offre de transport'!FG35","v":0},{"$f":"'5. Offre de transport'!FH35","v":0},{"$f":"'5. Offre de transport'!FI35","v":0},{"$f":"'5. Offre de transport'!FJ35","v":0},{"$f":"'5. Offre de transport'!FK35","v":0},{"$f":"'5. Offre de transport'!FL35","v":0},{"$f":"'5. Offre de transport'!FM35","v":0},{"$f":"'5. Offre de transport'!FN35","v":0},{"$f":"'5. Offre de transport'!FO35","v":0},{"$f":"'5. Offre de transport'!FP35","v":0},{"$f":"'5. Offre de transport'!FQ35","v":0},{"$f":"'5. Offre de transport'!FR35","v":0},{"$f":"'5. Offre de transport'!FS35","v":0},{"$f":"'5. Offre de transport'!FT35","v":0},{"$f":"'5. Offre de transport'!FU35","v":0},{"$f":"'5. Offre de transport'!FV35","v":0},{"$f":"'5. Offre de transport'!FW35","v":0},{"$f":"'5. Offre de transport'!FX35","v":0},{"$f":"'5. Offre de transport'!FY35","v":0},{"$f":"'5. Offre de transport'!FZ35","v":0},{"$f":"'5. Offre de transport'!GA35","v":0},{"$f":"'5. Offre de transport'!GB35","v":0},{"$f":"'5. Offre de transport'!GC35","v":0},{"$f":"'5. Offre de transport'!GD35","v":0},{"$f":"'5. Offre de transport'!GE35","v":0},{"$f":"'5. Offre de transport'!GF35","v":0},{"$f":"'5. Offre de transport'!GG35","v":0},{"$f":"'5. Offre de transport'!GH35","v":0},{"$f":"'5. Offre de transport'!GI35","v":0},{"$f":"'5. Offre de transport'!GJ35","v":0},{"$f":"'5. Offre de transport'!GK35","v":0},{"$f":"'5. Offre de transport'!GL35","v":0},{"$f":"'5. Offre de transport'!GM35","v":0},{"$f":"'5. Offre de transport'!GN35","v":0},{"$f":"'5. Offre de transport'!GO35","v":0},{"$f":"'5. Offre de transport'!GP35","v":0},{"$f":"'5. Offre de transport'!GQ35","v":0},{"$f":"'5. Offre de transport'!GR35","v":0},{"$f":"'5. Offre de transport'!GS35","v":0},{"$f":"'5. Offre de transport'!GT35","v":0},{"$f":"'5. Offre de transport'!GU35","v":0},{"$f":"'5. Offre de transport'!GV35","v":0},{"$f":"'5. Offre de transport'!GW35","v":0},{"$f":"'5. Offre de transport'!GX35","v":0},{"$f":"'5. Offre de transport'!GY35","v":0},{"$f":"'5. Offre de transport'!GZ35","v":0},{"$f":"'5. Offre de transport'!HA35","v":0},{"$f":"'5. Offre de transport'!HB35","v":0},{"$f":"'5. Offre de transport'!HC35","v":0},{"$f":"'5. Offre de transport'!HD35","v":0},{"$f":"'5. Offre de transport'!HE35","v":0},{"$f":"'5. Offre de transport'!HF35","v":0},{"$f":"'5. Offre de transport'!HG35","v":0},{"$f":"'5. Offre de transport'!HH35","v":0},{"$f":"'5. Offre de transport'!HI35","v":0},{"$f":"'5. Offre de transport'!HJ35","v":0},{"$f":"'5. Offre de transport'!HK35","v":0},{"$f":"'5. Offre de transport'!HL35","v":0},{"$f":"'5. Offre de transport'!HM35","v":0},{"$f":"'5. Offre de transport'!HN35","v":0},{"$f":"'5. Offre de transport'!HO35","v":0},{"$f":"'5. Offre de transport'!HP35","v":0},{"$f":"'5. Offre de transport'!HQ35","v":0},{"$f":"'5. Offre de transport'!HR35","v":0},{"$f":"'5. Offre de transport'!HS35","v":0},{"$f":"'5. Offre de transport'!HT35","v":0},{"$f":"'5. Offre de transport'!HU35","v":0},{"$f":"'5. Offre de transport'!HV35","v":0},{"$f":"'5. Offre de transport'!HW35","v":0},{"$f":"'5. Offre de transport'!HX35","v":0},{"$f":"'5. Offre de transport'!HY35","v":0},{"$f":"'5. Offre de transport'!HZ35","v":0},{"$f":"'5. Offre de transport'!IA35","v":0},{"$f":"'5. Offre de transport'!IB35","v":0},{"$f":"'5. Offre de transport'!IC35","v":0},{"$f":"'5. Offre de transport'!ID35","v":0},{"$f":"'5. Offre de transport'!IE35","v":0},{"$f":"'5. Offre de transport'!IF35","v":0},{"$f":"'5. Offre de transport'!IG35","v":0},{"$f":"'5. Offre de transport'!IH35","v":0},{"$f":"'5. Offre de transport'!II35","v":0},{"$f":"'5. Offre de transport'!IJ35","v":0},{"$f":"'5. Offre de transport'!IK35","v":0},{"$f":"'5. Offre de transport'!IL35","v":0},{"$f":"'5. Offre de transport'!IM35","v":0},{"$f":"'5. Offre de transport'!IN35","v":0},{"$f":"'5. Offre de transport'!IO35","v":0},{"$f":"'5. Offre de transport'!IP35","v":0},{"$f":"'5. Offre de transport'!IQ35","v":0},{"$f":"'5. Offre de transport'!IR35","v":0},{"$f":"'5. Offre de transport'!IS35","v":0},{"$f":"'5. Offre de transport'!IT35","v":0},{"$f":"'5. Offre de transport'!IU35","v":0},{"$f":"'5. Offre de transport'!IV35","v":0},{"$f":"'5. Offre de transport'!IW35","v":0},{"$f":"'5. Offre de transport'!IX35","v":0},{"$f":"'5. Offre de transport'!IY35","v":0},{"$f":"'5. Offre de transport'!IZ35","v":0},{"$f":"'5. Offre de transport'!JA35","v":0},{"$f":"'5. Offre de transport'!JB35","v":0},{"$f":"'5. Offre de transport'!JC35","v":0},{"$f":"'5. Offre de transport'!JD35","v":0},{"$f":"'5. Offre de transport'!JE35","v":0},{"$f":"'5. Offre de transport'!JF35","v":0},{"$f":"'5. Offre de transport'!JG35","v":0},{"$f":"'5. Offre de transport'!JH35","v":0},{"$f":"'5. Offre de transport'!JI35","v":0},{"$f":"'5. Offre de transport'!JJ35","v":0},{"$f":"'5. Offre de transport'!JK35","v":0},{"$f":"'5. Offre de transport'!JL35","v":0},{"$f":"'5. Offre de transport'!JM35","v":0},{"$f":"'5. Offre de transport'!JN35","v":0},{"$f":"'5. Offre de transport'!JO35","v":0},{"$f":"'5. Offre de transport'!JP35","v":0},{"$f":"'5. Offre de transport'!JQ35","v":0},{"$f":"'5. Offre de transport'!JR35","v":0},{"$f":"'5. Offre de transport'!JS35","v":0},{"$f":"'5. Offre de transport'!JT35","v":0},{"$f":"'5. Offre de transport'!JU35","v":0},{"$f":"'5. Offre de transport'!JV35","v":0},{"$f":"'5. Offre de transport'!JW35","v":0},{"$f":"'5. Offre de transport'!JX35","v":0},{"$f":"'5. Offre de transport'!JY35","v":0},{"$f":"'5. Offre de transport'!JZ35","v":0},{"$f":"'5. Offre de transport'!KA35","v":0},{"$f":"'5. Offre de transport'!KB35","v":0},{"$f":"'5. Offre de transport'!KC35","v":0},{"$f":"'5. Offre de transport'!KD35","v":0},{"$f":"'5. Offre de transport'!KE35","v":0},{"$f":"'5. Offre de transport'!KF35","v":0},{"$f":"'5. Offre de transport'!KG35","v":0},{"$f":"'5. Offre de transport'!KH35","v":0},{"$f":"'5. Offre de transport'!KI35","v":0},{"$f":"'5. Offre de transport'!KJ35","v":0},{"$f":"'5. Offre de transport'!KK35","v":0},{"$f":"'5. Offre de transport'!KL35","v":0},{"$f":"'5. Offre de transport'!KM35","v":0},{"$f":"'5. Offre de transport'!KN35","v":0},{"$f":"'5. Offre de transport'!KO35","v":0},{"$f":"'5. Offre de transport'!KP35","v":0},{"$f":"'5. Offre de transport'!KQ35","v":0},{"$f":"'5. Offre de transport'!KR35","v":0},{"$f":"'5. Offre de transport'!KS35","v":0},{"$f":"'5. Offre de transport'!KT35","v":0},{"$f":"'5. Offre de transport'!KU35","v":0},{"$f":"'5. Offre de transport'!KV35","v":0},{"$f":"'5. Offre de transport'!KW35","v":0},{"$f":"'5. Offre de transport'!KX35","v":0},{"$f":"'5. Offre de transport'!KY35","v":0},{"$f":"'5. Offre de transport'!KZ35","v":0},{"$f":"'5. Offre de transport'!LA35","v":0},{"$f":"'5. Offre de transport'!LB35","v":0},{"$f":"'5. Offre de transport'!LC35","v":0},{"$f":"'5. Offre de transport'!LD35","v":0},{"$f":"'5. Offre de transport'!LE35","v":0},{"$f":"'5. Offre de transport'!LF35","v":0},{"$f":"'5. Offre de transport'!LG35","v":0},{"$f":"'5. Offre de transport'!LH35","v":0},{"$f":"'5. Offre de transport'!LI35","v":0},{"$f":"'5. Offre de transport'!LJ35","v":0},{"$f":"'5. Offre de transport'!LK35","v":0},{"$f":"'5. Offre de transport'!LL35","v":0},{"$f":"'5. Offre de transport'!LM35","v":0},{"$f":"'5. Offre de transport'!LN35","v":0},{"$f":"'5. Offre de transport'!LO35","v":0},{"$f":"'5. Offre de transport'!LP35","v":0},{"$f":"'5. Offre de transport'!LQ35","v":0},{"$f":"'5. Offre de transport'!LR35","v":0},{"$f":"'5. Offre de transport'!LS35","v":0},{"$f":"'5. Offre de transport'!LT35","v":0},{"$f":"'5. Offre de transport'!LU35","v":0},{"$f":"'5. Offre de transport'!LV35","v":0},{"$f":"'5. Offre de transport'!LW35","v":0},{"$f":"'5. Offre de transport'!LX35","v":0},{"$f":"'5. Offre de transport'!LY35","v":0},{"$f":"'5. Offre de transport'!LZ35","v":0},{"$f":"'5. Offre de transport'!MA35","v":0},{"$f":"'5. Offre de transport'!MB35","v":0},{"$f":"'5. Offre de transport'!MC35","v":0},{"$f":"'5. Offre de transport'!MD35","v":0},{"$f":"'5. Offre de transport'!ME35","v":0},{"$f":"'5. Offre de transport'!MF35","v":0},{"$f":"'5. Offre de transport'!MG35","v":0},{"$f":"'5. Offre de transport'!MH35","v":0},{"$f":"'5. Offre de transport'!MI35","v":0},{"$f":"'5. Offre de transport'!MJ35","v":0},{"$f":"'5. Offre de transport'!MK35","v":0},{"$f":"'5. Offre de transport'!ML35","v":0},{"$f":"'5. Offre de transport'!MM35","v":0},{"$f":"'5. Offre de transport'!MN35","v":0},{"$f":"'5. Offre de transport'!MO35","v":0},{"$f":"'5. Offre de transport'!MP35","v":0},{"$f":"'5. Offre de transport'!MQ35","v":0},{"$f":"'5. Offre de transport'!MR35","v":0},{"$f":"'5. Offre de transport'!MS35","v":0},{"$f":"'5. Offre de transport'!MT35","v":0},{"$f":"'5. Offre de transport'!MU35","v":0},{"$f":"'5. Offre de transport'!MV35","v":0},{"$f":"'5. Offre de transport'!MW35","v":0},{"$f":"'5. Offre de transport'!MX35","v":0},{"$f":"'5. Offre de transport'!MY35","v":0},{"$f":"'5. Offre de transport'!MZ35","v":0}]
[null,{"$f":"'5. Offre de transport'!B36","v":18},{"$f":"'5. Offre de transport'!C36","v":0},{"$f":"'5. Offre de transport'!D36","v":0},{"$f":"'5. Offre de transport'!E36","v":0},{"$f":"'5. Offre de transport'!F36","v":0},{"$f":"'5. Offre de transport'!G36","v":0},{"$f":"'5. Offre de transport'!H36","v":0},{"$f":"'5. Offre de transport'!I36","v":0},{"$f":"'5. Offre de transport'!J36","v":0},{"$f":"'5. Offre de transport'!K36","v":0},{"$f":"'5. Offre de transport'!L36","v":0},{"$f":"'5. Offre de transport'!M36","v":0},{"$f":"'5. Offre de transport'!N36","v":0},{"$f":"'5. Offre de transport'!O36","v":0},{"$f":"'5. Offre de transport'!P36","v":0},{"$f":"'5. Offre de transport'!Q36","v":0},{"$f":"'5. Offre de transport'!R36","v":0},{"$f":"'5. Offre de transport'!S36","v":0},{"$f":"'5. Offre de transport'!T36","v":0},{"$f":"'5. Offre de transport'!U36","v":0},{"$f":"'5. Offre de transport'!V36","v":0},{"$f":"'5. Offre de transport'!W36","v":0},{"$f":"'5. Offre de transport'!X36","v":0},{"$f":"'5. Offre de transport'!Y36","v":0},{"$f":"'5. Offre de transport'!Z36","v":0},{"$f":"'5. Offre de transport'!AA36","v":0},{"$f":"'5. Offre de transport'!AB36","v":0},{"$f":"'5. Offre de transport'!AC36","v":0},{"$f":"'5. Offre de transport'!AD36","v":0},{"$f":"'5. Offre de transport'!AE36","v":0},{"$f":"'5. Offre de transport'!AF36","v":0},{"$f":"'5. Offre de transport'!AG36","v":0},{"$f":"'5. Offre de transport'!AH36","v":0},{"$f":"'5. Offre de transport'!AI36","v":0},{"$f":"'5. Offre de transport'!AJ36","v":0},{"$f":"'5. Offre de transport'!AK36","v":0},{"$f":"'5. Offre de transport'!AL36","v":0},{"$f":"'5. Offre de transport'!AM36","v":0},{"$f":"'5. Offre de transport'!AN36","v":0},{"$f":"'5. Offre de transport'!AO36","v":0},{"$f":"'5. Offre de transport'!AP36","v":0},{"$f":"'5. Offre de transport'!AQ36","v":0},{"$f":"'5. Offre de transport'!AR36","v":0},{"$f":"'5. Offre de transport'!AS36","v":0},{"$f":"'5. Offre de transport'!AT36","v":0},{"$f":"'5. Offre de transport'!AU36","v":0},{"$f":"'5. Offre de transport'!AV36","v":0},{"$f":"'5. Offre de transport'!AW36","v":0},{"$f":"'5. Offre de transport'!AX36","v":0},{"$f":"'5. Offre de transport'!AY36","v":0},{"$f":"'5. Offre de transport'!AZ36","v":0},{"$f":"'5. Offre de transport'!BA36","v":0},{"$f":"'5. Offre de transport'!BB36","v":0},{"$f":"'5. Offre de transport'!BC36","v":0},{"$f":"'5. Offre de transport'!BD36","v":0},{"$f":"'5. Offre de transport'!BE36","v":0},{"$f":"'5. Offre de transport'!BF36","v":0},{"$f":"'5. Offre de transport'!BG36","v":0},{"$f":"'5. Offre de transport'!BH36","v":0},{"$f":"'5. Offre de transport'!BI36","v":0},{"$f":"'5. Offre de transport'!BJ36","v":0},{"$f":"'5. Offre de transport'!BK36","v":0},{"$f":"'5. Offre de transport'!BL36","v":0},{"$f":"'5. Offre de transport'!BM36","v":0},{"$f":"'5. Offre de transport'!BN36","v":0},{"$f":"'5. Offre de transport'!BO36","v":0},{"$f":"'5. Offre de transport'!BP36","v":0},{"$f":"'5. Offre de transport'!BQ36","v":0},{"$f":"'5. Offre de transport'!BR36","v":0},{"$f":"'5. Offre de transport'!BS36","v":0},{"$f":"'5. Offre de transport'!BT36","v":0},{"$f":"'5. Offre de transport'!BU36","v":0},{"$f":"'5. Offre de transport'!BV36","v":0},{"$f":"'5. Offre de transport'!BW36","v":0},{"$f":"'5. Offre de transport'!BX36","v":0},{"$f":"'5. Offre de transport'!BY36","v":0},{"$f":"'5. Offre de transport'!BZ36","v":0},{"$f":"'5. Offre de transport'!CA36","v":0},{"$f":"'5. Offre de transport'!CB36","v":0},{"$f":"'5. Offre de transport'!CC36","v":0},{"$f":"'5. Offre de transport'!CD36","v":0},{"$f":"'5. Offre de transport'!CE36","v":0},{"$f":"'5. Offre de transport'!CF36","v":0},{"$f":"'5. Offre de transport'!CG36","v":0},{"$f":"'5. Offre de transport'!CH36","v":0},{"$f":"'5. Offre de transport'!CI36","v":0},{"$f":"'5. Offre de transport'!CJ36","v":0},{"$f":"'5. Offre de transport'!CK36","v":0},{"$f":"'5. Offre de transport'!CL36","v":0},{"$f":"'5. Offre de transport'!CM36","v":0},{"$f":"'5. Offre de transport'!CN36","v":0},{"$f":"'5. Offre de transport'!CO36","v":0},{"$f":"'5. Offre de transport'!CP36","v":0},{"$f":"'5. Offre de transport'!CQ36","v":0},{"$f":"'5. Offre de transport'!CR36","v":0},{"$f":"'5. Offre de transport'!CS36","v":0},{"$f":"'5. Offre de transport'!CT36","v":0},{"$f":"'5. Offre de transport'!CU36","v":0},{"$f":"'5. Offre de transport'!CV36","v":0},{"$f":"'5. Offre de transport'!CW36","v":0},{"$f":"'5. Offre de transport'!CX36","v":0},{"$f":"'5. Offre de transport'!CY36","v":0},{"$f":"'5. Offre de transport'!CZ36","v":0},{"$f":"'5. Offre de transport'!DA36","v":0},{"$f":"'5. Offre de transport'!DB36","v":0},{"$f":"'5. Offre de transport'!DC36","v":0},{"$f":"'5. Offre de transport'!DD36","v":0},{"$f":"'5. Offre de transport'!DE36","v":0},{"$f":"'5. Offre de transport'!DF36","v":0},{"$f":"'5. Offre de transport'!DG36","v":0},{"$f":"'5. Offre de transport'!DH36","v":0},{"$f":"'5. Offre de transport'!DI36","v":0},{"$f":"'5. Offre de transport'!DJ36","v":0},{"$f":"'5. Offre de transport'!DK36","v":0},{"$f":"'5. Offre de transport'!DL36","v":0},{"$f":"'5. Offre de transport'!DM36","v":0},{"$f":"'5. Offre de transport'!DN36","v":0},{"$f":"'5. Offre de transport'!DO36","v":0},{"$f":"'5. Offre de transport'!DP36","v":0},{"$f":"'5. Offre de transport'!DQ36","v":0},{"$f":"'5. Offre de transport'!DR36","v":0},{"$f":"'5. Offre de transport'!DS36","v":0},{"$f":"'5. Offre de transport'!DT36","v":0},{"$f":"'5. Offre de transport'!DU36","v":0},{"$f":"'5. Offre de transport'!DV36","v":0},{"$f":"'5. Offre de transport'!DW36","v":0},{"$f":"'5. Offre de transport'!DX36","v":0},{"$f":"'5. Offre de transport'!DY36","v":0},{"$f":"'5. Offre de transport'!DZ36","v":0},{"$f":"'5. Offre de transport'!EA36","v":0},{"$f":"'5. Offre de transport'!EB36","v":0},{"$f":"'5. Offre de transport'!EC36","v":0},{"$f":"'5. Offre de transport'!ED36","v":0},{"$f":"'5. Offre de transport'!EE36","v":0},{"$f":"'5. Offre de transport'!EF36","v":0},{"$f":"'5. Offre de transport'!EG36","v":0},{"$f":"'5. Offre de transport'!EH36","v":0},{"$f":"'5. Offre de transport'!EI36","v":0},{"$f":"'5. Offre de transport'!EJ36","v":0},{"$f":"'5. Offre de transport'!EK36","v":0},{"$f":"'5. Offre de transport'!EL36","v":0},{"$f":"'5. Offre de transport'!EM36","v":0},{"$f":"'5. Offre de transport'!EN36","v":0},{"$f":"'5. Offre de transport'!EO36","v":0},{"$f":"'5. Offre de transport'!EP36","v":0},{"$f":"'5. Offre de transport'!EQ36","v":0},{"$f":"'5. Offre de transport'!ER36","v":0},{"$f":"'5. Offre de transport'!ES36","v":0},{"$f":"'5. Offre de transport'!ET36","v":0},{"$f":"'5. Offre de transport'!EU36","v":0},{"$f":"'5. Offre de transport'!EV36","v":0},{"$f":"'5. Offre de transport'!EW36","v":0},{"$f":"'5. Offre de transport'!EX36","v":0},{"$f":"'5. Offre de transport'!EY36","v":0},{"$f":"'5. Offre de transport'!EZ36","v":0},{"$f":"'5. Offre de transport'!FA36","v":0},{"$f":"'5. Offre de transport'!FB36","v":0},{"$f":"'5. Offre de transport'!FC36","v":0},{"$f":"'5. Offre de transport'!FD36","v":0},{"$f":"'5. Offre de transport'!FE36","v":0},{"$f":"'5. Offre de transport'!FF36","v":0},{"$f":"'5. Offre de transport'!FG36","v":0},{"$f":"'5. Offre de transport'!FH36","v":0},{"$f":"'5. Offre de transport'!FI36","v":0},{"$f":"'5. Offre de transport'!FJ36","v":0},{"$f":"'5. Offre de transport'!FK36","v":0},{"$f":"'5. Offre de transport'!FL36","v":0},{"$f":"'5. Offre de transport'!FM36","v":0},{"$f":"'5. Offre de transport'!FN36","v":0},{"$f":"'5. Offre de transport'!FO36","v":0},{"$f":"'5. Offre de transport'!FP36","v":0},{"$f":"'5. Offre de transport'!FQ36","v":0},{"$f":"'5. Offre de transport'!FR36","v":0},{"$f":"'5. Offre de transport'!FS36","v":0},{"$f":"'5. Offre de transport'!FT36","v":0},{"$f":"'5. Offre de transport'!FU36","v":0},{"$f":"'5. Offre de transport'!FV36","v":0},{"$f":"'5. Offre de transport'!FW36","v":0},{"$f":"'5. Offre de transport'!FX36","v":0},{"$f":"'5. Offre de transport'!FY36","v":0},{"$f":"'5. Offre de transport'!FZ36","v":0},{"$f":"'5. Offre de transport'!GA36","v":0},{"$f":"'5. Offre de transport'!GB36","v":0},{"$f":"'5. Offre de transport'!GC36","v":0},{"$f":"'5. Offre de transport'!GD36","v":0},{"$f":"'5. Offre de transport'!GE36","v":0},{"$f":"'5. Offre de transport'!GF36","v":0},{"$f":"'5. Offre de transport'!GG36","v":0},{"$f":"'5. Offre de transport'!GH36","v":0},{"$f":"'5. Offre de transport'!GI36","v":0},{"$f":"'5. Offre de transport'!GJ36","v":0},{"$f":"'5. Offre de transport'!GK36","v":0},{"$f":"'5. Offre de transport'!GL36","v":0},{"$f":"'5. Offre de transport'!GM36","v":0},{"$f":"'5. Offre de transport'!GN36","v":0},{"$f":"'5. Offre de transport'!GO36","v":0},{"$f":"'5. Offre de transport'!GP36","v":0},{"$f":"'5. Offre de transport'!GQ36","v":0},{"$f":"'5. Offre de transport'!GR36","v":0},{"$f":"'5. Offre de transport'!GS36","v":0},{"$f":"'5. Offre de transport'!GT36","v":0},{"$f":"'5. Offre de transport'!GU36","v":0},{"$f":"'5. Offre de transport'!GV36","v":0},{"$f":"'5. Offre de transport'!GW36","v":0},{"$f":"'5. Offre de transport'!GX36","v":0},{"$f":"'5. Offre de transport'!GY36","v":0},{"$f":"'5. Offre de transport'!GZ36","v":0},{"$f":"'5. Offre de transport'!HA36","v":0},{"$f":"'5. Offre de transport'!HB36","v":0},{"$f":"'5. Offre de transport'!HC36","v":0},{"$f":"'5. Offre de transport'!HD36","v":0},{"$f":"'5. Offre de transport'!HE36","v":0},{"$f":"'5. Offre de transport'!HF36","v":0},{"$f":"'5. Offre de transport'!HG36","v":0},{"$f":"'5. Offre de transport'!HH36","v":0},{"$f":"'5. Offre de transport'!HI36","v":0},{"$f":"'5. Offre de transport'!HJ36","v":0},{"$f":"'5. Offre de transport'!HK36","v":0},{"$f":"'5. Offre de transport'!HL36","v":0},{"$f":"'5. Offre de transport'!HM36","v":0},{"$f":"'5. Offre de transport'!HN36","v":0},{"$f":"'5. Offre de transport'!HO36","v":0},{"$f":"'5. Offre de transport'!HP36","v":0},{"$f":"'5. Offre de transport'!HQ36","v":0},{"$f":"'5. Offre de transport'!HR36","v":0},{"$f":"'5. Offre de transport'!HS36","v":0},{"$f":"'5. Offre de transport'!HT36","v":0},{"$f":"'5. Offre de transport'!HU36","v":0},{"$f":"'5. Offre de transport'!HV36","v":0},{"$f":"'5. Offre de transport'!HW36","v":0},{"$f":"'5. Offre de transport'!HX36","v":0},{"$f":"'5. Offre de transport'!HY36","v":0},{"$f":"'5. Offre de transport'!HZ36","v":0},{"$f":"'5. Offre de transport'!IA36","v":0},{"$f":"'5. Offre de transport'!IB36","v":0},{"$f":"'5. Offre de transport'!IC36","v":0},{"$f":"'5. Offre de transport'!ID36","v":0},{"$f":"'5. Offre de transport'!IE36","v":0},{"$f":"'5. Offre de transport'!IF36","v":0},{"$f":"'5. Offre de transport'!IG36","v":0},{"$f":"'5. Offre de transport'!IH36","v":0},{"$f":"'5. Offre de transport'!II36","v":0},{"$f":"'5. Offre de transport'!IJ36","v":0},{"$f":"'5. Offre de transport'!IK36","v":0},{"$f":"'5. Offre de transport'!IL36","v":0},{"$f":"'5. Offre de transport'!IM36","v":0},{"$f":"'5. Offre de transport'!IN36","v":0},{"$f":"'5. Offre de transport'!IO36","v":0},{"$f":"'5. Offre de transport'!IP36","v":0},{"$f":"'5. Offre de transport'!IQ36","v":0},{"$f":"'5. Offre de transport'!IR36","v":0},{"$f":"'5. Offre de transport'!IS36","v":0},{"$f":"'5. Offre de transport'!IT36","v":0},{"$f":"'5. Offre de transport'!IU36","v":0},{"$f":"'5. Offre de transport'!IV36","v":0},{"$f":"'5. Offre de transport'!IW36","v":0},{"$f":"'5. Offre de transport'!IX36","v":0},{"$f":"'5. Offre de transport'!IY36","v":0},{"$f":"'5. Offre de transport'!IZ36","v":0},{"$f":"'5. Offre de transport'!JA36","v":0},{"$f":"'5. Offre de transport'!JB36","v":0},{"$f":"'5. Offre de transport'!JC36","v":0},{"$f":"'5. Offre de transport'!JD36","v":0},{"$f":"'5. Offre de transport'!JE36","v":0},{"$f":"'5. Offre de transport'!JF36","v":0},{"$f":"'5. Offre de transport'!JG36","v":0},{"$f":"'5. Offre de transport'!JH36","v":0},{"$f":"'5. Offre de transport'!JI36","v":0},{"$f":"'5. Offre de transport'!JJ36","v":0},{"$f":"'5. Offre de transport'!JK36","v":0},{"$f":"'5. Offre de transport'!JL36","v":0},{"$f":"'5. Offre de transport'!JM36","v":0},{"$f":"'5. Offre de transport'!JN36","v":0},{"$f":"'5. Offre de transport'!JO36","v":0},{"$f":"'5. Offre de transport'!JP36","v":0},{"$f":"'5. Offre de transport'!JQ36","v":0},{"$f":"'5. Offre de transport'!JR36","v":0},{"$f":"'5. Offre de transport'!JS36","v":0},{"$f":"'5. Offre de transport'!JT36","v":0},{"$f":"'5. Offre de transport'!JU36","v":0},{"$f":"'5. Offre de transport'!JV36","v":0},{"$f":"'5. Offre de transport'!JW36","v":0},{"$f":"'5. Offre de transport'!JX36","v":0},{"$f":"'5. Offre de transport'!JY36","v":0},{"$f":"'5. Offre de transport'!JZ36","v":0},{"$f":"'5. Offre de transport'!KA36","v":0},{"$f":"'5. Offre de transport'!KB36","v":0},{"$f":"'5. Offre de transport'!KC36","v":0},{"$f":"'5. Offre de transport'!KD36","v":0},{"$f":"'5. Offre de transport'!KE36","v":0},{"$f":"'5. Offre de transport'!KF36","v":0},{"$f":"'5. Offre de transport'!KG36","v":0},{"$f":"'5. Offre de transport'!KH36","v":0},{"$f":"'5. Offre de transport'!KI36","v":0},{"$f":"'5. Offre de transport'!KJ36","v":0},{"$f":"'5. Offre de transport'!KK36","v":0},{"$f":"'5. Offre de transport'!KL36","v":0},{"$f":"'5. Offre de transport'!KM36","v":0},{"$f":"'5. Offre de transport'!KN36","v":0},{"$f":"'5. Offre de transport'!KO36","v":0},{"$f":"'5. Offre de transport'!KP36","v":0},{"$f":"'5. Offre de transport'!KQ36","v":0},{"$f":"'5. Offre de transport'!KR36","v":0},{"$f":"'5. Offre de transport'!KS36","v":0},{"$f":"'5. Offre de transport'!KT36","v":0},{"$f":"'5. Offre de transport'!KU36","v":0},{"$f":"'5. Offre de transport'!KV36","v":0},{"$f":"'5. Offre de transport'!KW36","v":0},{"$f":"'5. Offre de transport'!KX36","v":0},{"$f":"'5. Offre de transport'!KY36","v":0},{"$f":"'5. Offre de transport'!KZ36","v":0},{"$f":"'5. Offre de transport'!LA36","v":0},{"$f":"'5. Offre de transport'!LB36","v":0},{"$f":"'5. Offre de transport'!LC36","v":0},{"$f":"'5. Offre de transport'!LD36","v":0},{"$f":"'5. Offre de transport'!LE36","v":0},{"$f":"'5. Offre de transport'!LF36","v":0},{"$f":"'5. Offre de transport'!LG36","v":0},{"$f":"'5. Offre de transport'!LH36","v":0},{"$f":"'5. Offre de transport'!LI36","v":0},{"$f":"'5. Offre de transport'!LJ36","v":0},{"$f":"'5. Offre de transport'!LK36","v":0},{"$f":"'5. Offre de transport'!LL36","v":0},{"$f":"'5. Offre de transport'!LM36","v":0},{"$f":"'5. Offre de transport'!LN36","v":0},{"$f":"'5. Offre de transport'!LO36","v":0},{"$f":"'5. Offre de transport'!LP36","v":0},{"$f":"'5. Offre de transport'!LQ36","v":0},{"$f":"'5. Offre de transport'!LR36","v":0},{"$f":"'5. Offre de transport'!LS36","v":0},{"$f":"'5. Offre de transport'!LT36","v":0},{"$f":"'5. Offre de transport'!LU36","v":0},{"$f":"'5. Offre de transport'!LV36","v":0},{"$f":"'5. Offre de transport'!LW36","v":0},{"$f":"'5. Offre de transport'!LX36","v":0},{"$f":"'5. Offre de transport'!LY36","v":0},{"$f":"'5. Offre de transport'!LZ36","v":0},{"$f":"'5. Offre de transport'!MA36","v":0},{"$f":"'5. Offre de transport'!MB36","v":0},{"$f":"'5. Offre de transport'!MC36","v":0},{"$f":"'5. Offre de transport'!MD36","v":0},{"$f":"'5. Offre de transport'!ME36","v":0},{"$f":"'5. Offre de transport'!MF36","v":0},{"$f":"'5. Offre de transport'!MG36","v":0},{"$f":"'5. Offre de transport'!MH36","v":0},{"$f":"'5. Offre de transport'!MI36","v":0},{"$f":"'5. Offre de transport'!MJ36","v":0},{"$f":"'5. Offre de transport'!MK36","v":0},{"$f":"'5. Offre de transport'!ML36","v":0},{"$f":"'5. Offre de transport'!MM36","v":0},{"$f":"'5. Offre de transport'!MN36","v":0},{"$f":"'5. Offre de transport'!MO36","v":0},{"$f":"'5. Offre de transport'!MP36","v":0},{"$f":"'5. Offre de transport'!MQ36","v":0},{"$f":"'5. Offre de transport'!MR36","v":0},{"$f":"'5. Offre de transport'!MS36","v":0},{"$f":"'5. Offre de transport'!MT36","v":0},{"$f":"'5. Offre de transport'!MU36","v":0},{"$f":"'5. Offre de transport'!MV36","v":0},{"$f":"'5. Offre de transport'!MW36","v":0},{"$f":"'5. Offre de transport'!MX36","v":0},{"$f":"'5. Offre de transport'!MY36","v":0},{"$f":"'5. Offre de transport'!MZ36","v":0}]
[null,{"$f":"'5. Offre de transport'!B37","v":19},{"$f":"'5. Offre de transport'!C37","v":0},{"$f":"'5. Offre de transport'!D37","v":0},{"$f":"'5. Offre de transport'!E37","v":0},{"$f":"'5. Offre de transport'!F37","v":0},{"$f":"'5. Offre de transport'!G37","v":0},{"$f":"'5. Offre de transport'!H37","v":0},{"$f":"'5. Offre de transport'!I37","v":0},{"$f":"'5. Offre de transport'!J37","v":0},{"$f":"'5. Offre de transport'!K37","v":0},{"$f":"'5. Offre de transport'!L37","v":0},{"$f":"'5. Offre de transport'!M37","v":0},{"$f":"'5. Offre de transport'!N37","v":0},{"$f":"'5. Offre de transport'!O37","v":0},{"$f":"'5. Offre de transport'!P37","v":0},{"$f":"'5. Offre de transport'!Q37","v":0},{"$f":"'5. Offre de transport'!R37","v":0},{"$f":"'5. Offre de transport'!S37","v":0},{"$f":"'5. Offre de transport'!T37","v":0},{"$f":"'5. Offre de transport'!U37","v":0},{"$f":"'5. Offre de transport'!V37","v":0},{"$f":"'5. Offre de transport'!W37","v":0},{"$f":"'5. Offre de transport'!X37","v":0},{"$f":"'5. Offre de transport'!Y37","v":0},{"$f":"'5. Offre de transport'!Z37","v":0},{"$f":"'5. Offre de transport'!AA37","v":0},{"$f":"'5. Offre de transport'!AB37","v":0},{"$f":"'5. Offre de transport'!AC37","v":0},{"$f":"'5. Offre de transport'!AD37","v":0},{"$f":"'5. Offre de transport'!AE37","v":0},{"$f":"'5. Offre de transport'!AF37","v":0},{"$f":"'5. Offre de transport'!AG37","v":0},{"$f":"'5. Offre de transport'!AH37","v":0},{"$f":"'5. Offre de transport'!AI37","v":0},{"$f":"'5. Offre de transport'!AJ37","v":0},{"$f":"'5. Offre de transport'!AK37","v":0},{"$f":"'5. Offre de transport'!AL37","v":0},{"$f":"'5. Offre de transport'!AM37","v":0},{"$f":"'5. Offre de transport'!AN37","v":0},{"$f":"'5. Offre de transport'!AO37","v":0},{"$f":"'5. Offre de transport'!AP37","v":0},{"$f":"'5. Offre de transport'!AQ37","v":0},{"$f":"'5. Offre de transport'!AR37","v":0},{"$f":"'5. Offre de transport'!AS37","v":0},{"$f":"'5. Offre de transport'!AT37","v":0},{"$f":"'5. Offre de transport'!AU37","v":0},{"$f":"'5. Offre de transport'!AV37","v":0},{"$f":"'5. Offre de transport'!AW37","v":0},{"$f":"'5. Offre de transport'!AX37","v":0},{"$f":"'5. Offre de transport'!AY37","v":0},{"$f":"'5. Offre de transport'!AZ37","v":0},{"$f":"'5. Offre de transport'!BA37","v":0},{"$f":"'5. Offre de transport'!BB37","v":0},{"$f":"'5. Offre de transport'!BC37","v":0},{"$f":"'5. Offre de transport'!BD37","v":0},{"$f":"'5. Offre de transport'!BE37","v":0},{"$f":"'5. Offre de transport'!BF37","v":0},{"$f":"'5. Offre de transport'!BG37","v":0},{"$f":"'5. Offre de transport'!BH37","v":0},{"$f":"'5. Offre de transport'!BI37","v":0},{"$f":"'5. Offre de transport'!BJ37","v":0},{"$f":"'5. Offre de transport'!BK37","v":0},{"$f":"'5. Offre de transport'!BL37","v":0},{"$f":"'5. Offre de transport'!BM37","v":0},{"$f":"'5. Offre de transport'!BN37","v":0},{"$f":"'5. Offre de transport'!BO37","v":0},{"$f":"'5. Offre de transport'!BP37","v":0},{"$f":"'5. Offre de transport'!BQ37","v":0},{"$f":"'5. Offre de transport'!BR37","v":0},{"$f":"'5. Offre de transport'!BS37","v":0},{"$f":"'5. Offre de transport'!BT37","v":0},{"$f":"'5. Offre de transport'!BU37","v":0},{"$f":"'5. Offre de transport'!BV37","v":0},{"$f":"'5. Offre de transport'!BW37","v":0},{"$f":"'5. Offre de transport'!BX37","v":0},{"$f":"'5. Offre de transport'!BY37","v":0},{"$f":"'5. Offre de transport'!BZ37","v":0},{"$f":"'5. Offre de transport'!CA37","v":0},{"$f":"'5. Offre de transport'!CB37","v":0},{"$f":"'5. Offre de transport'!CC37","v":0},{"$f":"'5. Offre de transport'!CD37","v":0},{"$f":"'5. Offre de transport'!CE37","v":0},{"$f":"'5. Offre de transport'!CF37","v":0},{"$f":"'5. Offre de transport'!CG37","v":0},{"$f":"'5. Offre de transport'!CH37","v":0},{"$f":"'5. Offre de transport'!CI37","v":0},{"$f":"'5. Offre de transport'!CJ37","v":0},{"$f":"'5. Offre de transport'!CK37","v":0},{"$f":"'5. Offre de transport'!CL37","v":0},{"$f":"'5. Offre de transport'!CM37","v":0},{"$f":"'5. Offre de transport'!CN37","v":0},{"$f":"'5. Offre de transport'!CO37","v":0},{"$f":"'5. Offre de transport'!CP37","v":0},{"$f":"'5. Offre de transport'!CQ37","v":0},{"$f":"'5. Offre de transport'!CR37","v":0},{"$f":"'5. Offre de transport'!CS37","v":0},{"$f":"'5. Offre de transport'!CT37","v":0},{"$f":"'5. Offre de transport'!CU37","v":0},{"$f":"'5. Offre de transport'!CV37","v":0},{"$f":"'5. Offre de transport'!CW37","v":0},{"$f":"'5. Offre de transport'!CX37","v":0},{"$f":"'5. Offre de transport'!CY37","v":0},{"$f":"'5. Offre de transport'!CZ37","v":0},{"$f":"'5. Offre de transport'!DA37","v":0},{"$f":"'5. Offre de transport'!DB37","v":0},{"$f":"'5. Offre de transport'!DC37","v":0},{"$f":"'5. Offre de transport'!DD37","v":0},{"$f":"'5. Offre de transport'!DE37","v":0},{"$f":"'5. Offre de transport'!DF37","v":0},{"$f":"'5. Offre de transport'!DG37","v":0},{"$f":"'5. Offre de transport'!DH37","v":0},{"$f":"'5. Offre de transport'!DI37","v":0},{"$f":"'5. Offre de transport'!DJ37","v":0},{"$f":"'5. Offre de transport'!DK37","v":0},{"$f":"'5. Offre de transport'!DL37","v":0},{"$f":"'5. Offre de transport'!DM37","v":0},{"$f":"'5. Offre de transport'!DN37","v":0},{"$f":"'5. Offre de transport'!DO37","v":0},{"$f":"'5. Offre de transport'!DP37","v":0},{"$f":"'5. Offre de transport'!DQ37","v":0},{"$f":"'5. Offre de transport'!DR37","v":0},{"$f":"'5. Offre de transport'!DS37","v":0},{"$f":"'5. Offre de transport'!DT37","v":0},{"$f":"'5. Offre de transport'!DU37","v":0},{"$f":"'5. Offre de transport'!DV37","v":0},{"$f":"'5. Offre de transport'!DW37","v":0},{"$f":"'5. Offre de transport'!DX37","v":0},{"$f":"'5. Offre de transport'!DY37","v":0},{"$f":"'5. Offre de transport'!DZ37","v":0},{"$f":"'5. Offre de transport'!EA37","v":0},{"$f":"'5. Offre de transport'!EB37","v":0},{"$f":"'5. Offre de transport'!EC37","v":0},{"$f":"'5. Offre de transport'!ED37","v":0},{"$f":"'5. Offre de transport'!EE37","v":0},{"$f":"'5. Offre de transport'!EF37","v":0},{"$f":"'5. Offre de transport'!EG37","v":0},{"$f":"'5. Offre de transport'!EH37","v":0},{"$f":"'5. Offre de transport'!EI37","v":0},{"$f":"'5. Offre de transport'!EJ37","v":0},{"$f":"'5. Offre de transport'!EK37","v":0},{"$f":"'5. Offre de transport'!EL37","v":0},{"$f":"'5. Offre de transport'!EM37","v":0},{"$f":"'5. Offre de transport'!EN37","v":0},{"$f":"'5. Offre de transport'!EO37","v":0},{"$f":"'5. Offre de transport'!EP37","v":0},{"$f":"'5. Offre de transport'!EQ37","v":0},{"$f":"'5. Offre de transport'!ER37","v":0},{"$f":"'5. Offre de transport'!ES37","v":0},{"$f":"'5. Offre de transport'!ET37","v":0},{"$f":"'5. Offre de transport'!EU37","v":0},{"$f":"'5. Offre de transport'!EV37","v":0},{"$f":"'5. Offre de transport'!EW37","v":0},{"$f":"'5. Offre de transport'!EX37","v":0},{"$f":"'5. Offre de transport'!EY37","v":0},{"$f":"'5. Offre de transport'!EZ37","v":0},{"$f":"'5. Offre de transport'!FA37","v":0},{"$f":"'5. Offre de transport'!FB37","v":0},{"$f":"'5. Offre de transport'!FC37","v":0},{"$f":"'5. Offre de transport'!FD37","v":0},{"$f":"'5. Offre de transport'!FE37","v":0},{"$f":"'5. Offre de transport'!FF37","v":0},{"$f":"'5. Offre de transport'!FG37","v":0},{"$f":"'5. Offre de transport'!FH37","v":0},{"$f":"'5. Offre de transport'!FI37","v":0},{"$f":"'5. Offre de transport'!FJ37","v":0},{"$f":"'5. Offre de transport'!FK37","v":0},{"$f":"'5. Offre de transport'!FL37","v":0},{"$f":"'5. Offre de transport'!FM37","v":0},{"$f":"'5. Offre de transport'!FN37","v":0},{"$f":"'5. Offre de transport'!FO37","v":0},{"$f":"'5. Offre de transport'!FP37","v":0},{"$f":"'5. Offre de transport'!FQ37","v":0},{"$f":"'5. Offre de transport'!FR37","v":0},{"$f":"'5. Offre de transport'!FS37","v":0},{"$f":"'5. Offre de transport'!FT37","v":0},{"$f":"'5. Offre de transport'!FU37","v":0},{"$f":"'5. Offre de transport'!FV37","v":0},{"$f":"'5. Offre de transport'!FW37","v":0},{"$f":"'5. Offre de transport'!FX37","v":0},{"$f":"'5. Offre de transport'!FY37","v":0},{"$f":"'5. Offre de transport'!FZ37","v":0},{"$f":"'5. Offre de transport'!GA37","v":0},{"$f":"'5. Offre de transport'!GB37","v":0},{"$f":"'5. Offre de transport'!GC37","v":0},{"$f":"'5. Offre de transport'!GD37","v":0},{"$f":"'5. Offre de transport'!GE37","v":0},{"$f":"'5. Offre de transport'!GF37","v":0},{"$f":"'5. Offre de transport'!GG37","v":0},{"$f":"'5. Offre de transport'!GH37","v":0},{"$f":"'5. Offre de transport'!GI37","v":0},{"$f":"'5. Offre de transport'!GJ37","v":0},{"$f":"'5. Offre de transport'!GK37","v":0},{"$f":"'5. Offre de transport'!GL37","v":0},{"$f":"'5. Offre de transport'!GM37","v":0},{"$f":"'5. Offre de transport'!GN37","v":0},{"$f":"'5. Offre de transport'!GO37","v":0},{"$f":"'5. Offre de transport'!GP37","v":0},{"$f":"'5. Offre de transport'!GQ37","v":0},{"$f":"'5. Offre de transport'!GR37","v":0},{"$f":"'5. Offre de transport'!GS37","v":0},{"$f":"'5. Offre de transport'!GT37","v":0},{"$f":"'5. Offre de transport'!GU37","v":0},{"$f":"'5. Offre de transport'!GV37","v":0},{"$f":"'5. Offre de transport'!GW37","v":0},{"$f":"'5. Offre de transport'!GX37","v":0},{"$f":"'5. Offre de transport'!GY37","v":0},{"$f":"'5. Offre de transport'!GZ37","v":0},{"$f":"'5. Offre de transport'!HA37","v":0},{"$f":"'5. Offre de transport'!HB37","v":0},{"$f":"'5. Offre de transport'!HC37","v":0},{"$f":"'5. Offre de transport'!HD37","v":0},{"$f":"'5. Offre de transport'!HE37","v":0},{"$f":"'5. Offre de transport'!HF37","v":0},{"$f":"'5. Offre de transport'!HG37","v":0},{"$f":"'5. Offre de transport'!HH37","v":0},{"$f":"'5. Offre de transport'!HI37","v":0},{"$f":"'5. Offre de transport'!HJ37","v":0},{"$f":"'5. Offre de transport'!HK37","v":0},{"$f":"'5. Offre de transport'!HL37","v":0},{"$f":"'5. Offre de transport'!HM37","v":0},{"$f":"'5. Offre de transport'!HN37","v":0},{"$f":"'5. Offre de transport'!HO37","v":0},{"$f":"'5. Offre de transport'!HP37","v":0},{"$f":"'5. Offre de transport'!HQ37","v":0},{"$f":"'5. Offre de transport'!HR37","v":0},{"$f":"'5. Offre de transport'!HS37","v":0},{"$f":"'5. Offre de transport'!HT37","v":0},{"$f":"'5. Offre de transport'!HU37","v":0},{"$f":"'5. Offre de transport'!HV37","v":0},{"$f":"'5. Offre de transport'!HW37","v":0},{"$f":"'5. Offre de transport'!HX37","v":0},{"$f":"'5. Offre de transport'!HY37","v":0},{"$f":"'5. Offre de transport'!HZ37","v":0},{"$f":"'5. Offre de transport'!IA37","v":0},{"$f":"'5. Offre de transport'!IB37","v":0},{"$f":"'5. Offre de transport'!IC37","v":0},{"$f":"'5. Offre de transport'!ID37","v":0},{"$f":"'5. Offre de transport'!IE37","v":0},{"$f":"'5. Offre de transport'!IF37","v":0},{"$f":"'5. Offre de transport'!IG37","v":0},{"$f":"'5. Offre de transport'!IH37","v":0},{"$f":"'5. Offre de transport'!II37","v":0},{"$f":"'5. Offre de transport'!IJ37","v":0},{"$f":"'5. Offre de transport'!IK37","v":0},{"$f":"'5. Offre de transport'!IL37","v":0},{"$f":"'5. Offre de transport'!IM37","v":0},{"$f":"'5. Offre de transport'!IN37","v":0},{"$f":"'5. Offre de transport'!IO37","v":0},{"$f":"'5. Offre de transport'!IP37","v":0},{"$f":"'5. Offre de transport'!IQ37","v":0},{"$f":"'5. Offre de transport'!IR37","v":0},{"$f":"'5. Offre de transport'!IS37","v":0},{"$f":"'5. Offre de transport'!IT37","v":0},{"$f":"'5. Offre de transport'!IU37","v":0},{"$f":"'5. Offre de transport'!IV37","v":0},{"$f":"'5. Offre de transport'!IW37","v":0},{"$f":"'5. Offre de transport'!IX37","v":0},{"$f":"'5. Offre de transport'!IY37","v":0},{"$f":"'5. Offre de transport'!IZ37","v":0},{"$f":"'5. Offre de transport'!JA37","v":0},{"$f":"'5. Offre de transport'!JB37","v":0},{"$f":"'5. Offre de transport'!JC37","v":0},{"$f":"'5. Offre de transport'!JD37","v":0},{"$f":"'5. Offre de transport'!JE37","v":0},{"$f":"'5. Offre de transport'!JF37","v":0},{"$f":"'5. Offre de transport'!JG37","v":0},{"$f":"'5. Offre de transport'!JH37","v":0},{"$f":"'5. Offre de transport'!JI37","v":0},{"$f":"'5. Offre de transport'!JJ37","v":0},{"$f":"'5. Offre de transport'!JK37","v":0},{"$f":"'5. Offre de transport'!JL37","v":0},{"$f":"'5. Offre de transport'!JM37","v":0},{"$f":"'5. Offre de transport'!JN37","v":0},{"$f":"'5. Offre de transport'!JO37","v":0},{"$f":"'5. Offre de transport'!JP37","v":0},{"$f":"'5. Offre de transport'!JQ37","v":0},{"$f":"'5. Offre de transport'!JR37","v":0},{"$f":"'5. Offre de transport'!JS37","v":0},{"$f":"'5. Offre de transport'!JT37","v":0},{"$f":"'5. Offre de transport'!JU37","v":0},{"$f":"'5. Offre de transport'!JV37","v":0},{"$f":"'5. Offre de transport'!JW37","v":0},{"$f":"'5. Offre de transport'!JX37","v":0},{"$f":"'5. Offre de transport'!JY37","v":0},{"$f":"'5. Offre de transport'!JZ37","v":0},{"$f":"'5. Offre de transport'!KA37","v":0},{"$f":"'5. Offre de transport'!KB37","v":0},{"$f":"'5. Offre de transport'!KC37","v":0},{"$f":"'5. Offre de transport'!KD37","v":0},{"$f":"'5. Offre de transport'!KE37","v":0},{"$f":"'5. Offre de transport'!KF37","v":0},{"$f":"'5. Offre de transport'!KG37","v":0},{"$f":"'5. Offre de transport'!KH37","v":0},{"$f":"'5. Offre de transport'!KI37","v":0},{"$f":"'5. Offre de transport'!KJ37","v":0},{"$f":"'5. Offre de transport'!KK37","v":0},{"$f":"'5. Offre de transport'!KL37","v":0},{"$f":"'5. Offre de transport'!KM37","v":0},{"$f":"'5. Offre de transport'!KN37","v":0},{"$f":"'5. Offre de transport'!KO37","v":0},{"$f":"'5. Offre de transport'!KP37","v":0},{"$f":"'5. Offre de transport'!KQ37","v":0},{"$f":"'5. Offre de transport'!KR37","v":0},{"$f":"'5. Offre de transport'!KS37","v":0},{"$f":"'5. Offre de transport'!KT37","v":0},{"$f":"'5. Offre de transport'!KU37","v":0},{"$f":"'5. Offre de transport'!KV37","v":0},{"$f":"'5. Offre de transport'!KW37","v":0},{"$f":"'5. Offre de transport'!KX37","v":0},{"$f":"'5. Offre de transport'!KY37","v":0},{"$f":"'5. Offre de transport'!KZ37","v":0},{"$f":"'5. Offre de transport'!LA37","v":0},{"$f":"'5. Offre de transport'!LB37","v":0},{"$f":"'5. Offre de transport'!LC37","v":0},{"$f":"'5. Offre de transport'!LD37","v":0},{"$f":"'5. Offre de transport'!LE37","v":0},{"$f":"'5. Offre de transport'!LF37","v":0},{"$f":"'5. Offre de transport'!LG37","v":0},{"$f":"'5. Offre de transport'!LH37","v":0},{"$f":"'5. Offre de transport'!LI37","v":0},{"$f":"'5. Offre de transport'!LJ37","v":0},{"$f":"'5. Offre de transport'!LK37","v":0},{"$f":"'5. Offre de transport'!LL37","v":0},{"$f":"'5. Offre de transport'!LM37","v":0},{"$f":"'5. Offre de transport'!LN37","v":0},{"$f":"'5. Offre de transport'!LO37","v":0},{"$f":"'5. Offre de transport'!LP37","v":0},{"$f":"'5. Offre de transport'!LQ37","v":0},{"$f":"'5. Offre de transport'!LR37","v":0},{"$f":"'5. Offre de transport'!LS37","v":0},{"$f":"'5. Offre de transport'!LT37","v":0},{"$f":"'5. Offre de transport'!LU37","v":0},{"$f":"'5. Offre de transport'!LV37","v":0},{"$f":"'5. Offre de transport'!LW37","v":0},{"$f":"'5. Offre de transport'!LX37","v":0},{"$f":"'5. Offre de transport'!LY37","v":0},{"$f":"'5. Offre de transport'!LZ37","v":0},{"$f":"'5. Offre de transport'!MA37","v":0},{"$f":"'5. Offre de transport'!MB37","v":0},{"$f":"'5. Offre de transport'!MC37","v":0},{"$f":"'5. Offre de transport'!MD37","v":0},{"$f":"'5. Offre de transport'!ME37","v":0},{"$f":"'5. Offre de transport'!MF37","v":0},{"$f":"'5. Offre de transport'!MG37","v":0},{"$f":"'5. Offre de transport'!MH37","v":0},{"$f":"'5. Offre de transport'!MI37","v":0},{"$f":"'5. Offre de transport'!MJ37","v":0},{"$f":"'5. Offre de transport'!MK37","v":0},{"$f":"'5. Offre de transport'!ML37","v":0},{"$f":"'5. Offre de transport'!MM37","v":0},{"$f":"'5. Offre de transport'!MN37","v":0},{"$f":"'5. Offre de transport'!MO37","v":0},{"$f":"'5. Offre de transport'!MP37","v":0},{"$f":"'5. Offre de transport'!MQ37","v":0},{"$f":"'5. Offre de transport'!MR37","v":0},{"$f":"'5. Offre de transport'!MS37","v":0},{"$f":"'5. Offre de transport'!MT37","v":0},{"$f":"'5. Offre de transport'!MU37","v":0},{"$f":"'5. Offre de transport'!MV37","v":0},{"$f":"'5. Offre de transport'!MW37","v":0},{"$f":"'5. Offre de transport'!MX37","v":0},{"$f":"'5. Offre de transport'!MY37","v":0},{"$f":"'5. Offre de transport'!MZ37","v":0}]
[null,{"$f":"'5. Offre de transport'!B38","v":20},{"$f":"'5. Offre de transport'!C38","v":0},{"$f":"'5. Offre de transport'!D38","v":0},{"$f":"'5. Offre de transport'!E38","v":0},{"$f":"'5. Offre de transport'!F38","v":0},{"$f":"'5. Offre de transport'!G38","v":0},{"$f":"'5. Offre de transport'!H38","v":0},{"$f":"'5. Offre de transport'!I38","v":0},{"$f":"'5. Offre de transport'!J38","v":0},{"$f":"'5. Offre de transport'!K38","v":0},{"$f":"'5. Offre de transport'!L38","v":0},{"$f":"'5. Offre de transport'!M38","v":0},{"$f":"'5. Offre de transport'!N38","v":0},{"$f":"'5. Offre de transport'!O38","v":0},{"$f":"'5. Offre de transport'!P38","v":0},{"$f":"'5. Offre de transport'!Q38","v":0},{"$f":"'5. Offre de transport'!R38","v":0},{"$f":"'5. Offre de transport'!S38","v":0},{"$f":"'5. Offre de transport'!T38","v":0},{"$f":"'5. Offre de transport'!U38","v":0},{"$f":"'5. Offre de transport'!V38","v":0},{"$f":"'5. Offre de transport'!W38","v":0},{"$f":"'5. Offre de transport'!X38","v":0},{"$f":"'5. Offre de transport'!Y38","v":0},{"$f":"'5. Offre de transport'!Z38","v":0},{"$f":"'5. Offre de transport'!AA38","v":0},{"$f":"'5. Offre de transport'!AB38","v":0},{"$f":"'5. Offre de transport'!AC38","v":0},{"$f":"'5. Offre de transport'!AD38","v":0},{"$f":"'5. Offre de transport'!AE38","v":0},{"$f":"'5. Offre de transport'!AF38","v":0},{"$f":"'5. Offre de transport'!AG38","v":0},{"$f":"'5. Offre de transport'!AH38","v":0},{"$f":"'5. Offre de transport'!AI38","v":0},{"$f":"'5. Offre de transport'!AJ38","v":0},{"$f":"'5. Offre de transport'!AK38","v":0},{"$f":"'5. Offre de transport'!AL38","v":0},{"$f":"'5. Offre de transport'!AM38","v":0},{"$f":"'5. Offre de transport'!AN38","v":0},{"$f":"'5. Offre de transport'!AO38","v":0},{"$f":"'5. Offre de transport'!AP38","v":0},{"$f":"'5. Offre de transport'!AQ38","v":0},{"$f":"'5. Offre de transport'!AR38","v":0},{"$f":"'5. Offre de transport'!AS38","v":0},{"$f":"'5. Offre de transport'!AT38","v":0},{"$f":"'5. Offre de transport'!AU38","v":0},{"$f":"'5. Offre de transport'!AV38","v":0},{"$f":"'5. Offre de transport'!AW38","v":0},{"$f":"'5. Offre de transport'!AX38","v":0},{"$f":"'5. Offre de transport'!AY38","v":0},{"$f":"'5. Offre de transport'!AZ38","v":0},{"$f":"'5. Offre de transport'!BA38","v":0},{"$f":"'5. Offre de transport'!BB38","v":0},{"$f":"'5. Offre de transport'!BC38","v":0},{"$f":"'5. Offre de transport'!BD38","v":0},{"$f":"'5. Offre de transport'!BE38","v":0},{"$f":"'5. Offre de transport'!BF38","v":0},{"$f":"'5. Offre de transport'!BG38","v":0},{"$f":"'5. Offre de transport'!BH38","v":0},{"$f":"'5. Offre de transport'!BI38","v":0},{"$f":"'5. Offre de transport'!BJ38","v":0},{"$f":"'5. Offre de transport'!BK38","v":0},{"$f":"'5. Offre de transport'!BL38","v":0},{"$f":"'5. Offre de transport'!BM38","v":0},{"$f":"'5. Offre de transport'!BN38","v":0},{"$f":"'5. Offre de transport'!BO38","v":0},{"$f":"'5. Offre de transport'!BP38","v":0},{"$f":"'5. Offre de transport'!BQ38","v":0},{"$f":"'5. Offre de transport'!BR38","v":0},{"$f":"'5. Offre de transport'!BS38","v":0},{"$f":"'5. Offre de transport'!BT38","v":0},{"$f":"'5. Offre de transport'!BU38","v":0},{"$f":"'5. Offre de transport'!BV38","v":0},{"$f":"'5. Offre de transport'!BW38","v":0},{"$f":"'5. Offre de transport'!BX38","v":0},{"$f":"'5. Offre de transport'!BY38","v":0},{"$f":"'5. Offre de transport'!BZ38","v":0},{"$f":"'5. Offre de transport'!CA38","v":0},{"$f":"'5. Offre de transport'!CB38","v":0},{"$f":"'5. Offre de transport'!CC38","v":0},{"$f":"'5. Offre de transport'!CD38","v":0},{"$f":"'5. Offre de transport'!CE38","v":0},{"$f":"'5. Offre de transport'!CF38","v":0},{"$f":"'5. Offre de transport'!CG38","v":0},{"$f":"'5. Offre de transport'!CH38","v":0},{"$f":"'5. Offre de transport'!CI38","v":0},{"$f":"'5. Offre de transport'!CJ38","v":0},{"$f":"'5. Offre de transport'!CK38","v":0},{"$f":"'5. Offre de transport'!CL38","v":0},{"$f":"'5. Offre de transport'!CM38","v":0},{"$f":"'5. Offre de transport'!CN38","v":0},{"$f":"'5. Offre de transport'!CO38","v":0},{"$f":"'5. Offre de transport'!CP38","v":0},{"$f":"'5. Offre de transport'!CQ38","v":0},{"$f":"'5. Offre de transport'!CR38","v":0},{"$f":"'5. Offre de transport'!CS38","v":0},{"$f":"'5. Offre de transport'!CT38","v":0},{"$f":"'5. Offre de transport'!CU38","v":0},{"$f":"'5. Offre de transport'!CV38","v":0},{"$f":"'5. Offre de transport'!CW38","v":0},{"$f":"'5. Offre de transport'!CX38","v":0},{"$f":"'5. Offre de transport'!CY38","v":0},{"$f":"'5. Offre de transport'!CZ38","v":0},{"$f":"'5. Offre de transport'!DA38","v":0},{"$f":"'5. Offre de transport'!DB38","v":0},{"$f":"'5. Offre de transport'!DC38","v":0},{"$f":"'5. Offre de transport'!DD38","v":0},{"$f":"'5. Offre de transport'!DE38","v":0},{"$f":"'5. Offre de transport'!DF38","v":0},{"$f":"'5. Offre de transport'!DG38","v":0},{"$f":"'5. Offre de transport'!DH38","v":0},{"$f":"'5. Offre de transport'!DI38","v":0},{"$f":"'5. Offre de transport'!DJ38","v":0},{"$f":"'5. Offre de transport'!DK38","v":0},{"$f":"'5. Offre de transport'!DL38","v":0},{"$f":"'5. Offre de transport'!DM38","v":0},{"$f":"'5. Offre de transport'!DN38","v":0},{"$f":"'5. Offre de transport'!DO38","v":0},{"$f":"'5. Offre de transport'!DP38","v":0},{"$f":"'5. Offre de transport'!DQ38","v":0},{"$f":"'5. Offre de transport'!DR38","v":0},{"$f":"'5. Offre de transport'!DS38","v":0},{"$f":"'5. Offre de transport'!DT38","v":0},{"$f":"'5. Offre de transport'!DU38","v":0},{"$f":"'5. Offre de transport'!DV38","v":0},{"$f":"'5. Offre de transport'!DW38","v":0},{"$f":"'5. Offre de transport'!DX38","v":0},{"$f":"'5. Offre de transport'!DY38","v":0},{"$f":"'5. Offre de transport'!DZ38","v":0},{"$f":"'5. Offre de transport'!EA38","v":0},{"$f":"'5. Offre de transport'!EB38","v":0},{"$f":"'5. Offre de transport'!EC38","v":0},{"$f":"'5. Offre de transport'!ED38","v":0},{"$f":"'5. Offre de transport'!EE38","v":0},{"$f":"'5. Offre de transport'!EF38","v":0},{"$f":"'5. Offre de transport'!EG38","v":0},{"$f":"'5. Offre de transport'!EH38","v":0},{"$f":"'5. Offre de transport'!EI38","v":0},{"$f":"'5. Offre de transport'!EJ38","v":0},{"$f":"'5. Offre de transport'!EK38","v":0},{"$f":"'5. Offre de transport'!EL38","v":0},{"$f":"'5. Offre de transport'!EM38","v":0},{"$f":"'5. Offre de transport'!EN38","v":0},{"$f":"'5. Offre de transport'!EO38","v":0},{"$f":"'5. Offre de transport'!EP38","v":0},{"$f":"'5. Offre de transport'!EQ38","v":0},{"$f":"'5. Offre de transport'!ER38","v":0},{"$f":"'5. Offre de transport'!ES38","v":0},{"$f":"'5. Offre de transport'!ET38","v":0},{"$f":"'5. Offre de transport'!EU38","v":0},{"$f":"'5. Offre de transport'!EV38","v":0},{"$f":"'5. Offre de transport'!EW38","v":0},{"$f":"'5. Offre de transport'!EX38","v":0},{"$f":"'5. Offre de transport'!EY38","v":0},{"$f":"'5. Offre de transport'!EZ38","v":0},{"$f":"'5. Offre de transport'!FA38","v":0},{"$f":"'5. Offre de transport'!FB38","v":0},{"$f":"'5. Offre de transport'!FC38","v":0},{"$f":"'5. Offre de transport'!FD38","v":0},{"$f":"'5. Offre de transport'!FE38","v":0},{"$f":"'5. Offre de transport'!FF38","v":0},{"$f":"'5. Offre de transport'!FG38","v":0},{"$f":"'5. Offre de transport'!FH38","v":0},{"$f":"'5. Offre de transport'!FI38","v":0},{"$f":"'5. Offre de transport'!FJ38","v":0},{"$f":"'5. Offre de transport'!FK38","v":0},{"$f":"'5. Offre de transport'!FL38","v":0},{"$f":"'5. Offre de transport'!FM38","v":0},{"$f":"'5. Offre de transport'!FN38","v":0},{"$f":"'5. Offre de transport'!FO38","v":0},{"$f":"'5. Offre de transport'!FP38","v":0},{"$f":"'5. Offre de transport'!FQ38","v":0},{"$f":"'5. Offre de transport'!FR38","v":0},{"$f":"'5. Offre de transport'!FS38","v":0},{"$f":"'5. Offre de transport'!FT38","v":0},{"$f":"'5. Offre de transport'!FU38","v":0},{"$f":"'5. Offre de transport'!FV38","v":0},{"$f":"'5. Offre de transport'!FW38","v":0},{"$f":"'5. Offre de transport'!FX38","v":0},{"$f":"'5. Offre de transport'!FY38","v":0},{"$f":"'5. Offre de transport'!FZ38","v":0},{"$f":"'5. Offre de transport'!GA38","v":0},{"$f":"'5. Offre de transport'!GB38","v":0},{"$f":"'5. Offre de transport'!GC38","v":0},{"$f":"'5. Offre de transport'!GD38","v":0},{"$f":"'5. Offre de transport'!GE38","v":0},{"$f":"'5. Offre de transport'!GF38","v":0},{"$f":"'5. Offre de transport'!GG38","v":0},{"$f":"'5. Offre de transport'!GH38","v":0},{"$f":"'5. Offre de transport'!GI38","v":0},{"$f":"'5. Offre de transport'!GJ38","v":0},{"$f":"'5. Offre de transport'!GK38","v":0},{"$f":"'5. Offre de transport'!GL38","v":0},{"$f":"'5. Offre de transport'!GM38","v":0},{"$f":"'5. Offre de transport'!GN38","v":0},{"$f":"'5. Offre de transport'!GO38","v":0},{"$f":"'5. Offre de transport'!GP38","v":0},{"$f":"'5. Offre de transport'!GQ38","v":0},{"$f":"'5. Offre de transport'!GR38","v":0},{"$f":"'5. Offre de transport'!GS38","v":0},{"$f":"'5. Offre de transport'!GT38","v":0},{"$f":"'5. Offre de transport'!GU38","v":0},{"$f":"'5. Offre de transport'!GV38","v":0},{"$f":"'5. Offre de transport'!GW38","v":0},{"$f":"'5. Offre de transport'!GX38","v":0},{"$f":"'5. Offre de transport'!GY38","v":0},{"$f":"'5. Offre de transport'!GZ38","v":0},{"$f":"'5. Offre de transport'!HA38","v":0},{"$f":"'5. Offre de transport'!HB38","v":0},{"$f":"'5. Offre de transport'!HC38","v":0},{"$f":"'5. Offre de transport'!HD38","v":0},{"$f":"'5. Offre de transport'!HE38","v":0},{"$f":"'5. Offre de transport'!HF38","v":0},{"$f":"'5. Offre de transport'!HG38","v":0},{"$f":"'5. Offre de transport'!HH38","v":0},{"$f":"'5. Offre de transport'!HI38","v":0},{"$f":"'5. Offre de transport'!HJ38","v":0},{"$f":"'5. Offre de transport'!HK38","v":0},{"$f":"'5. Offre de transport'!HL38","v":0},{"$f":"'5. Offre de transport'!HM38","v":0},{"$f":"'5. Offre de transport'!HN38","v":0},{"$f":"'5. Offre de transport'!HO38","v":0},{"$f":"'5. Offre de transport'!HP38","v":0},{"$f":"'5. Offre de transport'!HQ38","v":0},{"$f":"'5. Offre de transport'!HR38","v":0},{"$f":"'5. Offre de transport'!HS38","v":0},{"$f":"'5. Offre de transport'!HT38","v":0},{"$f":"'5. Offre de transport'!HU38","v":0},{"$f":"'5. Offre de transport'!HV38","v":0},{"$f":"'5. Offre de transport'!HW38","v":0},{"$f":"'5. Offre de transport'!HX38","v":0},{"$f":"'5. Offre de transport'!HY38","v":0},{"$f":"'5. Offre de transport'!HZ38","v":0},{"$f":"'5. Offre de transport'!IA38","v":0},{"$f":"'5. Offre de transport'!IB38","v":0},{"$f":"'5. Offre de transport'!IC38","v":0},{"$f":"'5. Offre de transport'!ID38","v":0},{"$f":"'5. Offre de transport'!IE38","v":0},{"$f":"'5. Offre de transport'!IF38","v":0},{"$f":"'5. Offre de transport'!IG38","v":0},{"$f":"'5. Offre de transport'!IH38","v":0},{"$f":"'5. Offre de transport'!II38","v":0},{"$f":"'5. Offre de transport'!IJ38","v":0},{"$f":"'5. Offre de transport'!IK38","v":0},{"$f":"'5. Offre de transport'!IL38","v":0},{"$f":"'5. Offre de transport'!IM38","v":0},{"$f":"'5. Offre de transport'!IN38","v":0},{"$f":"'5. Offre de transport'!IO38","v":0},{"$f":"'5. Offre de transport'!IP38","v":0},{"$f":"'5. Offre de transport'!IQ38","v":0},{"$f":"'5. Offre de transport'!IR38","v":0},{"$f":"'5. Offre de transport'!IS38","v":0},{"$f":"'5. Offre de transport'!IT38","v":0},{"$f":"'5. Offre de transport'!IU38","v":0},{"$f":"'5. Offre de transport'!IV38","v":0},{"$f":"'5. Offre de transport'!IW38","v":0},{"$f":"'5. Offre de transport'!IX38","v":0},{"$f":"'5. Offre de transport'!IY38","v":0},{"$f":"'5. Offre de transport'!IZ38","v":0},{"$f":"'5. Offre de transport'!JA38","v":0},{"$f":"'5. Offre de transport'!JB38","v":0},{"$f":"'5. Offre de transport'!JC38","v":0},{"$f":"'5. Offre de transport'!JD38","v":0},{"$f":"'5. Offre de transport'!JE38","v":0},{"$f":"'5. Offre de transport'!JF38","v":0},{"$f":"'5. Offre de transport'!JG38","v":0},{"$f":"'5. Offre de transport'!JH38","v":0},{"$f":"'5. Offre de transport'!JI38","v":0},{"$f":"'5. Offre de transport'!JJ38","v":0},{"$f":"'5. Offre de transport'!JK38","v":0},{"$f":"'5. Offre de transport'!JL38","v":0},{"$f":"'5. Offre de transport'!JM38","v":0},{"$f":"'5. Offre de transport'!JN38","v":0},{"$f":"'5. Offre de transport'!JO38","v":0},{"$f":"'5. Offre de transport'!JP38","v":0},{"$f":"'5. Offre de transport'!JQ38","v":0},{"$f":"'5. Offre de transport'!JR38","v":0},{"$f":"'5. Offre de transport'!JS38","v":0},{"$f":"'5. Offre de transport'!JT38","v":0},{"$f":"'5. Offre de transport'!JU38","v":0},{"$f":"'5. Offre de transport'!JV38","v":0},{"$f":"'5. Offre de transport'!JW38","v":0},{"$f":"'5. Offre de transport'!JX38","v":0},{"$f":"'5. Offre de transport'!JY38","v":0},{"$f":"'5. Offre de transport'!JZ38","v":0},{"$f":"'5. Offre de transport'!KA38","v":0},{"$f":"'5. Offre de transport'!KB38","v":0},{"$f":"'5. Offre de transport'!KC38","v":0},{"$f":"'5. Offre de transport'!KD38","v":0},{"$f":"'5. Offre de transport'!KE38","v":0},{"$f":"'5. Offre de transport'!KF38","v":0},{"$f":"'5. Offre de transport'!KG38","v":0},{"$f":"'5. Offre de transport'!KH38","v":0},{"$f":"'5. Offre de transport'!KI38","v":0},{"$f":"'5. Offre de transport'!KJ38","v":0},{"$f":"'5. Offre de transport'!KK38","v":0},{"$f":"'5. Offre de transport'!KL38","v":0},{"$f":"'5. Offre de transport'!KM38","v":0},{"$f":"'5. Offre de transport'!KN38","v":0},{"$f":"'5. Offre de transport'!KO38","v":0},{"$f":"'5. Offre de transport'!KP38","v":0},{"$f":"'5. Offre de transport'!KQ38","v":0},{"$f":"'5. Offre de transport'!KR38","v":0},{"$f":"'5. Offre de transport'!KS38","v":0},{"$f":"'5. Offre de transport'!KT38","v":0},{"$f":"'5. Offre de transport'!KU38","v":0},{"$f":"'5. Offre de transport'!KV38","v":0},{"$f":"'5. Offre de transport'!KW38","v":0},{"$f":"'5. Offre de transport'!KX38","v":0},{"$f":"'5. Offre de transport'!KY38","v":0},{"$f":"'5. Offre de transport'!KZ38","v":0},{"$f":"'5. Offre de transport'!LA38","v":0},{"$f":"'5. Offre de transport'!LB38","v":0},{"$f":"'5. Offre de transport'!LC38","v":0},{"$f":"'5. Offre de transport'!LD38","v":0},{"$f":"'5. Offre de transport'!LE38","v":0},{"$f":"'5. Offre de transport'!LF38","v":0},{"$f":"'5. Offre de transport'!LG38","v":0},{"$f":"'5. Offre de transport'!LH38","v":0},{"$f":"'5. Offre de transport'!LI38","v":0},{"$f":"'5. Offre de transport'!LJ38","v":0},{"$f":"'5. Offre de transport'!LK38","v":0},{"$f":"'5. Offre de transport'!LL38","v":0},{"$f":"'5. Offre de transport'!LM38","v":0},{"$f":"'5. Offre de transport'!LN38","v":0},{"$f":"'5. Offre de transport'!LO38","v":0},{"$f":"'5. Offre de transport'!LP38","v":0},{"$f":"'5. Offre de transport'!LQ38","v":0},{"$f":"'5. Offre de transport'!LR38","v":0},{"$f":"'5. Offre de transport'!LS38","v":0},{"$f":"'5. Offre de transport'!LT38","v":0},{"$f":"'5. Offre de transport'!LU38","v":0},{"$f":"'5. Offre de transport'!LV38","v":0},{"$f":"'5. Offre de transport'!LW38","v":0},{"$f":"'5. Offre de transport'!LX38","v":0},{"$f":"'5. Offre de transport'!LY38","v":0},{"$f":"'5. Offre de transport'!LZ38","v":0},{"$f":"'5. Offre de transport'!MA38","v":0},{"$f":"'5. Offre de transport'!MB38","v":0},{"$f":"'5. Offre de transport'!MC38","v":0},{"$f":"'5. Offre de transport'!MD38","v":0},{"$f":"'5. Offre de transport'!ME38","v":0},{"$f":"'5. Offre de transport'!MF38","v":0},{"$f":"'5. Offre de transport'!MG38","v":0},{"$f":"'5. Offre de transport'!MH38","v":0},{"$f":"'5. Offre de transport'!MI38","v":0},{"$f":"'5. Offre de transport'!MJ38","v":0},{"$f":"'5. Offre de transport'!MK38","v":0},{"$f":"'5. Offre de transport'!ML38","v":0},{"$f":"'5. Offre de transport'!MM38","v":0},{"$f":"'5. Offre de transport'!MN38","v":0},{"$f":"'5. Offre de transport'!MO38","v":0},{"$f":"'5. Offre de transport'!MP38","v":0},{"$f":"'5. Offre de transport'!MQ38","v":0},{"$f":"'5. Offre de transport'!MR38","v":0},{"$f":"'5. Offre de transport'!MS38","v":0},{"$f":"'5. Offre de transport'!MT38","v":0},{"$f":"'5. Offre de transport'!MU38","v":0},{"$f":"'5. Offre de transport'!MV38","v":0},{"$f":"'5. Offre de transport'!MW38","v":0},{"$f":"'5. Offre de transport'!MX38","v":0},{"$f":"'5. Offre de transport'!MY38","v":0},{"$f":"'5. Offre de transport'!MZ38","v":0}]
[null,{"$f":"'5. Offre de transport'!B39","v":21},{"$f":"'5. Offre de transport'!C39","v":0},{"$f":"'5. Offre de transport'!D39","v":0},{"$f":"'5. Offre de transport'!E39","v":0},{"$f":"'5. Offre de transport'!F39","v":0},{"$f":"'5. Offre de transport'!G39","v":0},{"$f":"'5. Offre de transport'!H39","v":0},{"$f":"'5. Offre de transport'!I39","v":0},{"$f":"'5. Offre de transport'!J39","v":0},{"$f":"'5. Offre de transport'!K39","v":0},{"$f":"'5. Offre de transport'!L39","v":0},{"$f":"'5. Offre de transport'!M39","v":0},{"$f":"'5. Offre de transport'!N39","v":0},{"$f":"'5. Offre de transport'!O39","v":0},{"$f":"'5. Offre de transport'!P39","v":0},{"$f":"'5. Offre de transport'!Q39","v":0},{"$f":"'5. Offre de transport'!R39","v":0},{"$f":"'5. Offre de transport'!S39","v":0},{"$f":"'5. Offre de transport'!T39","v":0},{"$f":"'5. Offre de transport'!U39","v":0},{"$f":"'5. Offre de transport'!V39","v":0},{"$f":"'5. Offre de transport'!W39","v":0},{"$f":"'5. Offre de transport'!X39","v":0},{"$f":"'5. Offre de transport'!Y39","v":0},{"$f":"'5. Offre de transport'!Z39","v":0},{"$f":"'5. Offre de transport'!AA39","v":0},{"$f":"'5. Offre de transport'!AB39","v":0},{"$f":"'5. Offre de transport'!AC39","v":0},{"$f":"'5. Offre de transport'!AD39","v":0},{"$f":"'5. Offre de transport'!AE39","v":0},{"$f":"'5. Offre de transport'!AF39","v":0},{"$f":"'5. Offre de transport'!AG39","v":0},{"$f":"'5. Offre de transport'!AH39","v":0},{"$f":"'5. Offre de transport'!AI39","v":0},{"$f":"'5. Offre de transport'!AJ39","v":0},{"$f":"'5. Offre de transport'!AK39","v":0},{"$f":"'5. Offre de transport'!AL39","v":0},{"$f":"'5. Offre de transport'!AM39","v":0},{"$f":"'5. Offre de transport'!AN39","v":0},{"$f":"'5. Offre de transport'!AO39","v":0},{"$f":"'5. Offre de transport'!AP39","v":0},{"$f":"'5. Offre de transport'!AQ39","v":0},{"$f":"'5. Offre de transport'!AR39","v":0},{"$f":"'5. Offre de transport'!AS39","v":0},{"$f":"'5. Offre de transport'!AT39","v":0},{"$f":"'5. Offre de transport'!AU39","v":0},{"$f":"'5. Offre de transport'!AV39","v":0},{"$f":"'5. Offre de transport'!AW39","v":0},{"$f":"'5. Offre de transport'!AX39","v":0},{"$f":"'5. Offre de transport'!AY39","v":0},{"$f":"'5. Offre de transport'!AZ39","v":0},{"$f":"'5. Offre de transport'!BA39","v":0},{"$f":"'5. Offre de transport'!BB39","v":0},{"$f":"'5. Offre de transport'!BC39","v":0},{"$f":"'5. Offre de transport'!BD39","v":0},{"$f":"'5. Offre de transport'!BE39","v":0},{"$f":"'5. Offre de transport'!BF39","v":0},{"$f":"'5. Offre de transport'!BG39","v":0},{"$f":"'5. Offre de transport'!BH39","v":0},{"$f":"'5. Offre de transport'!BI39","v":0},{"$f":"'5. Offre de transport'!BJ39","v":0},{"$f":"'5. Offre de transport'!BK39","v":0},{"$f":"'5. Offre de transport'!BL39","v":0},{"$f":"'5. Offre de transport'!BM39","v":0},{"$f":"'5. Offre de transport'!BN39","v":0},{"$f":"'5. Offre de transport'!BO39","v":0},{"$f":"'5. Offre de transport'!BP39","v":0},{"$f":"'5. Offre de transport'!BQ39","v":0},{"$f":"'5. Offre de transport'!BR39","v":0},{"$f":"'5. Offre de transport'!BS39","v":0},{"$f":"'5. Offre de transport'!BT39","v":0},{"$f":"'5. Offre de transport'!BU39","v":0},{"$f":"'5. Offre de transport'!BV39","v":0},{"$f":"'5. Offre de transport'!BW39","v":0},{"$f":"'5. Offre de transport'!BX39","v":0},{"$f":"'5. Offre de transport'!BY39","v":0},{"$f":"'5. Offre de transport'!BZ39","v":0},{"$f":"'5. Offre de transport'!CA39","v":0},{"$f":"'5. Offre de transport'!CB39","v":0},{"$f":"'5. Offre de transport'!CC39","v":0},{"$f":"'5. Offre de transport'!CD39","v":0},{"$f":"'5. Offre de transport'!CE39","v":0},{"$f":"'5. Offre de transport'!CF39","v":0},{"$f":"'5. Offre de transport'!CG39","v":0},{"$f":"'5. Offre de transport'!CH39","v":0},{"$f":"'5. Offre de transport'!CI39","v":0},{"$f":"'5. Offre de transport'!CJ39","v":0},{"$f":"'5. Offre de transport'!CK39","v":0},{"$f":"'5. Offre de transport'!CL39","v":0},{"$f":"'5. Offre de transport'!CM39","v":0},{"$f":"'5. Offre de transport'!CN39","v":0},{"$f":"'5. Offre de transport'!CO39","v":0},{"$f":"'5. Offre de transport'!CP39","v":0},{"$f":"'5. Offre de transport'!CQ39","v":0},{"$f":"'5. Offre de transport'!CR39","v":0},{"$f":"'5. Offre de transport'!CS39","v":0},{"$f":"'5. Offre de transport'!CT39","v":0},{"$f":"'5. Offre de transport'!CU39","v":0},{"$f":"'5. Offre de transport'!CV39","v":0},{"$f":"'5. Offre de transport'!CW39","v":0},{"$f":"'5. Offre de transport'!CX39","v":0},{"$f":"'5. Offre de transport'!CY39","v":0},{"$f":"'5. Offre de transport'!CZ39","v":0},{"$f":"'5. Offre de transport'!DA39","v":0},{"$f":"'5. Offre de transport'!DB39","v":0},{"$f":"'5. Offre de transport'!DC39","v":0},{"$f":"'5. Offre de transport'!DD39","v":0},{"$f":"'5. Offre de transport'!DE39","v":0},{"$f":"'5. Offre de transport'!DF39","v":0},{"$f":"'5. Offre de transport'!DG39","v":0},{"$f":"'5. Offre de transport'!DH39","v":0},{"$f":"'5. Offre de transport'!DI39","v":0},{"$f":"'5. Offre de transport'!DJ39","v":0},{"$f":"'5. Offre de transport'!DK39","v":0},{"$f":"'5. Offre de transport'!DL39","v":0},{"$f":"'5. Offre de transport'!DM39","v":0},{"$f":"'5. Offre de transport'!DN39","v":0},{"$f":"'5. Offre de transport'!DO39","v":0},{"$f":"'5. Offre de transport'!DP39","v":0},{"$f":"'5. Offre de transport'!DQ39","v":0},{"$f":"'5. Offre de transport'!DR39","v":0},{"$f":"'5. Offre de transport'!DS39","v":0},{"$f":"'5. Offre de transport'!DT39","v":0},{"$f":"'5. Offre de transport'!DU39","v":0},{"$f":"'5. Offre de transport'!DV39","v":0},{"$f":"'5. Offre de transport'!DW39","v":0},{"$f":"'5. Offre de transport'!DX39","v":0},{"$f":"'5. Offre de transport'!DY39","v":0},{"$f":"'5. Offre de transport'!DZ39","v":0},{"$f":"'5. Offre de transport'!EA39","v":0},{"$f":"'5. Offre de transport'!EB39","v":0},{"$f":"'5. Offre de transport'!EC39","v":0},{"$f":"'5. Offre de transport'!ED39","v":0},{"$f":"'5. Offre de transport'!EE39","v":0},{"$f":"'5. Offre de transport'!EF39","v":0},{"$f":"'5. Offre de transport'!EG39","v":0},{"$f":"'5. Offre de transport'!EH39","v":0},{"$f":"'5. Offre de transport'!EI39","v":0},{"$f":"'5. Offre de transport'!EJ39","v":0},{"$f":"'5. Offre de transport'!EK39","v":0},{"$f":"'5. Offre de transport'!EL39","v":0},{"$f":"'5. Offre de transport'!EM39","v":0},{"$f":"'5. Offre de transport'!EN39","v":0},{"$f":"'5. Offre de transport'!EO39","v":0},{"$f":"'5. Offre de transport'!EP39","v":0},{"$f":"'5. Offre de transport'!EQ39","v":0},{"$f":"'5. Offre de transport'!ER39","v":0},{"$f":"'5. Offre de transport'!ES39","v":0},{"$f":"'5. Offre de transport'!ET39","v":0},{"$f":"'5. Offre de transport'!EU39","v":0},{"$f":"'5. Offre de transport'!EV39","v":0},{"$f":"'5. Offre de transport'!EW39","v":0},{"$f":"'5. Offre de transport'!EX39","v":0},{"$f":"'5. Offre de transport'!EY39","v":0},{"$f":"'5. Offre de transport'!EZ39","v":0},{"$f":"'5. Offre de transport'!FA39","v":0},{"$f":"'5. Offre de transport'!FB39","v":0},{"$f":"'5. Offre de transport'!FC39","v":0},{"$f":"'5. Offre de transport'!FD39","v":0},{"$f":"'5. Offre de transport'!FE39","v":0},{"$f":"'5. Offre de transport'!FF39","v":0},{"$f":"'5. Offre de transport'!FG39","v":0},{"$f":"'5. Offre de transport'!FH39","v":0},{"$f":"'5. Offre de transport'!FI39","v":0},{"$f":"'5. Offre de transport'!FJ39","v":0},{"$f":"'5. Offre de transport'!FK39","v":0},{"$f":"'5. Offre de transport'!FL39","v":0},{"$f":"'5. Offre de transport'!FM39","v":0},{"$f":"'5. Offre de transport'!FN39","v":0},{"$f":"'5. Offre de transport'!FO39","v":0},{"$f":"'5. Offre de transport'!FP39","v":0},{"$f":"'5. Offre de transport'!FQ39","v":0},{"$f":"'5. Offre de transport'!FR39","v":0},{"$f":"'5. Offre de transport'!FS39","v":0},{"$f":"'5. Offre de transport'!FT39","v":0},{"$f":"'5. Offre de transport'!FU39","v":0},{"$f":"'5. Offre de transport'!FV39","v":0},{"$f":"'5. Offre de transport'!FW39","v":0},{"$f":"'5. Offre de transport'!FX39","v":0},{"$f":"'5. Offre de transport'!FY39","v":0},{"$f":"'5. Offre de transport'!FZ39","v":0},{"$f":"'5. Offre de transport'!GA39","v":0},{"$f":"'5. Offre de transport'!GB39","v":0},{"$f":"'5. Offre de transport'!GC39","v":0},{"$f":"'5. Offre de transport'!GD39","v":0},{"$f":"'5. Offre de transport'!GE39","v":0},{"$f":"'5. Offre de transport'!GF39","v":0},{"$f":"'5. Offre de transport'!GG39","v":0},{"$f":"'5. Offre de transport'!GH39","v":0},{"$f":"'5. Offre de transport'!GI39","v":0},{"$f":"'5. Offre de transport'!GJ39","v":0},{"$f":"'5. Offre de transport'!GK39","v":0},{"$f":"'5. Offre de transport'!GL39","v":0},{"$f":"'5. Offre de transport'!GM39","v":0},{"$f":"'5. Offre de transport'!GN39","v":0},{"$f":"'5. Offre de transport'!GO39","v":0},{"$f":"'5. Offre de transport'!GP39","v":0},{"$f":"'5. Offre de transport'!GQ39","v":0},{"$f":"'5. Offre de transport'!GR39","v":0},{"$f":"'5. Offre de transport'!GS39","v":0},{"$f":"'5. Offre de transport'!GT39","v":0},{"$f":"'5. Offre de transport'!GU39","v":0},{"$f":"'5. Offre de transport'!GV39","v":0},{"$f":"'5. Offre de transport'!GW39","v":0},{"$f":"'5. Offre de transport'!GX39","v":0},{"$f":"'5. Offre de transport'!GY39","v":0},{"$f":"'5. Offre de transport'!GZ39","v":0},{"$f":"'5. Offre de transport'!HA39","v":0},{"$f":"'5. Offre de transport'!HB39","v":0},{"$f":"'5. Offre de transport'!HC39","v":0},{"$f":"'5. Offre de transport'!HD39","v":0},{"$f":"'5. Offre de transport'!HE39","v":0},{"$f":"'5. Offre de transport'!HF39","v":0},{"$f":"'5. Offre de transport'!HG39","v":0},{"$f":"'5. Offre de transport'!HH39","v":0},{"$f":"'5. Offre de transport'!HI39","v":0},{"$f":"'5. Offre de transport'!HJ39","v":0},{"$f":"'5. Offre de transport'!HK39","v":0},{"$f":"'5. Offre de transport'!HL39","v":0},{"$f":"'5. Offre de transport'!HM39","v":0},{"$f":"'5. Offre de transport'!HN39","v":0},{"$f":"'5. Offre de transport'!HO39","v":0},{"$f":"'5. Offre de transport'!HP39","v":0},{"$f":"'5. Offre de transport'!HQ39","v":0},{"$f":"'5. Offre de transport'!HR39","v":0},{"$f":"'5. Offre de transport'!HS39","v":0},{"$f":"'5. Offre de transport'!HT39","v":0},{"$f":"'5. Offre de transport'!HU39","v":0},{"$f":"'5. Offre de transport'!HV39","v":0},{"$f":"'5. Offre de transport'!HW39","v":0},{"$f":"'5. Offre de transport'!HX39","v":0},{"$f":"'5. Offre de transport'!HY39","v":0},{"$f":"'5. Offre de transport'!HZ39","v":0},{"$f":"'5. Offre de transport'!IA39","v":0},{"$f":"'5. Offre de transport'!IB39","v":0},{"$f":"'5. Offre de transport'!IC39","v":0},{"$f":"'5. Offre de transport'!ID39","v":0},{"$f":"'5. Offre de transport'!IE39","v":0},{"$f":"'5. Offre de transport'!IF39","v":0},{"$f":"'5. Offre de transport'!IG39","v":0},{"$f":"'5. Offre de transport'!IH39","v":0},{"$f":"'5. Offre de transport'!II39","v":0},{"$f":"'5. Offre de transport'!IJ39","v":0},{"$f":"'5. Offre de transport'!IK39","v":0},{"$f":"'5. Offre de transport'!IL39","v":0},{"$f":"'5. Offre de transport'!IM39","v":0},{"$f":"'5. Offre de transport'!IN39","v":0},{"$f":"'5. Offre de transport'!IO39","v":0},{"$f":"'5. Offre de transport'!IP39","v":0},{"$f":"'5. Offre de transport'!IQ39","v":0},{"$f":"'5. Offre de transport'!IR39","v":0},{"$f":"'5. Offre de transport'!IS39","v":0},{"$f":"'5. Offre de transport'!IT39","v":0},{"$f":"'5. Offre de transport'!IU39","v":0},{"$f":"'5. Offre de transport'!IV39","v":0},{"$f":"'5. Offre de transport'!IW39","v":0},{"$f":"'5. Offre de transport'!IX39","v":0},{"$f":"'5. Offre de transport'!IY39","v":0},{"$f":"'5. Offre de transport'!IZ39","v":0},{"$f":"'5. Offre de transport'!JA39","v":0},{"$f":"'5. Offre de transport'!JB39","v":0},{"$f":"'5. Offre de transport'!JC39","v":0},{"$f":"'5. Offre de transport'!JD39","v":0},{"$f":"'5. Offre de transport'!JE39","v":0},{"$f":"'5. Offre de transport'!JF39","v":0},{"$f":"'5. Offre de transport'!JG39","v":0},{"$f":"'5. Offre de transport'!JH39","v":0},{"$f":"'5. Offre de transport'!JI39","v":0},{"$f":"'5. Offre de transport'!JJ39","v":0},{"$f":"'5. Offre de transport'!JK39","v":0},{"$f":"'5. Offre de transport'!JL39","v":0},{"$f":"'5. Offre de transport'!JM39","v":0},{"$f":"'5. Offre de transport'!JN39","v":0},{"$f":"'5. Offre de transport'!JO39","v":0},{"$f":"'5. Offre de transport'!JP39","v":0},{"$f":"'5. Offre de transport'!JQ39","v":0},{"$f":"'5. Offre de transport'!JR39","v":0},{"$f":"'5. Offre de transport'!JS39","v":0},{"$f":"'5. Offre de transport'!JT39","v":0},{"$f":"'5. Offre de transport'!JU39","v":0},{"$f":"'5. Offre de transport'!JV39","v":0},{"$f":"'5. Offre de transport'!JW39","v":0},{"$f":"'5. Offre de transport'!JX39","v":0},{"$f":"'5. Offre de transport'!JY39","v":0},{"$f":"'5. Offre de transport'!JZ39","v":0},{"$f":"'5. Offre de transport'!KA39","v":0},{"$f":"'5. Offre de transport'!KB39","v":0},{"$f":"'5. Offre de transport'!KC39","v":0},{"$f":"'5. Offre de transport'!KD39","v":0},{"$f":"'5. Offre de transport'!KE39","v":0},{"$f":"'5. Offre de transport'!KF39","v":0},{"$f":"'5. Offre de transport'!KG39","v":0},{"$f":"'5. Offre de transport'!KH39","v":0},{"$f":"'5. Offre de transport'!KI39","v":0},{"$f":"'5. Offre de transport'!KJ39","v":0},{"$f":"'5. Offre de transport'!KK39","v":0},{"$f":"'5. Offre de transport'!KL39","v":0},{"$f":"'5. Offre de transport'!KM39","v":0},{"$f":"'5. Offre de transport'!KN39","v":0},{"$f":"'5. Offre de transport'!KO39","v":0},{"$f":"'5. Offre de transport'!KP39","v":0},{"$f":"'5. Offre de transport'!KQ39","v":0},{"$f":"'5. Offre de transport'!KR39","v":0},{"$f":"'5. Offre de transport'!KS39","v":0},{"$f":"'5. Offre de transport'!KT39","v":0},{"$f":"'5. Offre de transport'!KU39","v":0},{"$f":"'5. Offre de transport'!KV39","v":0},{"$f":"'5. Offre de transport'!KW39","v":0},{"$f":"'5. Offre de transport'!KX39","v":0},{"$f":"'5. Offre de transport'!KY39","v":0},{"$f":"'5. Offre de transport'!KZ39","v":0},{"$f":"'5. Offre de transport'!LA39","v":0},{"$f":"'5. Offre de transport'!LB39","v":0},{"$f":"'5. Offre de transport'!LC39","v":0},{"$f":"'5. Offre de transport'!LD39","v":0},{"$f":"'5. Offre de transport'!LE39","v":0},{"$f":"'5. Offre de transport'!LF39","v":0},{"$f":"'5. Offre de transport'!LG39","v":0},{"$f":"'5. Offre de transport'!LH39","v":0},{"$f":"'5. Offre de transport'!LI39","v":0},{"$f":"'5. Offre de transport'!LJ39","v":0},{"$f":"'5. Offre de transport'!LK39","v":0},{"$f":"'5. Offre de transport'!LL39","v":0},{"$f":"'5. Offre de transport'!LM39","v":0},{"$f":"'5. Offre de transport'!LN39","v":0},{"$f":"'5. Offre de transport'!LO39","v":0},{"$f":"'5. Offre de transport'!LP39","v":0},{"$f":"'5. Offre de transport'!LQ39","v":0},{"$f":"'5. Offre de transport'!LR39","v":0},{"$f":"'5. Offre de transport'!LS39","v":0},{"$f":"'5. Offre de transport'!LT39","v":0},{"$f":"'5. Offre de transport'!LU39","v":0},{"$f":"'5. Offre de transport'!LV39","v":0},{"$f":"'5. Offre de transport'!LW39","v":0},{"$f":"'5. Offre de transport'!LX39","v":0},{"$f":"'5. Offre de transport'!LY39","v":0},{"$f":"'5. Offre de transport'!LZ39","v":0},{"$f":"'5. Offre de transport'!MA39","v":0},{"$f":"'5. Offre de transport'!MB39","v":0},{"$f":"'5. Offre de transport'!MC39","v":0},{"$f":"'5. Offre de transport'!MD39","v":0},{"$f":"'5. Offre de transport'!ME39","v":0},{"$f":"'5. Offre de transport'!MF39","v":0},{"$f":"'5. Offre de transport'!MG39","v":0},{"$f":"'5. Offre de transport'!MH39","v":0},{"$f":"'5. Offre de transport'!MI39","v":0},{"$f":"'5. Offre de transport'!MJ39","v":0},{"$f":"'5. Offre de transport'!MK39","v":0},{"$f":"'5. Offre de transport'!ML39","v":0},{"$f":"'5. Offre de transport'!MM39","v":0},{"$f":"'5. Offre de transport'!MN39","v":0},{"$f":"'5. Offre de transport'!MO39","v":0},{"$f":"'5. Offre de transport'!MP39","v":0},{"$f":"'5. Offre de transport'!MQ39","v":0},{"$f":"'5. Offre de transport'!MR39","v":0},{"$f":"'5. Offre de transport'!MS39","v":0},{"$f":"'5. Offre de transport'!MT39","v":0},{"$f":"'5. Offre de transport'!MU39","v":0},{"$f":"'5. Offre de transport'!MV39","v":0},{"$f":"'5. Offre de transport'!MW39","v":0},{"$f":"'5. Offre de transport'!MX39","v":0},{"$f":"'5. Offre de transport'!MY39","v":0},{"$f":"'5. Offre de transport'!MZ39","v":0}]
[null,{"$f":"'5. Offre de transport'!B40","v":22},{"$f":"'5. Offre de transport'!C40","v":0},{"$f":"'5. Offre de transport'!D40","v":0},{"$f":"'5. Offre de transport'!E40","v":0},{"$f":"'5. Offre de transport'!F40","v":0},{"$f":"'5. Offre de transport'!G40","v":0},{"$f":"'5. Offre de transport'!H40","v":0},{"$f":"'5. Offre de transport'!I40","v":0},{"$f":"'5. Offre de transport'!J40","v":0},{"$f":"'5. Offre de transport'!K40","v":0},{"$f":"'5. Offre de transport'!L40","v":0},{"$f":"'5. Offre de transport'!M40","v":0},{"$f":"'5. Offre de transport'!N40","v":0},{"$f":"'5. Offre de transport'!O40","v":0},{"$f":"'5. Offre de transport'!P40","v":0},{"$f":"'5. Offre de transport'!Q40","v":0},{"$f":"'5. Offre de transport'!R40","v":0},{"$f":"'5. Offre de transport'!S40","v":0},{"$f":"'5. Offre de transport'!T40","v":0},{"$f":"'5. Offre de transport'!U40","v":0},{"$f":"'5. Offre de transport'!V40","v":0},{"$f":"'5. Offre de transport'!W40","v":0},{"$f":"'5. Offre de transport'!X40","v":0},{"$f":"'5. Offre de transport'!Y40","v":0},{"$f":"'5. Offre de transport'!Z40","v":0},{"$f":"'5. Offre de transport'!AA40","v":0},{"$f":"'5. Offre de transport'!AB40","v":0},{"$f":"'5. Offre de transport'!AC40","v":0},{"$f":"'5. Offre de transport'!AD40","v":0},{"$f":"'5. Offre de transport'!AE40","v":0},{"$f":"'5. Offre de transport'!AF40","v":0},{"$f":"'5. Offre de transport'!AG40","v":0},{"$f":"'5. Offre de transport'!AH40","v":0},{"$f":"'5. Offre de transport'!AI40","v":0},{"$f":"'5. Offre de transport'!AJ40","v":0},{"$f":"'5. Offre de transport'!AK40","v":0},{"$f":"'5. Offre de transport'!AL40","v":0},{"$f":"'5. Offre de transport'!AM40","v":0},{"$f":"'5. Offre de transport'!AN40","v":0},{"$f":"'5. Offre de transport'!AO40","v":0},{"$f":"'5. Offre de transport'!AP40","v":0},{"$f":"'5. Offre de transport'!AQ40","v":0},{"$f":"'5. Offre de transport'!AR40","v":0},{"$f":"'5. Offre de transport'!AS40","v":0},{"$f":"'5. Offre de transport'!AT40","v":0},{"$f":"'5. Offre de transport'!AU40","v":0},{"$f":"'5. Offre de transport'!AV40","v":0},{"$f":"'5. Offre de transport'!AW40","v":0},{"$f":"'5. Offre de transport'!AX40","v":0},{"$f":"'5. Offre de transport'!AY40","v":0},{"$f":"'5. Offre de transport'!AZ40","v":0},{"$f":"'5. Offre de transport'!BA40","v":0},{"$f":"'5. Offre de transport'!BB40","v":0},{"$f":"'5. Offre de transport'!BC40","v":0},{"$f":"'5. Offre de transport'!BD40","v":0},{"$f":"'5. Offre de transport'!BE40","v":0},{"$f":"'5. Offre de transport'!BF40","v":0},{"$f":"'5. Offre de transport'!BG40","v":0},{"$f":"'5. Offre de transport'!BH40","v":0},{"$f":"'5. Offre de transport'!BI40","v":0},{"$f":"'5. Offre de transport'!BJ40","v":0},{"$f":"'5. Offre de transport'!BK40","v":0},{"$f":"'5. Offre de transport'!BL40","v":0},{"$f":"'5. Offre de transport'!BM40","v":0},{"$f":"'5. Offre de transport'!BN40","v":0},{"$f":"'5. Offre de transport'!BO40","v":0},{"$f":"'5. Offre de transport'!BP40","v":0},{"$f":"'5. Offre de transport'!BQ40","v":0},{"$f":"'5. Offre de transport'!BR40","v":0},{"$f":"'5. Offre de transport'!BS40","v":0},{"$f":"'5. Offre de transport'!BT40","v":0},{"$f":"'5. Offre de transport'!BU40","v":0},{"$f":"'5. Offre de transport'!BV40","v":0},{"$f":"'5. Offre de transport'!BW40","v":0},{"$f":"'5. Offre de transport'!BX40","v":0},{"$f":"'5. Offre de transport'!BY40","v":0},{"$f":"'5. Offre de transport'!BZ40","v":0},{"$f":"'5. Offre de transport'!CA40","v":0},{"$f":"'5. Offre de transport'!CB40","v":0},{"$f":"'5. Offre de transport'!CC40","v":0},{"$f":"'5. Offre de transport'!CD40","v":0},{"$f":"'5. Offre de transport'!CE40","v":0},{"$f":"'5. Offre de transport'!CF40","v":0},{"$f":"'5. Offre de transport'!CG40","v":0},{"$f":"'5. Offre de transport'!CH40","v":0},{"$f":"'5. Offre de transport'!CI40","v":0},{"$f":"'5. Offre de transport'!CJ40","v":0},{"$f":"'5. Offre de transport'!CK40","v":0},{"$f":"'5. Offre de transport'!CL40","v":0},{"$f":"'5. Offre de transport'!CM40","v":0},{"$f":"'5. Offre de transport'!CN40","v":0},{"$f":"'5. Offre de transport'!CO40","v":0},{"$f":"'5. Offre de transport'!CP40","v":0},{"$f":"'5. Offre de transport'!CQ40","v":0},{"$f":"'5. Offre de transport'!CR40","v":0},{"$f":"'5. Offre de transport'!CS40","v":0},{"$f":"'5. Offre de transport'!CT40","v":0},{"$f":"'5. Offre de transport'!CU40","v":0},{"$f":"'5. Offre de transport'!CV40","v":0},{"$f":"'5. Offre de transport'!CW40","v":0},{"$f":"'5. Offre de transport'!CX40","v":0},{"$f":"'5. Offre de transport'!CY40","v":0},{"$f":"'5. Offre de transport'!CZ40","v":0},{"$f":"'5. Offre de transport'!DA40","v":0},{"$f":"'5. Offre de transport'!DB40","v":0},{"$f":"'5. Offre de transport'!DC40","v":0},{"$f":"'5. Offre de transport'!DD40","v":0},{"$f":"'5. Offre de transport'!DE40","v":0},{"$f":"'5. Offre de transport'!DF40","v":0},{"$f":"'5. Offre de transport'!DG40","v":0},{"$f":"'5. Offre de transport'!DH40","v":0},{"$f":"'5. Offre de transport'!DI40","v":0},{"$f":"'5. Offre de transport'!DJ40","v":0},{"$f":"'5. Offre de transport'!DK40","v":0},{"$f":"'5. Offre de transport'!DL40","v":0},{"$f":"'5. Offre de transport'!DM40","v":0},{"$f":"'5. Offre de transport'!DN40","v":0},{"$f":"'5. Offre de transport'!DO40","v":0},{"$f":"'5. Offre de transport'!DP40","v":0},{"$f":"'5. Offre de transport'!DQ40","v":0},{"$f":"'5. Offre de transport'!DR40","v":0},{"$f":"'5. Offre de transport'!DS40","v":0},{"$f":"'5. Offre de transport'!DT40","v":0},{"$f":"'5. Offre de transport'!DU40","v":0},{"$f":"'5. Offre de transport'!DV40","v":0},{"$f":"'5. Offre de transport'!DW40","v":0},{"$f":"'5. Offre de transport'!DX40","v":0},{"$f":"'5. Offre de transport'!DY40","v":0},{"$f":"'5. Offre de transport'!DZ40","v":0},{"$f":"'5. Offre de transport'!EA40","v":0},{"$f":"'5. Offre de transport'!EB40","v":0},{"$f":"'5. Offre de transport'!EC40","v":0},{"$f":"'5. Offre de transport'!ED40","v":0},{"$f":"'5. Offre de transport'!EE40","v":0},{"$f":"'5. Offre de transport'!EF40","v":0},{"$f":"'5. Offre de transport'!EG40","v":0},{"$f":"'5. Offre de transport'!EH40","v":0},{"$f":"'5. Offre de transport'!EI40","v":0},{"$f":"'5. Offre de transport'!EJ40","v":0},{"$f":"'5. Offre de transport'!EK40","v":0},{"$f":"'5. Offre de transport'!EL40","v":0},{"$f":"'5. Offre de transport'!EM40","v":0},{"$f":"'5. Offre de transport'!EN40","v":0},{"$f":"'5. Offre de transport'!EO40","v":0},{"$f":"'5. Offre de transport'!EP40","v":0},{"$f":"'5. Offre de transport'!EQ40","v":0},{"$f":"'5. Offre de transport'!ER40","v":0},{"$f":"'5. Offre de transport'!ES40","v":0},{"$f":"'5. Offre de transport'!ET40","v":0},{"$f":"'5. Offre de transport'!EU40","v":0},{"$f":"'5. Offre de transport'!EV40","v":0},{"$f":"'5. Offre de transport'!EW40","v":0},{"$f":"'5. Offre de transport'!EX40","v":0},{"$f":"'5. Offre de transport'!EY40","v":0},{"$f":"'5. Offre de transport'!EZ40","v":0},{"$f":"'5. Offre de transport'!FA40","v":0},{"$f":"'5. Offre de transport'!FB40","v":0},{"$f":"'5. Offre de transport'!FC40","v":0},{"$f":"'5. Offre de transport'!FD40","v":0},{"$f":"'5. Offre de transport'!FE40","v":0},{"$f":"'5. Offre de transport'!FF40","v":0},{"$f":"'5. Offre de transport'!FG40","v":0},{"$f":"'5. Offre de transport'!FH40","v":0},{"$f":"'5. Offre de transport'!FI40","v":0},{"$f":"'5. Offre de transport'!FJ40","v":0},{"$f":"'5. Offre de transport'!FK40","v":0},{"$f":"'5. Offre de transport'!FL40","v":0},{"$f":"'5. Offre de transport'!FM40","v":0},{"$f":"'5. Offre de transport'!FN40","v":0},{"$f":"'5. Offre de transport'!FO40","v":0},{"$f":"'5. Offre de transport'!FP40","v":0},{"$f":"'5. Offre de transport'!FQ40","v":0},{"$f":"'5. Offre de transport'!FR40","v":0},{"$f":"'5. Offre de transport'!FS40","v":0},{"$f":"'5. Offre de transport'!FT40","v":0},{"$f":"'5. Offre de transport'!FU40","v":0},{"$f":"'5. Offre de transport'!FV40","v":0},{"$f":"'5. Offre de transport'!FW40","v":0},{"$f":"'5. Offre de transport'!FX40","v":0},{"$f":"'5. Offre de transport'!FY40","v":0},{"$f":"'5. Offre de transport'!FZ40","v":0},{"$f":"'5. Offre de transport'!GA40","v":0},{"$f":"'5. Offre de transport'!GB40","v":0},{"$f":"'5. Offre de transport'!GC40","v":0},{"$f":"'5. Offre de transport'!GD40","v":0},{"$f":"'5. Offre de transport'!GE40","v":0},{"$f":"'5. Offre de transport'!GF40","v":0},{"$f":"'5. Offre de transport'!GG40","v":0},{"$f":"'5. Offre de transport'!GH40","v":0},{"$f":"'5. Offre de transport'!GI40","v":0},{"$f":"'5. Offre de transport'!GJ40","v":0},{"$f":"'5. Offre de transport'!GK40","v":0},{"$f":"'5. Offre de transport'!GL40","v":0},{"$f":"'5. Offre de transport'!GM40","v":0},{"$f":"'5. Offre de transport'!GN40","v":0},{"$f":"'5. Offre de transport'!GO40","v":0},{"$f":"'5. Offre de transport'!GP40","v":0},{"$f":"'5. Offre de transport'!GQ40","v":0},{"$f":"'5. Offre de transport'!GR40","v":0},{"$f":"'5. Offre de transport'!GS40","v":0},{"$f":"'5. Offre de transport'!GT40","v":0},{"$f":"'5. Offre de transport'!GU40","v":0},{"$f":"'5. Offre de transport'!GV40","v":0},{"$f":"'5. Offre de transport'!GW40","v":0},{"$f":"'5. Offre de transport'!GX40","v":0},{"$f":"'5. Offre de transport'!GY40","v":0},{"$f":"'5. Offre de transport'!GZ40","v":0},{"$f":"'5. Offre de transport'!HA40","v":0},{"$f":"'5. Offre de transport'!HB40","v":0},{"$f":"'5. Offre de transport'!HC40","v":0},{"$f":"'5. Offre de transport'!HD40","v":0},{"$f":"'5. Offre de transport'!HE40","v":0},{"$f":"'5. Offre de transport'!HF40","v":0},{"$f":"'5. Offre de transport'!HG40","v":0},{"$f":"'5. Offre de transport'!HH40","v":0},{"$f":"'5. Offre de transport'!HI40","v":0},{"$f":"'5. Offre de transport'!HJ40","v":0},{"$f":"'5. Offre de transport'!HK40","v":0},{"$f":"'5. Offre de transport'!HL40","v":0},{"$f":"'5. Offre de transport'!HM40","v":0},{"$f":"'5. Offre de transport'!HN40","v":0},{"$f":"'5. Offre de transport'!HO40","v":0},{"$f":"'5. Offre de transport'!HP40","v":0},{"$f":"'5. Offre de transport'!HQ40","v":0},{"$f":"'5. Offre de transport'!HR40","v":0},{"$f":"'5. Offre de transport'!HS40","v":0},{"$f":"'5. Offre de transport'!HT40","v":0},{"$f":"'5. Offre de transport'!HU40","v":0},{"$f":"'5. Offre de transport'!HV40","v":0},{"$f":"'5. Offre de transport'!HW40","v":0},{"$f":"'5. Offre de transport'!HX40","v":0},{"$f":"'5. Offre de transport'!HY40","v":0},{"$f":"'5. Offre de transport'!HZ40","v":0},{"$f":"'5. Offre de transport'!IA40","v":0},{"$f":"'5. Offre de transport'!IB40","v":0},{"$f":"'5. Offre de transport'!IC40","v":0},{"$f":"'5. Offre de transport'!ID40","v":0},{"$f":"'5. Offre de transport'!IE40","v":0},{"$f":"'5. Offre de transport'!IF40","v":0},{"$f":"'5. Offre de transport'!IG40","v":0},{"$f":"'5. Offre de transport'!IH40","v":0},{"$f":"'5. Offre de transport'!II40","v":0},{"$f":"'5. Offre de transport'!IJ40","v":0},{"$f":"'5. Offre de transport'!IK40","v":0},{"$f":"'5. Offre de transport'!IL40","v":0},{"$f":"'5. Offre de transport'!IM40","v":0},{"$f":"'5. Offre de transport'!IN40","v":0},{"$f":"'5. Offre de transport'!IO40","v":0},{"$f":"'5. Offre de transport'!IP40","v":0},{"$f":"'5. Offre de transport'!IQ40","v":0},{"$f":"'5. Offre de transport'!IR40","v":0},{"$f":"'5. Offre de transport'!IS40","v":0},{"$f":"'5. Offre de transport'!IT40","v":0},{"$f":"'5. Offre de transport'!IU40","v":0},{"$f":"'5. Offre de transport'!IV40","v":0},{"$f":"'5. Offre de transport'!IW40","v":0},{"$f":"'5. Offre de transport'!IX40","v":0},{"$f":"'5. Offre de transport'!IY40","v":0},{"$f":"'5. Offre de transport'!IZ40","v":0},{"$f":"'5. Offre de transport'!JA40","v":0},{"$f":"'5. Offre de transport'!JB40","v":0},{"$f":"'5. Offre de transport'!JC40","v":0},{"$f":"'5. Offre de transport'!JD40","v":0},{"$f":"'5. Offre de transport'!JE40","v":0},{"$f":"'5. Offre de transport'!JF40","v":0},{"$f":"'5. Offre de transport'!JG40","v":0},{"$f":"'5. Offre de transport'!JH40","v":0},{"$f":"'5. Offre de transport'!JI40","v":0},{"$f":"'5. Offre de transport'!JJ40","v":0},{"$f":"'5. Offre de transport'!JK40","v":0},{"$f":"'5. Offre de transport'!JL40","v":0},{"$f":"'5. Offre de transport'!JM40","v":0},{"$f":"'5. Offre de transport'!JN40","v":0},{"$f":"'5. Offre de transport'!JO40","v":0},{"$f":"'5. Offre de transport'!JP40","v":0},{"$f":"'5. Offre de transport'!JQ40","v":0},{"$f":"'5. Offre de transport'!JR40","v":0},{"$f":"'5. Offre de transport'!JS40","v":0},{"$f":"'5. Offre de transport'!JT40","v":0},{"$f":"'5. Offre de transport'!JU40","v":0},{"$f":"'5. Offre de transport'!JV40","v":0},{"$f":"'5. Offre de transport'!JW40","v":0},{"$f":"'5. Offre de transport'!JX40","v":0},{"$f":"'5. Offre de transport'!JY40","v":0},{"$f":"'5. Offre de transport'!JZ40","v":0},{"$f":"'5. Offre de transport'!KA40","v":0},{"$f":"'5. Offre de transport'!KB40","v":0},{"$f":"'5. Offre de transport'!KC40","v":0},{"$f":"'5. Offre de transport'!KD40","v":0},{"$f":"'5. Offre de transport'!KE40","v":0},{"$f":"'5. Offre de transport'!KF40","v":0},{"$f":"'5. Offre de transport'!KG40","v":0},{"$f":"'5. Offre de transport'!KH40","v":0},{"$f":"'5. Offre de transport'!KI40","v":0},{"$f":"'5. Offre de transport'!KJ40","v":0},{"$f":"'5. Offre de transport'!KK40","v":0},{"$f":"'5. Offre de transport'!KL40","v":0},{"$f":"'5. Offre de transport'!KM40","v":0},{"$f":"'5. Offre de transport'!KN40","v":0},{"$f":"'5. Offre de transport'!KO40","v":0},{"$f":"'5. Offre de transport'!KP40","v":0},{"$f":"'5. Offre de transport'!KQ40","v":0},{"$f":"'5. Offre de transport'!KR40","v":0},{"$f":"'5. Offre de transport'!KS40","v":0},{"$f":"'5. Offre de transport'!KT40","v":0},{"$f":"'5. Offre de transport'!KU40","v":0},{"$f":"'5. Offre de transport'!KV40","v":0},{"$f":"'5. Offre de transport'!KW40","v":0},{"$f":"'5. Offre de transport'!KX40","v":0},{"$f":"'5. Offre de transport'!KY40","v":0},{"$f":"'5. Offre de transport'!KZ40","v":0},{"$f":"'5. Offre de transport'!LA40","v":0},{"$f":"'5. Offre de transport'!LB40","v":0},{"$f":"'5. Offre de transport'!LC40","v":0},{"$f":"'5. Offre de transport'!LD40","v":0},{"$f":"'5. Offre de transport'!LE40","v":0},{"$f":"'5. Offre de transport'!LF40","v":0},{"$f":"'5. Offre de transport'!LG40","v":0},{"$f":"'5. Offre de transport'!LH40","v":0},{"$f":"'5. Offre de transport'!LI40","v":0},{"$f":"'5. Offre de transport'!LJ40","v":0},{"$f":"'5. Offre de transport'!LK40","v":0},{"$f":"'5. Offre de transport'!LL40","v":0},{"$f":"'5. Offre de transport'!LM40","v":0},{"$f":"'5. Offre de transport'!LN40","v":0},{"$f":"'5. Offre de transport'!LO40","v":0},{"$f":"'5. Offre de transport'!LP40","v":0},{"$f":"'5. Offre de transport'!LQ40","v":0},{"$f":"'5. Offre de transport'!LR40","v":0},{"$f":"'5. Offre de transport'!LS40","v":0},{"$f":"'5. Offre de transport'!LT40","v":0},{"$f":"'5. Offre de transport'!LU40","v":0},{"$f":"'5. Offre de transport'!LV40","v":0},{"$f":"'5. Offre de transport'!LW40","v":0},{"$f":"'5. Offre de transport'!LX40","v":0},{"$f":"'5. Offre de transport'!LY40","v":0},{"$f":"'5. Offre de transport'!LZ40","v":0},{"$f":"'5. Offre de transport'!MA40","v":0},{"$f":"'5. Offre de transport'!MB40","v":0},{"$f":"'5. Offre de transport'!MC40","v":0},{"$f":"'5. Offre de transport'!MD40","v":0},{"$f":"'5. Offre de transport'!ME40","v":0},{"$f":"'5. Offre de transport'!MF40","v":0},{"$f":"'5. Offre de transport'!MG40","v":0},{"$f":"'5. Offre de transport'!MH40","v":0},{"$f":"'5. Offre de transport'!MI40","v":0},{"$f":"'5. Offre de transport'!MJ40","v":0},{"$f":"'5. Offre de transport'!MK40","v":0},{"$f":"'5. Offre de transport'!ML40","v":0},{"$f":"'5. Offre de transport'!MM40","v":0},{"$f":"'5. Offre de transport'!MN40","v":0},{"$f":"'5. Offre de transport'!MO40","v":0},{"$f":"'5. Offre de transport'!MP40","v":0},{"$f":"'5. Offre de transport'!MQ40","v":0},{"$f":"'5. Offre de transport'!MR40","v":0},{"$f":"'5. Offre de transport'!MS40","v":0},{"$f":"'5. Offre de transport'!MT40","v":0},{"$f":"'5. Offre de transport'!MU40","v":0},{"$f":"'5. Offre de transport'!MV40","v":0},{"$f":"'5. Offre de transport'!MW40","v":0},{"$f":"'5. Offre de transport'!MX40","v":0},{"$f":"'5. Offre de transport'!MY40","v":0},{"$f":"'5. Offre de transport'!MZ40","v":0}]
[null,{"$f":"'5. Offre de transport'!B41","v":23},{"$f":"'5. Offre de transport'!C41","v":0},{"$f":"'5. Offre de transport'!D41","v":0},{"$f":"'5. Offre de transport'!E41","v":0},{"$f":"'5. Offre de transport'!F41","v":0},{"$f":"'5. Offre de transport'!G41","v":0},{"$f":"'5. Offre de transport'!H41","v":0},{"$f":"'5. Offre de transport'!I41","v":0},{"$f":"'5. Offre de transport'!J41","v":0},{"$f":"'5. Offre de transport'!K41","v":0},{"$f":"'5. Offre de transport'!L41","v":0},{"$f":"'5. Offre de transport'!M41","v":0},{"$f":"'5. Offre de transport'!N41","v":0},{"$f":"'5. Offre de transport'!O41","v":0},{"$f":"'5. Offre de transport'!P41","v":0},{"$f":"'5. Offre de transport'!Q41","v":0},{"$f":"'5. Offre de transport'!R41","v":0},{"$f":"'5. Offre de transport'!S41","v":0},{"$f":"'5. Offre de transport'!T41","v":0},{"$f":"'5. Offre de transport'!U41","v":0},{"$f":"'5. Offre de transport'!V41","v":0},{"$f":"'5. Offre de transport'!W41","v":0},{"$f":"'5. Offre de transport'!X41","v":0},{"$f":"'5. Offre de transport'!Y41","v":0},{"$f":"'5. Offre de transport'!Z41","v":0},{"$f":"'5. Offre de transport'!AA41","v":0},{"$f":"'5. Offre de transport'!AB41","v":0},{"$f":"'5. Offre de transport'!AC41","v":0},{"$f":"'5. Offre de transport'!AD41","v":0},{"$f":"'5. Offre de transport'!AE41","v":0},{"$f":"'5. Offre de transport'!AF41","v":0},{"$f":"'5. Offre de transport'!AG41","v":0},{"$f":"'5. Offre de transport'!AH41","v":0},{"$f":"'5. Offre de transport'!AI41","v":0},{"$f":"'5. Offre de transport'!AJ41","v":0},{"$f":"'5. Offre de transport'!AK41","v":0},{"$f":"'5. Offre de transport'!AL41","v":0},{"$f":"'5. Offre de transport'!AM41","v":0},{"$f":"'5. Offre de transport'!AN41","v":0},{"$f":"'5. Offre de transport'!AO41","v":0},{"$f":"'5. Offre de transport'!AP41","v":0},{"$f":"'5. Offre de transport'!AQ41","v":0},{"$f":"'5. Offre de transport'!AR41","v":0},{"$f":"'5. Offre de transport'!AS41","v":0},{"$f":"'5. Offre de transport'!AT41","v":0},{"$f":"'5. Offre de transport'!AU41","v":0},{"$f":"'5. Offre de transport'!AV41","v":0},{"$f":"'5. Offre de transport'!AW41","v":0},{"$f":"'5. Offre de transport'!AX41","v":0},{"$f":"'5. Offre de transport'!AY41","v":0},{"$f":"'5. Offre de transport'!AZ41","v":0},{"$f":"'5. Offre de transport'!BA41","v":0},{"$f":"'5. Offre de transport'!BB41","v":0},{"$f":"'5. Offre de transport'!BC41","v":0},{"$f":"'5. Offre de transport'!BD41","v":0},{"$f":"'5. Offre de transport'!BE41","v":0},{"$f":"'5. Offre de transport'!BF41","v":0},{"$f":"'5. Offre de transport'!BG41","v":0},{"$f":"'5. Offre de transport'!BH41","v":0},{"$f":"'5. Offre de transport'!BI41","v":0},{"$f":"'5. Offre de transport'!BJ41","v":0},{"$f":"'5. Offre de transport'!BK41","v":0},{"$f":"'5. Offre de transport'!BL41","v":0},{"$f":"'5. Offre de transport'!BM41","v":0},{"$f":"'5. Offre de transport'!BN41","v":0},{"$f":"'5. Offre de transport'!BO41","v":0},{"$f":"'5. Offre de transport'!BP41","v":0},{"$f":"'5. Offre de transport'!BQ41","v":0},{"$f":"'5. Offre de transport'!BR41","v":0},{"$f":"'5. Offre de transport'!BS41","v":0},{"$f":"'5. Offre de transport'!BT41","v":0},{"$f":"'5. Offre de transport'!BU41","v":0},{"$f":"'5. Offre de transport'!BV41","v":0},{"$f":"'5. Offre de transport'!BW41","v":0},{"$f":"'5. Offre de transport'!BX41","v":0},{"$f":"'5. Offre de transport'!BY41","v":0},{"$f":"'5. Offre de transport'!BZ41","v":0},{"$f":"'5. Offre de transport'!CA41","v":0},{"$f":"'5. Offre de transport'!CB41","v":0},{"$f":"'5. Offre de transport'!CC41","v":0},{"$f":"'5. Offre de transport'!CD41","v":0},{"$f":"'5. Offre de transport'!CE41","v":0},{"$f":"'5. Offre de transport'!CF41","v":0},{"$f":"'5. Offre de transport'!CG41","v":0},{"$f":"'5. Offre de transport'!CH41","v":0},{"$f":"'5. Offre de transport'!CI41","v":0},{"$f":"'5. Offre de transport'!CJ41","v":0},{"$f":"'5. Offre de transport'!CK41","v":0},{"$f":"'5. Offre de transport'!CL41","v":0},{"$f":"'5. Offre de transport'!CM41","v":0},{"$f":"'5. Offre de transport'!CN41","v":0},{"$f":"'5. Offre de transport'!CO41","v":0},{"$f":"'5. Offre de transport'!CP41","v":0},{"$f":"'5. Offre de transport'!CQ41","v":0},{"$f":"'5. Offre de transport'!CR41","v":0},{"$f":"'5. Offre de transport'!CS41","v":0},{"$f":"'5. Offre de transport'!CT41","v":0},{"$f":"'5. Offre de transport'!CU41","v":0},{"$f":"'5. Offre de transport'!CV41","v":0},{"$f":"'5. Offre de transport'!CW41","v":0},{"$f":"'5. Offre de transport'!CX41","v":0},{"$f":"'5. Offre de transport'!CY41","v":0},{"$f":"'5. Offre de transport'!CZ41","v":0},{"$f":"'5. Offre de transport'!DA41","v":0},{"$f":"'5. Offre de transport'!DB41","v":0},{"$f":"'5. Offre de transport'!DC41","v":0},{"$f":"'5. Offre de transport'!DD41","v":0},{"$f":"'5. Offre de transport'!DE41","v":0},{"$f":"'5. Offre de transport'!DF41","v":0},{"$f":"'5. Offre de transport'!DG41","v":0},{"$f":"'5. Offre de transport'!DH41","v":0},{"$f":"'5. Offre de transport'!DI41","v":0},{"$f":"'5. Offre de transport'!DJ41","v":0},{"$f":"'5. Offre de transport'!DK41","v":0},{"$f":"'5. Offre de transport'!DL41","v":0},{"$f":"'5. Offre de transport'!DM41","v":0},{"$f":"'5. Offre de transport'!DN41","v":0},{"$f":"'5. Offre de transport'!DO41","v":0},{"$f":"'5. Offre de transport'!DP41","v":0},{"$f":"'5. Offre de transport'!DQ41","v":0},{"$f":"'5. Offre de transport'!DR41","v":0},{"$f":"'5. Offre de transport'!DS41","v":0},{"$f":"'5. Offre de transport'!DT41","v":0},{"$f":"'5. Offre de transport'!DU41","v":0},{"$f":"'5. Offre de transport'!DV41","v":0},{"$f":"'5. Offre de transport'!DW41","v":0},{"$f":"'5. Offre de transport'!DX41","v":0},{"$f":"'5. Offre de transport'!DY41","v":0},{"$f":"'5. Offre de transport'!DZ41","v":0},{"$f":"'5. Offre de transport'!EA41","v":0},{"$f":"'5. Offre de transport'!EB41","v":0},{"$f":"'5. Offre de transport'!EC41","v":0},{"$f":"'5. Offre de transport'!ED41","v":0},{"$f":"'5. Offre de transport'!EE41","v":0},{"$f":"'5. Offre de transport'!EF41","v":0},{"$f":"'5. Offre de transport'!EG41","v":0},{"$f":"'5. Offre de transport'!EH41","v":0},{"$f":"'5. Offre de transport'!EI41","v":0},{"$f":"'5. Offre de transport'!EJ41","v":0},{"$f":"'5. Offre de transport'!EK41","v":0},{"$f":"'5. Offre de transport'!EL41","v":0},{"$f":"'5. Offre de transport'!EM41","v":0},{"$f":"'5. Offre de transport'!EN41","v":0},{"$f":"'5. Offre de transport'!EO41","v":0},{"$f":"'5. Offre de transport'!EP41","v":0},{"$f":"'5. Offre de transport'!EQ41","v":0},{"$f":"'5. Offre de transport'!ER41","v":0},{"$f":"'5. Offre de transport'!ES41","v":0},{"$f":"'5. Offre de transport'!ET41","v":0},{"$f":"'5. Offre de transport'!EU41","v":0},{"$f":"'5. Offre de transport'!EV41","v":0},{"$f":"'5. Offre de transport'!EW41","v":0},{"$f":"'5. Offre de transport'!EX41","v":0},{"$f":"'5. Offre de transport'!EY41","v":0},{"$f":"'5. Offre de transport'!EZ41","v":0},{"$f":"'5. Offre de transport'!FA41","v":0},{"$f":"'5. Offre de transport'!FB41","v":0},{"$f":"'5. Offre de transport'!FC41","v":0},{"$f":"'5. Offre de transport'!FD41","v":0},{"$f":"'5. Offre de transport'!FE41","v":0},{"$f":"'5. Offre de transport'!FF41","v":0},{"$f":"'5. Offre de transport'!FG41","v":0},{"$f":"'5. Offre de transport'!FH41","v":0},{"$f":"'5. Offre de transport'!FI41","v":0},{"$f":"'5. Offre de transport'!FJ41","v":0},{"$f":"'5. Offre de transport'!FK41","v":0},{"$f":"'5. Offre de transport'!FL41","v":0},{"$f":"'5. Offre de transport'!FM41","v":0},{"$f":"'5. Offre de transport'!FN41","v":0},{"$f":"'5. Offre de transport'!FO41","v":0},{"$f":"'5. Offre de transport'!FP41","v":0},{"$f":"'5. Offre de transport'!FQ41","v":0},{"$f":"'5. Offre de transport'!FR41","v":0},{"$f":"'5. Offre de transport'!FS41","v":0},{"$f":"'5. Offre de transport'!FT41","v":0},{"$f":"'5. Offre de transport'!FU41","v":0},{"$f":"'5. Offre de transport'!FV41","v":0},{"$f":"'5. Offre de transport'!FW41","v":0},{"$f":"'5. Offre de transport'!FX41","v":0},{"$f":"'5. Offre de transport'!FY41","v":0},{"$f":"'5. Offre de transport'!FZ41","v":0},{"$f":"'5. Offre de transport'!GA41","v":0},{"$f":"'5. Offre de transport'!GB41","v":0},{"$f":"'5. Offre de transport'!GC41","v":0},{"$f":"'5. Offre de transport'!GD41","v":0},{"$f":"'5. Offre de transport'!GE41","v":0},{"$f":"'5. Offre de transport'!GF41","v":0},{"$f":"'5. Offre de transport'!GG41","v":0},{"$f":"'5. Offre de transport'!GH41","v":0},{"$f":"'5. Offre de transport'!GI41","v":0},{"$f":"'5. Offre de transport'!GJ41","v":0},{"$f":"'5. Offre de transport'!GK41","v":0},{"$f":"'5. Offre de transport'!GL41","v":0},{"$f":"'5. Offre de transport'!GM41","v":0},{"$f":"'5. Offre de transport'!GN41","v":0},{"$f":"'5. Offre de transport'!GO41","v":0},{"$f":"'5. Offre de transport'!GP41","v":0},{"$f":"'5. Offre de transport'!GQ41","v":0},{"$f":"'5. Offre de transport'!GR41","v":0},{"$f":"'5. Offre de transport'!GS41","v":0},{"$f":"'5. Offre de transport'!GT41","v":0},{"$f":"'5. Offre de transport'!GU41","v":0},{"$f":"'5. Offre de transport'!GV41","v":0},{"$f":"'5. Offre de transport'!GW41","v":0},{"$f":"'5. Offre de transport'!GX41","v":0},{"$f":"'5. Offre de transport'!GY41","v":0},{"$f":"'5. Offre de transport'!GZ41","v":0},{"$f":"'5. Offre de transport'!HA41","v":0},{"$f":"'5. Offre de transport'!HB41","v":0},{"$f":"'5. Offre de transport'!HC41","v":0},{"$f":"'5. Offre de transport'!HD41","v":0},{"$f":"'5. Offre de transport'!HE41","v":0},{"$f":"'5. Offre de transport'!HF41","v":0},{"$f":"'5. Offre de transport'!HG41","v":0},{"$f":"'5. Offre de transport'!HH41","v":0},{"$f":"'5. Offre de transport'!HI41","v":0},{"$f":"'5. Offre de transport'!HJ41","v":0},{"$f":"'5. Offre de transport'!HK41","v":0},{"$f":"'5. Offre de transport'!HL41","v":0},{"$f":"'5. Offre de transport'!HM41","v":0},{"$f":"'5. Offre de transport'!HN41","v":0},{"$f":"'5. Offre de transport'!HO41","v":0},{"$f":"'5. Offre de transport'!HP41","v":0},{"$f":"'5. Offre de transport'!HQ41","v":0},{"$f":"'5. Offre de transport'!HR41","v":0},{"$f":"'5. Offre de transport'!HS41","v":0},{"$f":"'5. Offre de transport'!HT41","v":0},{"$f":"'5. Offre de transport'!HU41","v":0},{"$f":"'5. Offre de transport'!HV41","v":0},{"$f":"'5. Offre de transport'!HW41","v":0},{"$f":"'5. Offre de transport'!HX41","v":0},{"$f":"'5. Offre de transport'!HY41","v":0},{"$f":"'5. Offre de transport'!HZ41","v":0},{"$f":"'5. Offre de transport'!IA41","v":0},{"$f":"'5. Offre de transport'!IB41","v":0},{"$f":"'5. Offre de transport'!IC41","v":0},{"$f":"'5. Offre de transport'!ID41","v":0},{"$f":"'5. Offre de transport'!IE41","v":0},{"$f":"'5. Offre de transport'!IF41","v":0},{"$f":"'5. Offre de transport'!IG41","v":0},{"$f":"'5. Offre de transport'!IH41","v":0},{"$f":"'5. Offre de transport'!II41","v":0},{"$f":"'5. Offre de transport'!IJ41","v":0},{"$f":"'5. Offre de transport'!IK41","v":0},{"$f":"'5. Offre de transport'!IL41","v":0},{"$f":"'5. Offre de transport'!IM41","v":0},{"$f":"'5. Offre de transport'!IN41","v":0},{"$f":"'5. Offre de transport'!IO41","v":0},{"$f":"'5. Offre de transport'!IP41","v":0},{"$f":"'5. Offre de transport'!IQ41","v":0},{"$f":"'5. Offre de transport'!IR41","v":0},{"$f":"'5. Offre de transport'!IS41","v":0},{"$f":"'5. Offre de transport'!IT41","v":0},{"$f":"'5. Offre de transport'!IU41","v":0},{"$f":"'5. Offre de transport'!IV41","v":0},{"$f":"'5. Offre de transport'!IW41","v":0},{"$f":"'5. Offre de transport'!IX41","v":0},{"$f":"'5. Offre de transport'!IY41","v":0},{"$f":"'5. Offre de transport'!IZ41","v":0},{"$f":"'5. Offre de transport'!JA41","v":0},{"$f":"'5. Offre de transport'!JB41","v":0},{"$f":"'5. Offre de transport'!JC41","v":0},{"$f":"'5. Offre de transport'!JD41","v":0},{"$f":"'5. Offre de transport'!JE41","v":0},{"$f":"'5. Offre de transport'!JF41","v":0},{"$f":"'5. Offre de transport'!JG41","v":0},{"$f":"'5. Offre de transport'!JH41","v":0},{"$f":"'5. Offre de transport'!JI41","v":0},{"$f":"'5. Offre de transport'!JJ41","v":0},{"$f":"'5. Offre de transport'!JK41","v":0},{"$f":"'5. Offre de transport'!JL41","v":0},{"$f":"'5. Offre de transport'!JM41","v":0},{"$f":"'5. Offre de transport'!JN41","v":0},{"$f":"'5. Offre de transport'!JO41","v":0},{"$f":"'5. Offre de transport'!JP41","v":0},{"$f":"'5. Offre de transport'!JQ41","v":0},{"$f":"'5. Offre de transport'!JR41","v":0},{"$f":"'5. Offre de transport'!JS41","v":0},{"$f":"'5. Offre de transport'!JT41","v":0},{"$f":"'5. Offre de transport'!JU41","v":0},{"$f":"'5. Offre de transport'!JV41","v":0},{"$f":"'5. Offre de transport'!JW41","v":0},{"$f":"'5. Offre de transport'!JX41","v":0},{"$f":"'5. Offre de transport'!JY41","v":0},{"$f":"'5. Offre de transport'!JZ41","v":0},{"$f":"'5. Offre de transport'!KA41","v":0},{"$f":"'5. Offre de transport'!KB41","v":0},{"$f":"'5. Offre de transport'!KC41","v":0},{"$f":"'5. Offre de transport'!KD41","v":0},{"$f":"'5. Offre de transport'!KE41","v":0},{"$f":"'5. Offre de transport'!KF41","v":0},{"$f":"'5. Offre de transport'!KG41","v":0},{"$f":"'5. Offre de transport'!KH41","v":0},{"$f":"'5. Offre de transport'!KI41","v":0},{"$f":"'5. Offre de transport'!KJ41","v":0},{"$f":"'5. Offre de transport'!KK41","v":0},{"$f":"'5. Offre de transport'!KL41","v":0},{"$f":"'5. Offre de transport'!KM41","v":0},{"$f":"'5. Offre de transport'!KN41","v":0},{"$f":"'5. Offre de transport'!KO41","v":0},{"$f":"'5. Offre de transport'!KP41","v":0},{"$f":"'5. Offre de transport'!KQ41","v":0},{"$f":"'5. Offre de transport'!KR41","v":0},{"$f":"'5. Offre de transport'!KS41","v":0},{"$f":"'5. Offre de transport'!KT41","v":0},{"$f":"'5. Offre de transport'!KU41","v":0},{"$f":"'5. Offre de transport'!KV41","v":0},{"$f":"'5. Offre de transport'!KW41","v":0},{"$f":"'5. Offre de transport'!KX41","v":0},{"$f":"'5. Offre de transport'!KY41","v":0},{"$f":"'5. Offre de transport'!KZ41","v":0},{"$f":"'5. Offre de transport'!LA41","v":0},{"$f":"'5. Offre de transport'!LB41","v":0},{"$f":"'5. Offre de transport'!LC41","v":0},{"$f":"'5. Offre de transport'!LD41","v":0},{"$f":"'5. Offre de transport'!LE41","v":0},{"$f":"'5. Offre de transport'!LF41","v":0},{"$f":"'5. Offre de transport'!LG41","v":0},{"$f":"'5. Offre de transport'!LH41","v":0},{"$f":"'5. Offre de transport'!LI41","v":0},{"$f":"'5. Offre de transport'!LJ41","v":0},{"$f":"'5. Offre de transport'!LK41","v":0},{"$f":"'5. Offre de transport'!LL41","v":0},{"$f":"'5. Offre de transport'!LM41","v":0},{"$f":"'5. Offre de transport'!LN41","v":0},{"$f":"'5. Offre de transport'!LO41","v":0},{"$f":"'5. Offre de transport'!LP41","v":0},{"$f":"'5. Offre de transport'!LQ41","v":0},{"$f":"'5. Offre de transport'!LR41","v":0},{"$f":"'5. Offre de transport'!LS41","v":0},{"$f":"'5. Offre de transport'!LT41","v":0},{"$f":"'5. Offre de transport'!LU41","v":0},{"$f":"'5. Offre de transport'!LV41","v":0},{"$f":"'5. Offre de transport'!LW41","v":0},{"$f":"'5. Offre de transport'!LX41","v":0},{"$f":"'5. Offre de transport'!LY41","v":0},{"$f":"'5. Offre de transport'!LZ41","v":0},{"$f":"'5. Offre de transport'!MA41","v":0},{"$f":"'5. Offre de transport'!MB41","v":0},{"$f":"'5. Offre de transport'!MC41","v":0},{"$f":"'5. Offre de transport'!MD41","v":0},{"$f":"'5. Offre de transport'!ME41","v":0},{"$f":"'5. Offre de transport'!MF41","v":0},{"$f":"'5. Offre de transport'!MG41","v":0},{"$f":"'5. Offre de transport'!MH41","v":0},{"$f":"'5. Offre de transport'!MI41","v":0},{"$f":"'5. Offre de transport'!MJ41","v":0},{"$f":"'5. Offre de transport'!MK41","v":0},{"$f":"'5. Offre de transport'!ML41","v":0},{"$f":"'5. Offre de transport'!MM41","v":0},{"$f":"'5. Offre de transport'!MN41","v":0},{"$f":"'5. Offre de transport'!MO41","v":0},{"$f":"'5. Offre de transport'!MP41","v":0},{"$f":"'5. Offre de transport'!MQ41","v":0},{"$f":"'5. Offre de transport'!MR41","v":0},{"$f":"'5. Offre de transport'!MS41","v":0},{"$f":"'5. Offre de transport'!MT41","v":0},{"$f":"'5. Offre de transport'!MU41","v":0},{"$f":"'5. Offre de transport'!MV41","v":0},{"$f":"'5. Offre de transport'!MW41","v":0},{"$f":"'5. Offre de transport'!MX41","v":0},{"$f":"'5. Offre de transport'!MY41","v":0},{"$f":"'5. Offre de transport'!MZ41","v":0}]
[null,{"$f":"'5. Offre de transport'!B42","v":24},{"$f":"'5. Offre de transport'!C42","v":0},{"$f":"'5. Offre de transport'!D42","v":0},{"$f":"'5. Offre de transport'!E42","v":0},{"$f":"'5. Offre de transport'!F42","v":0},{"$f":"'5. Offre de transport'!G42","v":0},{"$f":"'5. Offre de transport'!H42","v":0},{"$f":"'5. Offre de transport'!I42","v":0},{"$f":"'5. Offre de transport'!J42","v":0},{"$f":"'5. Offre de transport'!K42","v":0},{"$f":"'5. Offre de transport'!L42","v":0},{"$f":"'5. Offre de transport'!M42","v":0},{"$f":"'5. Offre de transport'!N42","v":0},{"$f":"'5. Offre de transport'!O42","v":0},{"$f":"'5. Offre de transport'!P42","v":0},{"$f":"'5. Offre de transport'!Q42","v":0},{"$f":"'5. Offre de transport'!R42","v":0},{"$f":"'5. Offre de transport'!S42","v":0},{"$f":"'5. Offre de transport'!T42","v":0},{"$f":"'5. Offre de transport'!U42","v":0},{"$f":"'5. Offre de transport'!V42","v":0},{"$f":"'5. Offre de transport'!W42","v":0},{"$f":"'5. Offre de transport'!X42","v":0},{"$f":"'5. Offre de transport'!Y42","v":0},{"$f":"'5. Offre de transport'!Z42","v":0},{"$f":"'5. Offre de transport'!AA42","v":0},{"$f":"'5. Offre de transport'!AB42","v":0},{"$f":"'5. Offre de transport'!AC42","v":0},{"$f":"'5. Offre de transport'!AD42","v":0},{"$f":"'5. Offre de transport'!AE42","v":0},{"$f":"'5. Offre de transport'!AF42","v":0},{"$f":"'5. Offre de transport'!AG42","v":0},{"$f":"'5. Offre de transport'!AH42","v":0},{"$f":"'5. Offre de transport'!AI42","v":0},{"$f":"'5. Offre de transport'!AJ42","v":0},{"$f":"'5. Offre de transport'!AK42","v":0},{"$f":"'5. Offre de transport'!AL42","v":0},{"$f":"'5. Offre de transport'!AM42","v":0},{"$f":"'5. Offre de transport'!AN42","v":0},{"$f":"'5. Offre de transport'!AO42","v":0},{"$f":"'5. Offre de transport'!AP42","v":0},{"$f":"'5. Offre de transport'!AQ42","v":0},{"$f":"'5. Offre de transport'!AR42","v":0},{"$f":"'5. Offre de transport'!AS42","v":0},{"$f":"'5. Offre de transport'!AT42","v":0},{"$f":"'5. Offre de transport'!AU42","v":0},{"$f":"'5. Offre de transport'!AV42","v":0},{"$f":"'5. Offre de transport'!AW42","v":0},{"$f":"'5. Offre de transport'!AX42","v":0},{"$f":"'5. Offre de transport'!AY42","v":0},{"$f":"'5. Offre de transport'!AZ42","v":0},{"$f":"'5. Offre de transport'!BA42","v":0},{"$f":"'5. Offre de transport'!BB42","v":0},{"$f":"'5. Offre de transport'!BC42","v":0},{"$f":"'5. Offre de transport'!BD42","v":0},{"$f":"'5. Offre de transport'!BE42","v":0},{"$f":"'5. Offre de transport'!BF42","v":0},{"$f":"'5. Offre de transport'!BG42","v":0},{"$f":"'5. Offre de transport'!BH42","v":0},{"$f":"'5. Offre de transport'!BI42","v":0},{"$f":"'5. Offre de transport'!BJ42","v":0},{"$f":"'5. Offre de transport'!BK42","v":0},{"$f":"'5. Offre de transport'!BL42","v":0},{"$f":"'5. Offre de transport'!BM42","v":0},{"$f":"'5. Offre de transport'!BN42","v":0},{"$f":"'5. Offre de transport'!BO42","v":0},{"$f":"'5. Offre de transport'!BP42","v":0},{"$f":"'5. Offre de transport'!BQ42","v":0},{"$f":"'5. Offre de transport'!BR42","v":0},{"$f":"'5. Offre de transport'!BS42","v":0},{"$f":"'5. Offre de transport'!BT42","v":0},{"$f":"'5. Offre de transport'!BU42","v":0},{"$f":"'5. Offre de transport'!BV42","v":0},{"$f":"'5. Offre de transport'!BW42","v":0},{"$f":"'5. Offre de transport'!BX42","v":0},{"$f":"'5. Offre de transport'!BY42","v":0},{"$f":"'5. Offre de transport'!BZ42","v":0},{"$f":"'5. Offre de transport'!CA42","v":0},{"$f":"'5. Offre de transport'!CB42","v":0},{"$f":"'5. Offre de transport'!CC42","v":0},{"$f":"'5. Offre de transport'!CD42","v":0},{"$f":"'5. Offre de transport'!CE42","v":0},{"$f":"'5. Offre de transport'!CF42","v":0},{"$f":"'5. Offre de transport'!CG42","v":0},{"$f":"'5. Offre de transport'!CH42","v":0},{"$f":"'5. Offre de transport'!CI42","v":0},{"$f":"'5. Offre de transport'!CJ42","v":0},{"$f":"'5. Offre de transport'!CK42","v":0},{"$f":"'5. Offre de transport'!CL42","v":0},{"$f":"'5. Offre de transport'!CM42","v":0},{"$f":"'5. Offre de transport'!CN42","v":0},{"$f":"'5. Offre de transport'!CO42","v":0},{"$f":"'5. Offre de transport'!CP42","v":0},{"$f":"'5. Offre de transport'!CQ42","v":0},{"$f":"'5. Offre de transport'!CR42","v":0},{"$f":"'5. Offre de transport'!CS42","v":0},{"$f":"'5. Offre de transport'!CT42","v":0},{"$f":"'5. Offre de transport'!CU42","v":0},{"$f":"'5. Offre de transport'!CV42","v":0},{"$f":"'5. Offre de transport'!CW42","v":0},{"$f":"'5. Offre de transport'!CX42","v":0},{"$f":"'5. Offre de transport'!CY42","v":0},{"$f":"'5. Offre de transport'!CZ42","v":0},{"$f":"'5. Offre de transport'!DA42","v":0},{"$f":"'5. Offre de transport'!DB42","v":0},{"$f":"'5. Offre de transport'!DC42","v":0},{"$f":"'5. Offre de transport'!DD42","v":0},{"$f":"'5. Offre de transport'!DE42","v":0},{"$f":"'5. Offre de transport'!DF42","v":0},{"$f":"'5. Offre de transport'!DG42","v":0},{"$f":"'5. Offre de transport'!DH42","v":0},{"$f":"'5. Offre de transport'!DI42","v":0},{"$f":"'5. Offre de transport'!DJ42","v":0},{"$f":"'5. Offre de transport'!DK42","v":0},{"$f":"'5. Offre de transport'!DL42","v":0},{"$f":"'5. Offre de transport'!DM42","v":0},{"$f":"'5. Offre de transport'!DN42","v":0},{"$f":"'5. Offre de transport'!DO42","v":0},{"$f":"'5. Offre de transport'!DP42","v":0},{"$f":"'5. Offre de transport'!DQ42","v":0},{"$f":"'5. Offre de transport'!DR42","v":0},{"$f":"'5. Offre de transport'!DS42","v":0},{"$f":"'5. Offre de transport'!DT42","v":0},{"$f":"'5. Offre de transport'!DU42","v":0},{"$f":"'5. Offre de transport'!DV42","v":0},{"$f":"'5. Offre de transport'!DW42","v":0},{"$f":"'5. Offre de transport'!DX42","v":0},{"$f":"'5. Offre de transport'!DY42","v":0},{"$f":"'5. Offre de transport'!DZ42","v":0},{"$f":"'5. Offre de transport'!EA42","v":0},{"$f":"'5. Offre de transport'!EB42","v":0},{"$f":"'5. Offre de transport'!EC42","v":0},{"$f":"'5. Offre de transport'!ED42","v":0},{"$f":"'5. Offre de transport'!EE42","v":0},{"$f":"'5. Offre de transport'!EF42","v":0},{"$f":"'5. Offre de transport'!EG42","v":0},{"$f":"'5. Offre de transport'!EH42","v":0},{"$f":"'5. Offre de transport'!EI42","v":0},{"$f":"'5. Offre de transport'!EJ42","v":0},{"$f":"'5. Offre de transport'!EK42","v":0},{"$f":"'5. Offre de transport'!EL42","v":0},{"$f":"'5. Offre de transport'!EM42","v":0},{"$f":"'5. Offre de transport'!EN42","v":0},{"$f":"'5. Offre de transport'!EO42","v":0},{"$f":"'5. Offre de transport'!EP42","v":0},{"$f":"'5. Offre de transport'!EQ42","v":0},{"$f":"'5. Offre de transport'!ER42","v":0},{"$f":"'5. Offre de transport'!ES42","v":0},{"$f":"'5. Offre de transport'!ET42","v":0},{"$f":"'5. Offre de transport'!EU42","v":0},{"$f":"'5. Offre de transport'!EV42","v":0},{"$f":"'5. Offre de transport'!EW42","v":0},{"$f":"'5. Offre de transport'!EX42","v":0},{"$f":"'5. Offre de transport'!EY42","v":0},{"$f":"'5. Offre de transport'!EZ42","v":0},{"$f":"'5. Offre de transport'!FA42","v":0},{"$f":"'5. Offre de transport'!FB42","v":0},{"$f":"'5. Offre de transport'!FC42","v":0},{"$f":"'5. Offre de transport'!FD42","v":0},{"$f":"'5. Offre de transport'!FE42","v":0},{"$f":"'5. Offre de transport'!FF42","v":0},{"$f":"'5. Offre de transport'!FG42","v":0},{"$f":"'5. Offre de transport'!FH42","v":0},{"$f":"'5. Offre de transport'!FI42","v":0},{"$f":"'5. Offre de transport'!FJ42","v":0},{"$f":"'5. Offre de transport'!FK42","v":0},{"$f":"'5. Offre de transport'!FL42","v":0},{"$f":"'5. Offre de transport'!FM42","v":0},{"$f":"'5. Offre de transport'!FN42","v":0},{"$f":"'5. Offre de transport'!FO42","v":0},{"$f":"'5. Offre de transport'!FP42","v":0},{"$f":"'5. Offre de transport'!FQ42","v":0},{"$f":"'5. Offre de transport'!FR42","v":0},{"$f":"'5. Offre de transport'!FS42","v":0},{"$f":"'5. Offre de transport'!FT42","v":0},{"$f":"'5. Offre de transport'!FU42","v":0},{"$f":"'5. Offre de transport'!FV42","v":0},{"$f":"'5. Offre de transport'!FW42","v":0},{"$f":"'5. Offre de transport'!FX42","v":0},{"$f":"'5. Offre de transport'!FY42","v":0},{"$f":"'5. Offre de transport'!FZ42","v":0},{"$f":"'5. Offre de transport'!GA42","v":0},{"$f":"'5. Offre de transport'!GB42","v":0},{"$f":"'5. Offre de transport'!GC42","v":0},{"$f":"'5. Offre de transport'!GD42","v":0},{"$f":"'5. Offre de transport'!GE42","v":0},{"$f":"'5. Offre de transport'!GF42","v":0},{"$f":"'5. Offre de transport'!GG42","v":0},{"$f":"'5. Offre de transport'!GH42","v":0},{"$f":"'5. Offre de transport'!GI42","v":0},{"$f":"'5. Offre de transport'!GJ42","v":0},{"$f":"'5. Offre de transport'!GK42","v":0},{"$f":"'5. Offre de transport'!GL42","v":0},{"$f":"'5. Offre de transport'!GM42","v":0},{"$f":"'5. Offre de transport'!GN42","v":0},{"$f":"'5. Offre de transport'!GO42","v":0},{"$f":"'5. Offre de transport'!GP42","v":0},{"$f":"'5. Offre de transport'!GQ42","v":0},{"$f":"'5. Offre de transport'!GR42","v":0},{"$f":"'5. Offre de transport'!GS42","v":0},{"$f":"'5. Offre de transport'!GT42","v":0},{"$f":"'5. Offre de transport'!GU42","v":0},{"$f":"'5. Offre de transport'!GV42","v":0},{"$f":"'5. Offre de transport'!GW42","v":0},{"$f":"'5. Offre de transport'!GX42","v":0},{"$f":"'5. Offre de transport'!GY42","v":0},{"$f":"'5. Offre de transport'!GZ42","v":0},{"$f":"'5. Offre de transport'!HA42","v":0},{"$f":"'5. Offre de transport'!HB42","v":0},{"$f":"'5. Offre de transport'!HC42","v":0},{"$f":"'5. Offre de transport'!HD42","v":0},{"$f":"'5. Offre de transport'!HE42","v":0},{"$f":"'5. Offre de transport'!HF42","v":0},{"$f":"'5. Offre de transport'!HG42","v":0},{"$f":"'5. Offre de transport'!HH42","v":0},{"$f":"'5. Offre de transport'!HI42","v":0},{"$f":"'5. Offre de transport'!HJ42","v":0},{"$f":"'5. Offre de transport'!HK42","v":0},{"$f":"'5. Offre de transport'!HL42","v":0},{"$f":"'5. Offre de transport'!HM42","v":0},{"$f":"'5. Offre de transport'!HN42","v":0},{"$f":"'5. Offre de transport'!HO42","v":0},{"$f":"'5. Offre de transport'!HP42","v":0},{"$f":"'5. Offre de transport'!HQ42","v":0},{"$f":"'5. Offre de transport'!HR42","v":0},{"$f":"'5. Offre de transport'!HS42","v":0},{"$f":"'5. Offre de transport'!HT42","v":0},{"$f":"'5. Offre de transport'!HU42","v":0},{"$f":"'5. Offre de transport'!HV42","v":0},{"$f":"'5. Offre de transport'!HW42","v":0},{"$f":"'5. Offre de transport'!HX42","v":0},{"$f":"'5. Offre de transport'!HY42","v":0},{"$f":"'5. Offre de transport'!HZ42","v":0},{"$f":"'5. Offre de transport'!IA42","v":0},{"$f":"'5. Offre de transport'!IB42","v":0},{"$f":"'5. Offre de transport'!IC42","v":0},{"$f":"'5. Offre de transport'!ID42","v":0},{"$f":"'5. Offre de transport'!IE42","v":0},{"$f":"'5. Offre de transport'!IF42","v":0},{"$f":"'5. Offre de transport'!IG42","v":0},{"$f":"'5. Offre de transport'!IH42","v":0},{"$f":"'5. Offre de transport'!II42","v":0},{"$f":"'5. Offre de transport'!IJ42","v":0},{"$f":"'5. Offre de transport'!IK42","v":0},{"$f":"'5. Offre de transport'!IL42","v":0},{"$f":"'5. Offre de transport'!IM42","v":0},{"$f":"'5. Offre de transport'!IN42","v":0},{"$f":"'5. Offre de transport'!IO42","v":0},{"$f":"'5. Offre de transport'!IP42","v":0},{"$f":"'5. Offre de transport'!IQ42","v":0},{"$f":"'5. Offre de transport'!IR42","v":0},{"$f":"'5. Offre de transport'!IS42","v":0},{"$f":"'5. Offre de transport'!IT42","v":0},{"$f":"'5. Offre de transport'!IU42","v":0},{"$f":"'5. Offre de transport'!IV42","v":0},{"$f":"'5. Offre de transport'!IW42","v":0},{"$f":"'5. Offre de transport'!IX42","v":0},{"$f":"'5. Offre de transport'!IY42","v":0},{"$f":"'5. Offre de transport'!IZ42","v":0},{"$f":"'5. Offre de transport'!JA42","v":0},{"$f":"'5. Offre de transport'!JB42","v":0},{"$f":"'5. Offre de transport'!JC42","v":0},{"$f":"'5. Offre de transport'!JD42","v":0},{"$f":"'5. Offre de transport'!JE42","v":0},{"$f":"'5. Offre de transport'!JF42","v":0},{"$f":"'5. Offre de transport'!JG42","v":0},{"$f":"'5. Offre de transport'!JH42","v":0},{"$f":"'5. Offre de transport'!JI42","v":0},{"$f":"'5. Offre de transport'!JJ42","v":0},{"$f":"'5. Offre de transport'!JK42","v":0},{"$f":"'5. Offre de transport'!JL42","v":0},{"$f":"'5. Offre de transport'!JM42","v":0},{"$f":"'5. Offre de transport'!JN42","v":0},{"$f":"'5. Offre de transport'!JO42","v":0},{"$f":"'5. Offre de transport'!JP42","v":0},{"$f":"'5. Offre de transport'!JQ42","v":0},{"$f":"'5. Offre de transport'!JR42","v":0},{"$f":"'5. Offre de transport'!JS42","v":0},{"$f":"'5. Offre de transport'!JT42","v":0},{"$f":"'5. Offre de transport'!JU42","v":0},{"$f":"'5. Offre de transport'!JV42","v":0},{"$f":"'5. Offre de transport'!JW42","v":0},{"$f":"'5. Offre de transport'!JX42","v":0},{"$f":"'5. Offre de transport'!JY42","v":0},{"$f":"'5. Offre de transport'!JZ42","v":0},{"$f":"'5. Offre de transport'!KA42","v":0},{"$f":"'5. Offre de transport'!KB42","v":0},{"$f":"'5. Offre de transport'!KC42","v":0},{"$f":"'5. Offre de transport'!KD42","v":0},{"$f":"'5. Offre de transport'!KE42","v":0},{"$f":"'5. Offre de transport'!KF42","v":0},{"$f":"'5. Offre de transport'!KG42","v":0},{"$f":"'5. Offre de transport'!KH42","v":0},{"$f":"'5. Offre de transport'!KI42","v":0},{"$f":"'5. Offre de transport'!KJ42","v":0},{"$f":"'5. Offre de transport'!KK42","v":0},{"$f":"'5. Offre de transport'!KL42","v":0},{"$f":"'5. Offre de transport'!KM42","v":0},{"$f":"'5. Offre de transport'!KN42","v":0},{"$f":"'5. Offre de transport'!KO42","v":0},{"$f":"'5. Offre de transport'!KP42","v":0},{"$f":"'5. Offre de transport'!KQ42","v":0},{"$f":"'5. Offre de transport'!KR42","v":0},{"$f":"'5. Offre de transport'!KS42","v":0},{"$f":"'5. Offre de transport'!KT42","v":0},{"$f":"'5. Offre de transport'!KU42","v":0},{"$f":"'5. Offre de transport'!KV42","v":0},{"$f":"'5. Offre de transport'!KW42","v":0},{"$f":"'5. Offre de transport'!KX42","v":0},{"$f":"'5. Offre de transport'!KY42","v":0},{"$f":"'5. Offre de transport'!KZ42","v":0},{"$f":"'5. Offre de transport'!LA42","v":0},{"$f":"'5. Offre de transport'!LB42","v":0},{"$f":"'5. Offre de transport'!LC42","v":0},{"$f":"'5. Offre de transport'!LD42","v":0},{"$f":"'5. Offre de transport'!LE42","v":0},{"$f":"'5. Offre de transport'!LF42","v":0},{"$f":"'5. Offre de transport'!LG42","v":0},{"$f":"'5. Offre de transport'!LH42","v":0},{"$f":"'5. Offre de transport'!LI42","v":0},{"$f":"'5. Offre de transport'!LJ42","v":0},{"$f":"'5. Offre de transport'!LK42","v":0},{"$f":"'5. Offre de transport'!LL42","v":0},{"$f":"'5. Offre de transport'!LM42","v":0},{"$f":"'5. Offre de transport'!LN42","v":0},{"$f":"'5. Offre de transport'!LO42","v":0},{"$f":"'5. Offre de transport'!LP42","v":0},{"$f":"'5. Offre de transport'!LQ42","v":0},{"$f":"'5. Offre de transport'!LR42","v":0},{"$f":"'5. Offre de transport'!LS42","v":0},{"$f":"'5. Offre de transport'!LT42","v":0},{"$f":"'5. Offre de transport'!LU42","v":0},{"$f":"'5. Offre de transport'!LV42","v":0},{"$f":"'5. Offre de transport'!LW42","v":0},{"$f":"'5. Offre de transport'!LX42","v":0},{"$f":"'5. Offre de transport'!LY42","v":0},{"$f":"'5. Offre de transport'!LZ42","v":0},{"$f":"'5. Offre de transport'!MA42","v":0},{"$f":"'5. Offre de transport'!MB42","v":0},{"$f":"'5. Offre de transport'!MC42","v":0},{"$f":"'5. Offre de transport'!MD42","v":0},{"$f":"'5. Offre de transport'!ME42","v":0},{"$f":"'5. Offre de transport'!MF42","v":0},{"$f":"'5. Offre de transport'!MG42","v":0},{"$f":"'5. Offre de transport'!MH42","v":0},{"$f":"'5. Offre de transport'!MI42","v":0},{"$f":"'5. Offre de transport'!MJ42","v":0},{"$f":"'5. Offre de transport'!MK42","v":0},{"$f":"'5. Offre de transport'!ML42","v":0},{"$f":"'5. Offre de transport'!MM42","v":0},{"$f":"'5. Offre de transport'!MN42","v":0},{"$f":"'5. Offre de transport'!MO42","v":0},{"$f":"'5. Offre de transport'!MP42","v":0},{"$f":"'5. Offre de transport'!MQ42","v":0},{"$f":"'5. Offre de transport'!MR42","v":0},{"$f":"'5. Offre de transport'!MS42","v":0},{"$f":"'5. Offre de transport'!MT42","v":0},{"$f":"'5. Offre de transport'!MU42","v":0},{"$f":"'5. Offre de transport'!MV42","v":0},{"$f":"'5. Offre de transport'!MW42","v":0},{"$f":"'5. Offre de transport'!MX42","v":0},{"$f":"'5. Offre de transport'!MY42","v":0},{"$f":"'5. Offre de transport'!MZ42","v":0}]
[null,{"$f":"'5. Offre de transport'!B43","v":25},{"$f":"'5. Offre de transport'!C43","v":0},{"$f":"'5. Offre de transport'!D43","v":0},{"$f":"'5. Offre de transport'!E43","v":0},{"$f":"'5. Offre de transport'!F43","v":0},{"$f":"'5. Offre de transport'!G43","v":0},{"$f":"'5. Offre de transport'!H43","v":0},{"$f":"'5. Offre de transport'!I43","v":0},{"$f":"'5. Offre de transport'!J43","v":0},{"$f":"'5. Offre de transport'!K43","v":0},{"$f":"'5. Offre de transport'!L43","v":0},{"$f":"'5. Offre de transport'!M43","v":0},{"$f":"'5. Offre de transport'!N43","v":0},{"$f":"'5. Offre de transport'!O43","v":0},{"$f":"'5. Offre de transport'!P43","v":0},{"$f":"'5. Offre de transport'!Q43","v":0},{"$f":"'5. Offre de transport'!R43","v":0},{"$f":"'5. Offre de transport'!S43","v":0},{"$f":"'5. Offre de transport'!T43","v":0},{"$f":"'5. Offre de transport'!U43","v":0},{"$f":"'5. Offre de transport'!V43","v":0},{"$f":"'5. Offre de transport'!W43","v":0},{"$f":"'5. Offre de transport'!X43","v":0},{"$f":"'5. Offre de transport'!Y43","v":0},{"$f":"'5. Offre de transport'!Z43","v":0},{"$f":"'5. Offre de transport'!AA43","v":0},{"$f":"'5. Offre de transport'!AB43","v":0},{"$f":"'5. Offre de transport'!AC43","v":0},{"$f":"'5. Offre de transport'!AD43","v":0},{"$f":"'5. Offre de transport'!AE43","v":0},{"$f":"'5. Offre de transport'!AF43","v":0},{"$f":"'5. Offre de transport'!AG43","v":0},{"$f":"'5. Offre de transport'!AH43","v":0},{"$f":"'5. Offre de transport'!AI43","v":0},{"$f":"'5. Offre de transport'!AJ43","v":0},{"$f":"'5. Offre de transport'!AK43","v":0},{"$f":"'5. Offre de transport'!AL43","v":0},{"$f":"'5. Offre de transport'!AM43","v":0},{"$f":"'5. Offre de transport'!AN43","v":0},{"$f":"'5. Offre de transport'!AO43","v":0},{"$f":"'5. Offre de transport'!AP43","v":0},{"$f":"'5. Offre de transport'!AQ43","v":0},{"$f":"'5. Offre de transport'!AR43","v":0},{"$f":"'5. Offre de transport'!AS43","v":0},{"$f":"'5. Offre de transport'!AT43","v":0},{"$f":"'5. Offre de transport'!AU43","v":0},{"$f":"'5. Offre de transport'!AV43","v":0},{"$f":"'5. Offre de transport'!AW43","v":0},{"$f":"'5. Offre de transport'!AX43","v":0},{"$f":"'5. Offre de transport'!AY43","v":0},{"$f":"'5. Offre de transport'!AZ43","v":0},{"$f":"'5. Offre de transport'!BA43","v":0},{"$f":"'5. Offre de transport'!BB43","v":0},{"$f":"'5. Offre de transport'!BC43","v":0},{"$f":"'5. Offre de transport'!BD43","v":0},{"$f":"'5. Offre de transport'!BE43","v":0},{"$f":"'5. Offre de transport'!BF43","v":0},{"$f":"'5. Offre de transport'!BG43","v":0},{"$f":"'5. Offre de transport'!BH43","v":0},{"$f":"'5. Offre de transport'!BI43","v":0},{"$f":"'5. Offre de transport'!BJ43","v":0},{"$f":"'5. Offre de transport'!BK43","v":0},{"$f":"'5. Offre de transport'!BL43","v":0},{"$f":"'5. Offre de transport'!BM43","v":0},{"$f":"'5. Offre de transport'!BN43","v":0},{"$f":"'5. Offre de transport'!BO43","v":0},{"$f":"'5. Offre de transport'!BP43","v":0},{"$f":"'5. Offre de transport'!BQ43","v":0},{"$f":"'5. Offre de transport'!BR43","v":0},{"$f":"'5. Offre de transport'!BS43","v":0},{"$f":"'5. Offre de transport'!BT43","v":0},{"$f":"'5. Offre de transport'!BU43","v":0},{"$f":"'5. Offre de transport'!BV43","v":0},{"$f":"'5. Offre de transport'!BW43","v":0},{"$f":"'5. Offre de transport'!BX43","v":0},{"$f":"'5. Offre de transport'!BY43","v":0},{"$f":"'5. Offre de transport'!BZ43","v":0},{"$f":"'5. Offre de transport'!CA43","v":0},{"$f":"'5. Offre de transport'!CB43","v":0},{"$f":"'5. Offre de transport'!CC43","v":0},{"$f":"'5. Offre de transport'!CD43","v":0},{"$f":"'5. Offre de transport'!CE43","v":0},{"$f":"'5. Offre de transport'!CF43","v":0},{"$f":"'5. Offre de transport'!CG43","v":0},{"$f":"'5. Offre de transport'!CH43","v":0},{"$f":"'5. Offre de transport'!CI43","v":0},{"$f":"'5. Offre de transport'!CJ43","v":0},{"$f":"'5. Offre de transport'!CK43","v":0},{"$f":"'5. Offre de transport'!CL43","v":0},{"$f":"'5. Offre de transport'!CM43","v":0},{"$f":"'5. Offre de transport'!CN43","v":0},{"$f":"'5. Offre de transport'!CO43","v":0},{"$f":"'5. Offre de transport'!CP43","v":0},{"$f":"'5. Offre de transport'!CQ43","v":0},{"$f":"'5. Offre de transport'!CR43","v":0},{"$f":"'5. Offre de transport'!CS43","v":0},{"$f":"'5. Offre de transport'!CT43","v":0},{"$f":"'5. Offre de transport'!CU43","v":0},{"$f":"'5. Offre de transport'!CV43","v":0},{"$f":"'5. Offre de transport'!CW43","v":0},{"$f":"'5. Offre de transport'!CX43","v":0},{"$f":"'5. Offre de transport'!CY43","v":0},{"$f":"'5. Offre de transport'!CZ43","v":0},{"$f":"'5. Offre de transport'!DA43","v":0},{"$f":"'5. Offre de transport'!DB43","v":0},{"$f":"'5. Offre de transport'!DC43","v":0},{"$f":"'5. Offre de transport'!DD43","v":0},{"$f":"'5. Offre de transport'!DE43","v":0},{"$f":"'5. Offre de transport'!DF43","v":0},{"$f":"'5. Offre de transport'!DG43","v":0},{"$f":"'5. Offre de transport'!DH43","v":0},{"$f":"'5. Offre de transport'!DI43","v":0},{"$f":"'5. Offre de transport'!DJ43","v":0},{"$f":"'5. Offre de transport'!DK43","v":0},{"$f":"'5. Offre de transport'!DL43","v":0},{"$f":"'5. Offre de transport'!DM43","v":0},{"$f":"'5. Offre de transport'!DN43","v":0},{"$f":"'5. Offre de transport'!DO43","v":0},{"$f":"'5. Offre de transport'!DP43","v":0},{"$f":"'5. Offre de transport'!DQ43","v":0},{"$f":"'5. Offre de transport'!DR43","v":0},{"$f":"'5. Offre de transport'!DS43","v":0},{"$f":"'5. Offre de transport'!DT43","v":0},{"$f":"'5. Offre de transport'!DU43","v":0},{"$f":"'5. Offre de transport'!DV43","v":0},{"$f":"'5. Offre de transport'!DW43","v":0},{"$f":"'5. Offre de transport'!DX43","v":0},{"$f":"'5. Offre de transport'!DY43","v":0},{"$f":"'5. Offre de transport'!DZ43","v":0},{"$f":"'5. Offre de transport'!EA43","v":0},{"$f":"'5. Offre de transport'!EB43","v":0},{"$f":"'5. Offre de transport'!EC43","v":0},{"$f":"'5. Offre de transport'!ED43","v":0},{"$f":"'5. Offre de transport'!EE43","v":0},{"$f":"'5. Offre de transport'!EF43","v":0},{"$f":"'5. Offre de transport'!EG43","v":0},{"$f":"'5. Offre de transport'!EH43","v":0},{"$f":"'5. Offre de transport'!EI43","v":0},{"$f":"'5. Offre de transport'!EJ43","v":0},{"$f":"'5. Offre de transport'!EK43","v":0},{"$f":"'5. Offre de transport'!EL43","v":0},{"$f":"'5. Offre de transport'!EM43","v":0},{"$f":"'5. Offre de transport'!EN43","v":0},{"$f":"'5. Offre de transport'!EO43","v":0},{"$f":"'5. Offre de transport'!EP43","v":0},{"$f":"'5. Offre de transport'!EQ43","v":0},{"$f":"'5. Offre de transport'!ER43","v":0},{"$f":"'5. Offre de transport'!ES43","v":0},{"$f":"'5. Offre de transport'!ET43","v":0},{"$f":"'5. Offre de transport'!EU43","v":0},{"$f":"'5. Offre de transport'!EV43","v":0},{"$f":"'5. Offre de transport'!EW43","v":0},{"$f":"'5. Offre de transport'!EX43","v":0},{"$f":"'5. Offre de transport'!EY43","v":0},{"$f":"'5. Offre de transport'!EZ43","v":0},{"$f":"'5. Offre de transport'!FA43","v":0},{"$f":"'5. Offre de transport'!FB43","v":0},{"$f":"'5. Offre de transport'!FC43","v":0},{"$f":"'5. Offre de transport'!FD43","v":0},{"$f":"'5. Offre de transport'!FE43","v":0},{"$f":"'5. Offre de transport'!FF43","v":0},{"$f":"'5. Offre de transport'!FG43","v":0},{"$f":"'5. Offre de transport'!FH43","v":0},{"$f":"'5. Offre de transport'!FI43","v":0},{"$f":"'5. Offre de transport'!FJ43","v":0},{"$f":"'5. Offre de transport'!FK43","v":0},{"$f":"'5. Offre de transport'!FL43","v":0},{"$f":"'5. Offre de transport'!FM43","v":0},{"$f":"'5. Offre de transport'!FN43","v":0},{"$f":"'5. Offre de transport'!FO43","v":0},{"$f":"'5. Offre de transport'!FP43","v":0},{"$f":"'5. Offre de transport'!FQ43","v":0},{"$f":"'5. Offre de transport'!FR43","v":0},{"$f":"'5. Offre de transport'!FS43","v":0},{"$f":"'5. Offre de transport'!FT43","v":0},{"$f":"'5. Offre de transport'!FU43","v":0},{"$f":"'5. Offre de transport'!FV43","v":0},{"$f":"'5. Offre de transport'!FW43","v":0},{"$f":"'5. Offre de transport'!FX43","v":0},{"$f":"'5. Offre de transport'!FY43","v":0},{"$f":"'5. Offre de transport'!FZ43","v":0},{"$f":"'5. Offre de transport'!GA43","v":0},{"$f":"'5. Offre de transport'!GB43","v":0},{"$f":"'5. Offre de transport'!GC43","v":0},{"$f":"'5. Offre de transport'!GD43","v":0},{"$f":"'5. Offre de transport'!GE43","v":0},{"$f":"'5. Offre de transport'!GF43","v":0},{"$f":"'5. Offre de transport'!GG43","v":0},{"$f":"'5. Offre de transport'!GH43","v":0},{"$f":"'5. Offre de transport'!GI43","v":0},{"$f":"'5. Offre de transport'!GJ43","v":0},{"$f":"'5. Offre de transport'!GK43","v":0},{"$f":"'5. Offre de transport'!GL43","v":0},{"$f":"'5. Offre de transport'!GM43","v":0},{"$f":"'5. Offre de transport'!GN43","v":0},{"$f":"'5. Offre de transport'!GO43","v":0},{"$f":"'5. Offre de transport'!GP43","v":0},{"$f":"'5. Offre de transport'!GQ43","v":0},{"$f":"'5. Offre de transport'!GR43","v":0},{"$f":"'5. Offre de transport'!GS43","v":0},{"$f":"'5. Offre de transport'!GT43","v":0},{"$f":"'5. Offre de transport'!GU43","v":0},{"$f":"'5. Offre de transport'!GV43","v":0},{"$f":"'5. Offre de transport'!GW43","v":0},{"$f":"'5. Offre de transport'!GX43","v":0},{"$f":"'5. Offre de transport'!GY43","v":0},{"$f":"'5. Offre de transport'!GZ43","v":0},{"$f":"'5. Offre de transport'!HA43","v":0},{"$f":"'5. Offre de transport'!HB43","v":0},{"$f":"'5. Offre de transport'!HC43","v":0},{"$f":"'5. Offre de transport'!HD43","v":0},{"$f":"'5. Offre de transport'!HE43","v":0},{"$f":"'5. Offre de transport'!HF43","v":0},{"$f":"'5. Offre de transport'!HG43","v":0},{"$f":"'5. Offre de transport'!HH43","v":0},{"$f":"'5. Offre de transport'!HI43","v":0},{"$f":"'5. Offre de transport'!HJ43","v":0},{"$f":"'5. Offre de transport'!HK43","v":0},{"$f":"'5. Offre de transport'!HL43","v":0},{"$f":"'5. Offre de transport'!HM43","v":0},{"$f":"'5. Offre de transport'!HN43","v":0},{"$f":"'5. Offre de transport'!HO43","v":0},{"$f":"'5. Offre de transport'!HP43","v":0},{"$f":"'5. Offre de transport'!HQ43","v":0},{"$f":"'5. Offre de transport'!HR43","v":0},{"$f":"'5. Offre de transport'!HS43","v":0},{"$f":"'5. Offre de transport'!HT43","v":0},{"$f":"'5. Offre de transport'!HU43","v":0},{"$f":"'5. Offre de transport'!HV43","v":0},{"$f":"'5. Offre de transport'!HW43","v":0},{"$f":"'5. Offre de transport'!HX43","v":0},{"$f":"'5. Offre de transport'!HY43","v":0},{"$f":"'5. Offre de transport'!HZ43","v":0},{"$f":"'5. Offre de transport'!IA43","v":0},{"$f":"'5. Offre de transport'!IB43","v":0},{"$f":"'5. Offre de transport'!IC43","v":0},{"$f":"'5. Offre de transport'!ID43","v":0},{"$f":"'5. Offre de transport'!IE43","v":0},{"$f":"'5. Offre de transport'!IF43","v":0},{"$f":"'5. Offre de transport'!IG43","v":0},{"$f":"'5. Offre de transport'!IH43","v":0},{"$f":"'5. Offre de transport'!II43","v":0},{"$f":"'5. Offre de transport'!IJ43","v":0},{"$f":"'5. Offre de transport'!IK43","v":0},{"$f":"'5. Offre de transport'!IL43","v":0},{"$f":"'5. Offre de transport'!IM43","v":0},{"$f":"'5. Offre de transport'!IN43","v":0},{"$f":"'5. Offre de transport'!IO43","v":0},{"$f":"'5. Offre de transport'!IP43","v":0},{"$f":"'5. Offre de transport'!IQ43","v":0},{"$f":"'5. Offre de transport'!IR43","v":0},{"$f":"'5. Offre de transport'!IS43","v":0},{"$f":"'5. Offre de transport'!IT43","v":0},{"$f":"'5. Offre de transport'!IU43","v":0},{"$f":"'5. Offre de transport'!IV43","v":0},{"$f":"'5. Offre de transport'!IW43","v":0},{"$f":"'5. Offre de transport'!IX43","v":0},{"$f":"'5. Offre de transport'!IY43","v":0},{"$f":"'5. Offre de transport'!IZ43","v":0},{"$f":"'5. Offre de transport'!JA43","v":0},{"$f":"'5. Offre de transport'!JB43","v":0},{"$f":"'5. Offre de transport'!JC43","v":0},{"$f":"'5. Offre de transport'!JD43","v":0},{"$f":"'5. Offre de transport'!JE43","v":0},{"$f":"'5. Offre de transport'!JF43","v":0},{"$f":"'5. Offre de transport'!JG43","v":0},{"$f":"'5. Offre de transport'!JH43","v":0},{"$f":"'5. Offre de transport'!JI43","v":0},{"$f":"'5. Offre de transport'!JJ43","v":0},{"$f":"'5. Offre de transport'!JK43","v":0},{"$f":"'5. Offre de transport'!JL43","v":0},{"$f":"'5. Offre de transport'!JM43","v":0},{"$f":"'5. Offre de transport'!JN43","v":0},{"$f":"'5. Offre de transport'!JO43","v":0},{"$f":"'5. Offre de transport'!JP43","v":0},{"$f":"'5. Offre de transport'!JQ43","v":0},{"$f":"'5. Offre de transport'!JR43","v":0},{"$f":"'5. Offre de transport'!JS43","v":0},{"$f":"'5. Offre de transport'!JT43","v":0},{"$f":"'5. Offre de transport'!JU43","v":0},{"$f":"'5. Offre de transport'!JV43","v":0},{"$f":"'5. Offre de transport'!JW43","v":0},{"$f":"'5. Offre de transport'!JX43","v":0},{"$f":"'5. Offre de transport'!JY43","v":0},{"$f":"'5. Offre de transport'!JZ43","v":0},{"$f":"'5. Offre de transport'!KA43","v":0},{"$f":"'5. Offre de transport'!KB43","v":0},{"$f":"'5. Offre de transport'!KC43","v":0},{"$f":"'5. Offre de transport'!KD43","v":0},{"$f":"'5. Offre de transport'!KE43","v":0},{"$f":"'5. Offre de transport'!KF43","v":0},{"$f":"'5. Offre de transport'!KG43","v":0},{"$f":"'5. Offre de transport'!KH43","v":0},{"$f":"'5. Offre de transport'!KI43","v":0},{"$f":"'5. Offre de transport'!KJ43","v":0},{"$f":"'5. Offre de transport'!KK43","v":0},{"$f":"'5. Offre de transport'!KL43","v":0},{"$f":"'5. Offre de transport'!KM43","v":0},{"$f":"'5. Offre de transport'!KN43","v":0},{"$f":"'5. Offre de transport'!KO43","v":0},{"$f":"'5. Offre de transport'!KP43","v":0},{"$f":"'5. Offre de transport'!KQ43","v":0},{"$f":"'5. Offre de transport'!KR43","v":0},{"$f":"'5. Offre de transport'!KS43","v":0},{"$f":"'5. Offre de transport'!KT43","v":0},{"$f":"'5. Offre de transport'!KU43","v":0},{"$f":"'5. Offre de transport'!KV43","v":0},{"$f":"'5. Offre de transport'!KW43","v":0},{"$f":"'5. Offre de transport'!KX43","v":0},{"$f":"'5. Offre de transport'!KY43","v":0},{"$f":"'5. Offre de transport'!KZ43","v":0},{"$f":"'5. Offre de transport'!LA43","v":0},{"$f":"'5. Offre de transport'!LB43","v":0},{"$f":"'5. Offre de transport'!LC43","v":0},{"$f":"'5. Offre de transport'!LD43","v":0},{"$f":"'5. Offre de transport'!LE43","v":0},{"$f":"'5. Offre de transport'!LF43","v":0},{"$f":"'5. Offre de transport'!LG43","v":0},{"$f":"'5. Offre de transport'!LH43","v":0},{"$f":"'5. Offre de transport'!LI43","v":0},{"$f":"'5. Offre de transport'!LJ43","v":0},{"$f":"'5. Offre de transport'!LK43","v":0},{"$f":"'5. Offre de transport'!LL43","v":0},{"$f":"'5. Offre de transport'!LM43","v":0},{"$f":"'5. Offre de transport'!LN43","v":0},{"$f":"'5. Offre de transport'!LO43","v":0},{"$f":"'5. Offre de transport'!LP43","v":0},{"$f":"'5. Offre de transport'!LQ43","v":0},{"$f":"'5. Offre de transport'!LR43","v":0},{"$f":"'5. Offre de transport'!LS43","v":0},{"$f":"'5. Offre de transport'!LT43","v":0},{"$f":"'5. Offre de transport'!LU43","v":0},{"$f":"'5. Offre de transport'!LV43","v":0},{"$f":"'5. Offre de transport'!LW43","v":0},{"$f":"'5. Offre de transport'!LX43","v":0},{"$f":"'5. Offre de transport'!LY43","v":0},{"$f":"'5. Offre de transport'!LZ43","v":0},{"$f":"'5. Offre de transport'!MA43","v":0},{"$f":"'5. Offre de transport'!MB43","v":0},{"$f":"'5. Offre de transport'!MC43","v":0},{"$f":"'5. Offre de transport'!MD43","v":0},{"$f":"'5. Offre de transport'!ME43","v":0},{"$f":"'5. Offre de transport'!MF43","v":0},{"$f":"'5. Offre de transport'!MG43","v":0},{"$f":"'5. Offre de transport'!MH43","v":0},{"$f":"'5. Offre de transport'!MI43","v":0},{"$f":"'5. Offre de transport'!MJ43","v":0},{"$f":"'5. Offre de transport'!MK43","v":0},{"$f":"'5. Offre de transport'!ML43","v":0},{"$f":"'5. Offre de transport'!MM43","v":0},{"$f":"'5. Offre de transport'!MN43","v":0},{"$f":"'5. Offre de transport'!MO43","v":0},{"$f":"'5. Offre de transport'!MP43","v":0},{"$f":"'5. Offre de transport'!MQ43","v":0},{"$f":"'5. Offre de transport'!MR43","v":0},{"$f":"'5. Offre de transport'!MS43","v":0},{"$f":"'5. Offre de transport'!MT43","v":0},{"$f":"'5. Offre de transport'!MU43","v":0},{"$f":"'5. Offre de transport'!MV43","v":0},{"$f":"'5. Offre de transport'!MW43","v":0},{"$f":"'5. Offre de transport'!MX43","v":0},{"$f":"'5. Offre de transport'!MY43","v":0},{"$f":"'5. Offre de transport'!MZ43","v":0}]
[null,{"$f":"'5. Offre de transport'!B44","v":26},{"$f":"'5. Offre de transport'!C44","v":0},{"$f":"'5. Offre de transport'!D44","v":0},{"$f":"'5. Offre de transport'!E44","v":0},{"$f":"'5. Offre de transport'!F44","v":0},{"$f":"'5. Offre de transport'!G44","v":0},{"$f":"'5. Offre de transport'!H44","v":0},{"$f":"'5. Offre de transport'!I44","v":0},{"$f":"'5. Offre de transport'!J44","v":0},{"$f":"'5. Offre de transport'!K44","v":0},{"$f":"'5. Offre de transport'!L44","v":0},{"$f":"'5. Offre de transport'!M44","v":0},{"$f":"'5. Offre de transport'!N44","v":0},{"$f":"'5. Offre de transport'!O44","v":0},{"$f":"'5. Offre de transport'!P44","v":0},{"$f":"'5. Offre de transport'!Q44","v":0},{"$f":"'5. Offre de transport'!R44","v":0},{"$f":"'5. Offre de transport'!S44","v":0},{"$f":"'5. Offre de transport'!T44","v":0},{"$f":"'5. Offre de transport'!U44","v":0},{"$f":"'5. Offre de transport'!V44","v":0},{"$f":"'5. Offre de transport'!W44","v":0},{"$f":"'5. Offre de transport'!X44","v":0},{"$f":"'5. Offre de transport'!Y44","v":0},{"$f":"'5. Offre de transport'!Z44","v":0},{"$f":"'5. Offre de transport'!AA44","v":0},{"$f":"'5. Offre de transport'!AB44","v":0},{"$f":"'5. Offre de transport'!AC44","v":0},{"$f":"'5. Offre de transport'!AD44","v":0},{"$f":"'5. Offre de transport'!AE44","v":0},{"$f":"'5. Offre de transport'!AF44","v":0},{"$f":"'5. Offre de transport'!AG44","v":0},{"$f":"'5. Offre de transport'!AH44","v":0},{"$f":"'5. Offre de transport'!AI44","v":0},{"$f":"'5. Offre de transport'!AJ44","v":0},{"$f":"'5. Offre de transport'!AK44","v":0},{"$f":"'5. Offre de transport'!AL44","v":0},{"$f":"'5. Offre de transport'!AM44","v":0},{"$f":"'5. Offre de transport'!AN44","v":0},{"$f":"'5. Offre de transport'!AO44","v":0},{"$f":"'5. Offre de transport'!AP44","v":0},{"$f":"'5. Offre de transport'!AQ44","v":0},{"$f":"'5. Offre de transport'!AR44","v":0},{"$f":"'5. Offre de transport'!AS44","v":0},{"$f":"'5. Offre de transport'!AT44","v":0},{"$f":"'5. Offre de transport'!AU44","v":0},{"$f":"'5. Offre de transport'!AV44","v":0},{"$f":"'5. Offre de transport'!AW44","v":0},{"$f":"'5. Offre de transport'!AX44","v":0},{"$f":"'5. Offre de transport'!AY44","v":0},{"$f":"'5. Offre de transport'!AZ44","v":0},{"$f":"'5. Offre de transport'!BA44","v":0},{"$f":"'5. Offre de transport'!BB44","v":0},{"$f":"'5. Offre de transport'!BC44","v":0},{"$f":"'5. Offre de transport'!BD44","v":0},{"$f":"'5. Offre de transport'!BE44","v":0},{"$f":"'5. Offre de transport'!BF44","v":0},{"$f":"'5. Offre de transport'!BG44","v":0},{"$f":"'5. Offre de transport'!BH44","v":0},{"$f":"'5. Offre de transport'!BI44","v":0},{"$f":"'5. Offre de transport'!BJ44","v":0},{"$f":"'5. Offre de transport'!BK44","v":0},{"$f":"'5. Offre de transport'!BL44","v":0},{"$f":"'5. Offre de transport'!BM44","v":0},{"$f":"'5. Offre de transport'!BN44","v":0},{"$f":"'5. Offre de transport'!BO44","v":0},{"$f":"'5. Offre de transport'!BP44","v":0},{"$f":"'5. Offre de transport'!BQ44","v":0},{"$f":"'5. Offre de transport'!BR44","v":0},{"$f":"'5. Offre de transport'!BS44","v":0},{"$f":"'5. Offre de transport'!BT44","v":0},{"$f":"'5. Offre de transport'!BU44","v":0},{"$f":"'5. Offre de transport'!BV44","v":0},{"$f":"'5. Offre de transport'!BW44","v":0},{"$f":"'5. Offre de transport'!BX44","v":0},{"$f":"'5. Offre de transport'!BY44","v":0},{"$f":"'5. Offre de transport'!BZ44","v":0},{"$f":"'5. Offre de transport'!CA44","v":0},{"$f":"'5. Offre de transport'!CB44","v":0},{"$f":"'5. Offre de transport'!CC44","v":0},{"$f":"'5. Offre de transport'!CD44","v":0},{"$f":"'5. Offre de transport'!CE44","v":0},{"$f":"'5. Offre de transport'!CF44","v":0},{"$f":"'5. Offre de transport'!CG44","v":0},{"$f":"'5. Offre de transport'!CH44","v":0},{"$f":"'5. Offre de transport'!CI44","v":0},{"$f":"'5. Offre de transport'!CJ44","v":0},{"$f":"'5. Offre de transport'!CK44","v":0},{"$f":"'5. Offre de transport'!CL44","v":0},{"$f":"'5. Offre de transport'!CM44","v":0},{"$f":"'5. Offre de transport'!CN44","v":0},{"$f":"'5. Offre de transport'!CO44","v":0},{"$f":"'5. Offre de transport'!CP44","v":0},{"$f":"'5. Offre de transport'!CQ44","v":0},{"$f":"'5. Offre de transport'!CR44","v":0},{"$f":"'5. Offre de transport'!CS44","v":0},{"$f":"'5. Offre de transport'!CT44","v":0},{"$f":"'5. Offre de transport'!CU44","v":0},{"$f":"'5. Offre de transport'!CV44","v":0},{"$f":"'5. Offre de transport'!CW44","v":0},{"$f":"'5. Offre de transport'!CX44","v":0},{"$f":"'5. Offre de transport'!CY44","v":0},{"$f":"'5. Offre de transport'!CZ44","v":0},{"$f":"'5. Offre de transport'!DA44","v":0},{"$f":"'5. Offre de transport'!DB44","v":0},{"$f":"'5. Offre de transport'!DC44","v":0},{"$f":"'5. Offre de transport'!DD44","v":0},{"$f":"'5. Offre de transport'!DE44","v":0},{"$f":"'5. Offre de transport'!DF44","v":0},{"$f":"'5. Offre de transport'!DG44","v":0},{"$f":"'5. Offre de transport'!DH44","v":0},{"$f":"'5. Offre de transport'!DI44","v":0},{"$f":"'5. Offre de transport'!DJ44","v":0},{"$f":"'5. Offre de transport'!DK44","v":0},{"$f":"'5. Offre de transport'!DL44","v":0},{"$f":"'5. Offre de transport'!DM44","v":0},{"$f":"'5. Offre de transport'!DN44","v":0},{"$f":"'5. Offre de transport'!DO44","v":0},{"$f":"'5. Offre de transport'!DP44","v":0},{"$f":"'5. Offre de transport'!DQ44","v":0},{"$f":"'5. Offre de transport'!DR44","v":0},{"$f":"'5. Offre de transport'!DS44","v":0},{"$f":"'5. Offre de transport'!DT44","v":0},{"$f":"'5. Offre de transport'!DU44","v":0},{"$f":"'5. Offre de transport'!DV44","v":0},{"$f":"'5. Offre de transport'!DW44","v":0},{"$f":"'5. Offre de transport'!DX44","v":0},{"$f":"'5. Offre de transport'!DY44","v":0},{"$f":"'5. Offre de transport'!DZ44","v":0},{"$f":"'5. Offre de transport'!EA44","v":0},{"$f":"'5. Offre de transport'!EB44","v":0},{"$f":"'5. Offre de transport'!EC44","v":0},{"$f":"'5. Offre de transport'!ED44","v":0},{"$f":"'5. Offre de transport'!EE44","v":0},{"$f":"'5. Offre de transport'!EF44","v":0},{"$f":"'5. Offre de transport'!EG44","v":0},{"$f":"'5. Offre de transport'!EH44","v":0},{"$f":"'5. Offre de transport'!EI44","v":0},{"$f":"'5. Offre de transport'!EJ44","v":0},{"$f":"'5. Offre de transport'!EK44","v":0},{"$f":"'5. Offre de transport'!EL44","v":0},{"$f":"'5. Offre de transport'!EM44","v":0},{"$f":"'5. Offre de transport'!EN44","v":0},{"$f":"'5. Offre de transport'!EO44","v":0},{"$f":"'5. Offre de transport'!EP44","v":0},{"$f":"'5. Offre de transport'!EQ44","v":0},{"$f":"'5. Offre de transport'!ER44","v":0},{"$f":"'5. Offre de transport'!ES44","v":0},{"$f":"'5. Offre de transport'!ET44","v":0},{"$f":"'5. Offre de transport'!EU44","v":0},{"$f":"'5. Offre de transport'!EV44","v":0},{"$f":"'5. Offre de transport'!EW44","v":0},{"$f":"'5. Offre de transport'!EX44","v":0},{"$f":"'5. Offre de transport'!EY44","v":0},{"$f":"'5. Offre de transport'!EZ44","v":0},{"$f":"'5. Offre de transport'!FA44","v":0},{"$f":"'5. Offre de transport'!FB44","v":0},{"$f":"'5. Offre de transport'!FC44","v":0},{"$f":"'5. Offre de transport'!FD44","v":0},{"$f":"'5. Offre de transport'!FE44","v":0},{"$f":"'5. Offre de transport'!FF44","v":0},{"$f":"'5. Offre de transport'!FG44","v":0},{"$f":"'5. Offre de transport'!FH44","v":0},{"$f":"'5. Offre de transport'!FI44","v":0},{"$f":"'5. Offre de transport'!FJ44","v":0},{"$f":"'5. Offre de transport'!FK44","v":0},{"$f":"'5. Offre de transport'!FL44","v":0},{"$f":"'5. Offre de transport'!FM44","v":0},{"$f":"'5. Offre de transport'!FN44","v":0},{"$f":"'5. Offre de transport'!FO44","v":0},{"$f":"'5. Offre de transport'!FP44","v":0},{"$f":"'5. Offre de transport'!FQ44","v":0},{"$f":"'5. Offre de transport'!FR44","v":0},{"$f":"'5. Offre de transport'!FS44","v":0},{"$f":"'5. Offre de transport'!FT44","v":0},{"$f":"'5. Offre de transport'!FU44","v":0},{"$f":"'5. Offre de transport'!FV44","v":0},{"$f":"'5. Offre de transport'!FW44","v":0},{"$f":"'5. Offre de transport'!FX44","v":0},{"$f":"'5. Offre de transport'!FY44","v":0},{"$f":"'5. Offre de transport'!FZ44","v":0},{"$f":"'5. Offre de transport'!GA44","v":0},{"$f":"'5. Offre de transport'!GB44","v":0},{"$f":"'5. Offre de transport'!GC44","v":0},{"$f":"'5. Offre de transport'!GD44","v":0},{"$f":"'5. Offre de transport'!GE44","v":0},{"$f":"'5. Offre de transport'!GF44","v":0},{"$f":"'5. Offre de transport'!GG44","v":0},{"$f":"'5. Offre de transport'!GH44","v":0},{"$f":"'5. Offre de transport'!GI44","v":0},{"$f":"'5. Offre de transport'!GJ44","v":0},{"$f":"'5. Offre de transport'!GK44","v":0},{"$f":"'5. Offre de transport'!GL44","v":0},{"$f":"'5. Offre de transport'!GM44","v":0},{"$f":"'5. Offre de transport'!GN44","v":0},{"$f":"'5. Offre de transport'!GO44","v":0},{"$f":"'5. Offre de transport'!GP44","v":0},{"$f":"'5. Offre de transport'!GQ44","v":0},{"$f":"'5. Offre de transport'!GR44","v":0},{"$f":"'5. Offre de transport'!GS44","v":0},{"$f":"'5. Offre de transport'!GT44","v":0},{"$f":"'5. Offre de transport'!GU44","v":0},{"$f":"'5. Offre de transport'!GV44","v":0},{"$f":"'5. Offre de transport'!GW44","v":0},{"$f":"'5. Offre de transport'!GX44","v":0},{"$f":"'5. Offre de transport'!GY44","v":0},{"$f":"'5. Offre de transport'!GZ44","v":0},{"$f":"'5. Offre de transport'!HA44","v":0},{"$f":"'5. Offre de transport'!HB44","v":0},{"$f":"'5. Offre de transport'!HC44","v":0},{"$f":"'5. Offre de transport'!HD44","v":0},{"$f":"'5. Offre de transport'!HE44","v":0},{"$f":"'5. Offre de transport'!HF44","v":0},{"$f":"'5. Offre de transport'!HG44","v":0},{"$f":"'5. Offre de transport'!HH44","v":0},{"$f":"'5. Offre de transport'!HI44","v":0},{"$f":"'5. Offre de transport'!HJ44","v":0},{"$f":"'5. Offre de transport'!HK44","v":0},{"$f":"'5. Offre de transport'!HL44","v":0},{"$f":"'5. Offre de transport'!HM44","v":0},{"$f":"'5. Offre de transport'!HN44","v":0},{"$f":"'5. Offre de transport'!HO44","v":0},{"$f":"'5. Offre de transport'!HP44","v":0},{"$f":"'5. Offre de transport'!HQ44","v":0},{"$f":"'5. Offre de transport'!HR44","v":0},{"$f":"'5. Offre de transport'!HS44","v":0},{"$f":"'5. Offre de transport'!HT44","v":0},{"$f":"'5. Offre de transport'!HU44","v":0},{"$f":"'5. Offre de transport'!HV44","v":0},{"$f":"'5. Offre de transport'!HW44","v":0},{"$f":"'5. Offre de transport'!HX44","v":0},{"$f":"'5. Offre de transport'!HY44","v":0},{"$f":"'5. Offre de transport'!HZ44","v":0},{"$f":"'5. Offre de transport'!IA44","v":0},{"$f":"'5. Offre de transport'!IB44","v":0},{"$f":"'5. Offre de transport'!IC44","v":0},{"$f":"'5. Offre de transport'!ID44","v":0},{"$f":"'5. Offre de transport'!IE44","v":0},{"$f":"'5. Offre de transport'!IF44","v":0},{"$f":"'5. Offre de transport'!IG44","v":0},{"$f":"'5. Offre de transport'!IH44","v":0},{"$f":"'5. Offre de transport'!II44","v":0},{"$f":"'5. Offre de transport'!IJ44","v":0},{"$f":"'5. Offre de transport'!IK44","v":0},{"$f":"'5. Offre de transport'!IL44","v":0},{"$f":"'5. Offre de transport'!IM44","v":0},{"$f":"'5. Offre de transport'!IN44","v":0},{"$f":"'5. Offre de transport'!IO44","v":0},{"$f":"'5. Offre de transport'!IP44","v":0},{"$f":"'5. Offre de transport'!IQ44","v":0},{"$f":"'5. Offre de transport'!IR44","v":0},{"$f":"'5. Offre de transport'!IS44","v":0},{"$f":"'5. Offre de transport'!IT44","v":0},{"$f":"'5. Offre de transport'!IU44","v":0},{"$f":"'5. Offre de transport'!IV44","v":0},{"$f":"'5. Offre de transport'!IW44","v":0},{"$f":"'5. Offre de transport'!IX44","v":0},{"$f":"'5. Offre de transport'!IY44","v":0},{"$f":"'5. Offre de transport'!IZ44","v":0},{"$f":"'5. Offre de transport'!JA44","v":0},{"$f":"'5. Offre de transport'!JB44","v":0},{"$f":"'5. Offre de transport'!JC44","v":0},{"$f":"'5. Offre de transport'!JD44","v":0},{"$f":"'5. Offre de transport'!JE44","v":0},{"$f":"'5. Offre de transport'!JF44","v":0},{"$f":"'5. Offre de transport'!JG44","v":0},{"$f":"'5. Offre de transport'!JH44","v":0},{"$f":"'5. Offre de transport'!JI44","v":0},{"$f":"'5. Offre de transport'!JJ44","v":0},{"$f":"'5. Offre de transport'!JK44","v":0},{"$f":"'5. Offre de transport'!JL44","v":0},{"$f":"'5. Offre de transport'!JM44","v":0},{"$f":"'5. Offre de transport'!JN44","v":0},{"$f":"'5. Offre de transport'!JO44","v":0},{"$f":"'5. Offre de transport'!JP44","v":0},{"$f":"'5. Offre de transport'!JQ44","v":0},{"$f":"'5. Offre de transport'!JR44","v":0},{"$f":"'5. Offre de transport'!JS44","v":0},{"$f":"'5. Offre de transport'!JT44","v":0},{"$f":"'5. Offre de transport'!JU44","v":0},{"$f":"'5. Offre de transport'!JV44","v":0},{"$f":"'5. Offre de transport'!JW44","v":0},{"$f":"'5. Offre de transport'!JX44","v":0},{"$f":"'5. Offre de transport'!JY44","v":0},{"$f":"'5. Offre de transport'!JZ44","v":0},{"$f":"'5. Offre de transport'!KA44","v":0},{"$f":"'5. Offre de transport'!KB44","v":0},{"$f":"'5. Offre de transport'!KC44","v":0},{"$f":"'5. Offre de transport'!KD44","v":0},{"$f":"'5. Offre de transport'!KE44","v":0},{"$f":"'5. Offre de transport'!KF44","v":0},{"$f":"'5. Offre de transport'!KG44","v":0},{"$f":"'5. Offre de transport'!KH44","v":0},{"$f":"'5. Offre de transport'!KI44","v":0},{"$f":"'5. Offre de transport'!KJ44","v":0},{"$f":"'5. Offre de transport'!KK44","v":0},{"$f":"'5. Offre de transport'!KL44","v":0},{"$f":"'5. Offre de transport'!KM44","v":0},{"$f":"'5. Offre de transport'!KN44","v":0},{"$f":"'5. Offre de transport'!KO44","v":0},{"$f":"'5. Offre de transport'!KP44","v":0},{"$f":"'5. Offre de transport'!KQ44","v":0},{"$f":"'5. Offre de transport'!KR44","v":0},{"$f":"'5. Offre de transport'!KS44","v":0},{"$f":"'5. Offre de transport'!KT44","v":0},{"$f":"'5. Offre de transport'!KU44","v":0},{"$f":"'5. Offre de transport'!KV44","v":0},{"$f":"'5. Offre de transport'!KW44","v":0},{"$f":"'5. Offre de transport'!KX44","v":0},{"$f":"'5. Offre de transport'!KY44","v":0},{"$f":"'5. Offre de transport'!KZ44","v":0},{"$f":"'5. Offre de transport'!LA44","v":0},{"$f":"'5. Offre de transport'!LB44","v":0},{"$f":"'5. Offre de transport'!LC44","v":0},{"$f":"'5. Offre de transport'!LD44","v":0},{"$f":"'5. Offre de transport'!LE44","v":0},{"$f":"'5. Offre de transport'!LF44","v":0},{"$f":"'5. Offre de transport'!LG44","v":0},{"$f":"'5. Offre de transport'!LH44","v":0},{"$f":"'5. Offre de transport'!LI44","v":0},{"$f":"'5. Offre de transport'!LJ44","v":0},{"$f":"'5. Offre de transport'!LK44","v":0},{"$f":"'5. Offre de transport'!LL44","v":0},{"$f":"'5. Offre de transport'!LM44","v":0},{"$f":"'5. Offre de transport'!LN44","v":0},{"$f":"'5. Offre de transport'!LO44","v":0},{"$f":"'5. Offre de transport'!LP44","v":0},{"$f":"'5. Offre de transport'!LQ44","v":0},{"$f":"'5. Offre de transport'!LR44","v":0},{"$f":"'5. Offre de transport'!LS44","v":0},{"$f":"'5. Offre de transport'!LT44","v":0},{"$f":"'5. Offre de transport'!LU44","v":0},{"$f":"'5. Offre de transport'!LV44","v":0},{"$f":"'5. Offre de transport'!LW44","v":0},{"$f":"'5. Offre de transport'!LX44","v":0},{"$f":"'5. Offre de transport'!LY44","v":0},{"$f":"'5. Offre de transport'!LZ44","v":0},{"$f":"'5. Offre de transport'!MA44","v":0},{"$f":"'5. Offre de transport'!MB44","v":0},{"$f":"'5. Offre de transport'!MC44","v":0},{"$f":"'5. Offre de transport'!MD44","v":0},{"$f":"'5. Offre de transport'!ME44","v":0},{"$f":"'5. Offre de transport'!MF44","v":0},{"$f":"'5. Offre de transport'!MG44","v":0},{"$f":"'5. Offre de transport'!MH44","v":0},{"$f":"'5. Offre de transport'!MI44","v":0},{"$f":"'5. Offre de transport'!MJ44","v":0},{"$f":"'5. Offre de transport'!MK44","v":0},{"$f":"'5. Offre de transport'!ML44","v":0},{"$f":"'5. Offre de transport'!MM44","v":0},{"$f":"'5. Offre de transport'!MN44","v":0},{"$f":"'5. Offre de transport'!MO44","v":0},{"$f":"'5. Offre de transport'!MP44","v":0},{"$f":"'5. Offre de transport'!MQ44","v":0},{"$f":"'5. Offre de transport'!MR44","v":0},{"$f":"'5. Offre de transport'!MS44","v":0},{"$f":"'5. Offre de transport'!MT44","v":0},{"$f":"'5. Offre de transport'!MU44","v":0},{"$f":"'5. Offre de transport'!MV44","v":0},{"$f":"'5. Offre de transport'!MW44","v":0},{"$f":"'5. Offre de transport'!MX44","v":0},{"$f":"'5. Offre de transport'!MY44","v":0},{"$f":"'5. Offre de transport'!MZ44","v":0}]
[null,{"$f":"'5. Offre de transport'!B45","v":27},{"$f":"'5. Offre de transport'!C45","v":0},{"$f":"'5. Offre de transport'!D45","v":0},{"$f":"'5. Offre de transport'!E45","v":0},{"$f":"'5. Offre de transport'!F45","v":0},{"$f":"'5. Offre de transport'!G45","v":0},{"$f":"'5. Offre de transport'!H45","v":0},{"$f":"'5. Offre de transport'!I45","v":0},{"$f":"'5. Offre de transport'!J45","v":0},{"$f":"'5. Offre de transport'!K45","v":0},{"$f":"'5. Offre de transport'!L45","v":0},{"$f":"'5. Offre de transport'!M45","v":0},{"$f":"'5. Offre de transport'!N45","v":0},{"$f":"'5. Offre de transport'!O45","v":0},{"$f":"'5. Offre de transport'!P45","v":0},{"$f":"'5. Offre de transport'!Q45","v":0},{"$f":"'5. Offre de transport'!R45","v":0},{"$f":"'5. Offre de transport'!S45","v":0},{"$f":"'5. Offre de transport'!T45","v":0},{"$f":"'5. Offre de transport'!U45","v":0},{"$f":"'5. Offre de transport'!V45","v":0},{"$f":"'5. Offre de transport'!W45","v":0},{"$f":"'5. Offre de transport'!X45","v":0},{"$f":"'5. Offre de transport'!Y45","v":0},{"$f":"'5. Offre de transport'!Z45","v":0},{"$f":"'5. Offre de transport'!AA45","v":0},{"$f":"'5. Offre de transport'!AB45","v":0},{"$f":"'5. Offre de transport'!AC45","v":0},{"$f":"'5. Offre de transport'!AD45","v":0},{"$f":"'5. Offre de transport'!AE45","v":0},{"$f":"'5. Offre de transport'!AF45","v":0},{"$f":"'5. Offre de transport'!AG45","v":0},{"$f":"'5. Offre de transport'!AH45","v":0},{"$f":"'5. Offre de transport'!AI45","v":0},{"$f":"'5. Offre de transport'!AJ45","v":0},{"$f":"'5. Offre de transport'!AK45","v":0},{"$f":"'5. Offre de transport'!AL45","v":0},{"$f":"'5. Offre de transport'!AM45","v":0},{"$f":"'5. Offre de transport'!AN45","v":0},{"$f":"'5. Offre de transport'!AO45","v":0},{"$f":"'5. Offre de transport'!AP45","v":0},{"$f":"'5. Offre de transport'!AQ45","v":0},{"$f":"'5. Offre de transport'!AR45","v":0},{"$f":"'5. Offre de transport'!AS45","v":0},{"$f":"'5. Offre de transport'!AT45","v":0},{"$f":"'5. Offre de transport'!AU45","v":0},{"$f":"'5. Offre de transport'!AV45","v":0},{"$f":"'5. Offre de transport'!AW45","v":0},{"$f":"'5. Offre de transport'!AX45","v":0},{"$f":"'5. Offre de transport'!AY45","v":0},{"$f":"'5. Offre de transport'!AZ45","v":0},{"$f":"'5. Offre de transport'!BA45","v":0},{"$f":"'5. Offre de transport'!BB45","v":0},{"$f":"'5. Offre de transport'!BC45","v":0},{"$f":"'5. Offre de transport'!BD45","v":0},{"$f":"'5. Offre de transport'!BE45","v":0},{"$f":"'5. Offre de transport'!BF45","v":0},{"$f":"'5. Offre de transport'!BG45","v":0},{"$f":"'5. Offre de transport'!BH45","v":0},{"$f":"'5. Offre de transport'!BI45","v":0},{"$f":"'5. Offre de transport'!BJ45","v":0},{"$f":"'5. Offre de transport'!BK45","v":0},{"$f":"'5. Offre de transport'!BL45","v":0},{"$f":"'5. Offre de transport'!BM45","v":0},{"$f":"'5. Offre de transport'!BN45","v":0},{"$f":"'5. Offre de transport'!BO45","v":0},{"$f":"'5. Offre de transport'!BP45","v":0},{"$f":"'5. Offre de transport'!BQ45","v":0},{"$f":"'5. Offre de transport'!BR45","v":0},{"$f":"'5. Offre de transport'!BS45","v":0},{"$f":"'5. Offre de transport'!BT45","v":0},{"$f":"'5. Offre de transport'!BU45","v":0},{"$f":"'5. Offre de transport'!BV45","v":0},{"$f":"'5. Offre de transport'!BW45","v":0},{"$f":"'5. Offre de transport'!BX45","v":0},{"$f":"'5. Offre de transport'!BY45","v":0},{"$f":"'5. Offre de transport'!BZ45","v":0},{"$f":"'5. Offre de transport'!CA45","v":0},{"$f":"'5. Offre de transport'!CB45","v":0},{"$f":"'5. Offre de transport'!CC45","v":0},{"$f":"'5. Offre de transport'!CD45","v":0},{"$f":"'5. Offre de transport'!CE45","v":0},{"$f":"'5. Offre de transport'!CF45","v":0},{"$f":"'5. Offre de transport'!CG45","v":0},{"$f":"'5. Offre de transport'!CH45","v":0},{"$f":"'5. Offre de transport'!CI45","v":0},{"$f":"'5. Offre de transport'!CJ45","v":0},{"$f":"'5. Offre de transport'!CK45","v":0},{"$f":"'5. Offre de transport'!CL45","v":0},{"$f":"'5. Offre de transport'!CM45","v":0},{"$f":"'5. Offre de transport'!CN45","v":0},{"$f":"'5. Offre de transport'!CO45","v":0},{"$f":"'5. Offre de transport'!CP45","v":0},{"$f":"'5. Offre de transport'!CQ45","v":0},{"$f":"'5. Offre de transport'!CR45","v":0},{"$f":"'5. Offre de transport'!CS45","v":0},{"$f":"'5. Offre de transport'!CT45","v":0},{"$f":"'5. Offre de transport'!CU45","v":0},{"$f":"'5. Offre de transport'!CV45","v":0},{"$f":"'5. Offre de transport'!CW45","v":0},{"$f":"'5. Offre de transport'!CX45","v":0},{"$f":"'5. Offre de transport'!CY45","v":0},{"$f":"'5. Offre de transport'!CZ45","v":0},{"$f":"'5. Offre de transport'!DA45","v":0},{"$f":"'5. Offre de transport'!DB45","v":0},{"$f":"'5. Offre de transport'!DC45","v":0},{"$f":"'5. Offre de transport'!DD45","v":0},{"$f":"'5. Offre de transport'!DE45","v":0},{"$f":"'5. Offre de transport'!DF45","v":0},{"$f":"'5. Offre de transport'!DG45","v":0},{"$f":"'5. Offre de transport'!DH45","v":0},{"$f":"'5. Offre de transport'!DI45","v":0},{"$f":"'5. Offre de transport'!DJ45","v":0},{"$f":"'5. Offre de transport'!DK45","v":0},{"$f":"'5. Offre de transport'!DL45","v":0},{"$f":"'5. Offre de transport'!DM45","v":0},{"$f":"'5. Offre de transport'!DN45","v":0},{"$f":"'5. Offre de transport'!DO45","v":0},{"$f":"'5. Offre de transport'!DP45","v":0},{"$f":"'5. Offre de transport'!DQ45","v":0},{"$f":"'5. Offre de transport'!DR45","v":0},{"$f":"'5. Offre de transport'!DS45","v":0},{"$f":"'5. Offre de transport'!DT45","v":0},{"$f":"'5. Offre de transport'!DU45","v":0},{"$f":"'5. Offre de transport'!DV45","v":0},{"$f":"'5. Offre de transport'!DW45","v":0},{"$f":"'5. Offre de transport'!DX45","v":0},{"$f":"'5. Offre de transport'!DY45","v":0},{"$f":"'5. Offre de transport'!DZ45","v":0},{"$f":"'5. Offre de transport'!EA45","v":0},{"$f":"'5. Offre de transport'!EB45","v":0},{"$f":"'5. Offre de transport'!EC45","v":0},{"$f":"'5. Offre de transport'!ED45","v":0},{"$f":"'5. Offre de transport'!EE45","v":0},{"$f":"'5. Offre de transport'!EF45","v":0},{"$f":"'5. Offre de transport'!EG45","v":0},{"$f":"'5. Offre de transport'!EH45","v":0},{"$f":"'5. Offre de transport'!EI45","v":0},{"$f":"'5. Offre de transport'!EJ45","v":0},{"$f":"'5. Offre de transport'!EK45","v":0},{"$f":"'5. Offre de transport'!EL45","v":0},{"$f":"'5. Offre de transport'!EM45","v":0},{"$f":"'5. Offre de transport'!EN45","v":0},{"$f":"'5. Offre de transport'!EO45","v":0},{"$f":"'5. Offre de transport'!EP45","v":0},{"$f":"'5. Offre de transport'!EQ45","v":0},{"$f":"'5. Offre de transport'!ER45","v":0},{"$f":"'5. Offre de transport'!ES45","v":0},{"$f":"'5. Offre de transport'!ET45","v":0},{"$f":"'5. Offre de transport'!EU45","v":0},{"$f":"'5. Offre de transport'!EV45","v":0},{"$f":"'5. Offre de transport'!EW45","v":0},{"$f":"'5. Offre de transport'!EX45","v":0},{"$f":"'5. Offre de transport'!EY45","v":0},{"$f":"'5. Offre de transport'!EZ45","v":0},{"$f":"'5. Offre de transport'!FA45","v":0},{"$f":"'5. Offre de transport'!FB45","v":0},{"$f":"'5. Offre de transport'!FC45","v":0},{"$f":"'5. Offre de transport'!FD45","v":0},{"$f":"'5. Offre de transport'!FE45","v":0},{"$f":"'5. Offre de transport'!FF45","v":0},{"$f":"'5. Offre de transport'!FG45","v":0},{"$f":"'5. Offre de transport'!FH45","v":0},{"$f":"'5. Offre de transport'!FI45","v":0},{"$f":"'5. Offre de transport'!FJ45","v":0},{"$f":"'5. Offre de transport'!FK45","v":0},{"$f":"'5. Offre de transport'!FL45","v":0},{"$f":"'5. Offre de transport'!FM45","v":0},{"$f":"'5. Offre de transport'!FN45","v":0},{"$f":"'5. Offre de transport'!FO45","v":0},{"$f":"'5. Offre de transport'!FP45","v":0},{"$f":"'5. Offre de transport'!FQ45","v":0},{"$f":"'5. Offre de transport'!FR45","v":0},{"$f":"'5. Offre de transport'!FS45","v":0},{"$f":"'5. Offre de transport'!FT45","v":0},{"$f":"'5. Offre de transport'!FU45","v":0},{"$f":"'5. Offre de transport'!FV45","v":0},{"$f":"'5. Offre de transport'!FW45","v":0},{"$f":"'5. Offre de transport'!FX45","v":0},{"$f":"'5. Offre de transport'!FY45","v":0},{"$f":"'5. Offre de transport'!FZ45","v":0},{"$f":"'5. Offre de transport'!GA45","v":0},{"$f":"'5. Offre de transport'!GB45","v":0},{"$f":"'5. Offre de transport'!GC45","v":0},{"$f":"'5. Offre de transport'!GD45","v":0},{"$f":"'5. Offre de transport'!GE45","v":0},{"$f":"'5. Offre de transport'!GF45","v":0},{"$f":"'5. Offre de transport'!GG45","v":0},{"$f":"'5. Offre de transport'!GH45","v":0},{"$f":"'5. Offre de transport'!GI45","v":0},{"$f":"'5. Offre de transport'!GJ45","v":0},{"$f":"'5. Offre de transport'!GK45","v":0},{"$f":"'5. Offre de transport'!GL45","v":0},{"$f":"'5. Offre de transport'!GM45","v":0},{"$f":"'5. Offre de transport'!GN45","v":0},{"$f":"'5. Offre de transport'!GO45","v":0},{"$f":"'5. Offre de transport'!GP45","v":0},{"$f":"'5. Offre de transport'!GQ45","v":0},{"$f":"'5. Offre de transport'!GR45","v":0},{"$f":"'5. Offre de transport'!GS45","v":0},{"$f":"'5. Offre de transport'!GT45","v":0},{"$f":"'5. Offre de transport'!GU45","v":0},{"$f":"'5. Offre de transport'!GV45","v":0},{"$f":"'5. Offre de transport'!GW45","v":0},{"$f":"'5. Offre de transport'!GX45","v":0},{"$f":"'5. Offre de transport'!GY45","v":0},{"$f":"'5. Offre de transport'!GZ45","v":0},{"$f":"'5. Offre de transport'!HA45","v":0},{"$f":"'5. Offre de transport'!HB45","v":0},{"$f":"'5. Offre de transport'!HC45","v":0},{"$f":"'5. Offre de transport'!HD45","v":0},{"$f":"'5. Offre de transport'!HE45","v":0},{"$f":"'5. Offre de transport'!HF45","v":0},{"$f":"'5. Offre de transport'!HG45","v":0},{"$f":"'5. Offre de transport'!HH45","v":0},{"$f":"'5. Offre de transport'!HI45","v":0},{"$f":"'5. Offre de transport'!HJ45","v":0},{"$f":"'5. Offre de transport'!HK45","v":0},{"$f":"'5. Offre de transport'!HL45","v":0},{"$f":"'5. Offre de transport'!HM45","v":0},{"$f":"'5. Offre de transport'!HN45","v":0},{"$f":"'5. Offre de transport'!HO45","v":0},{"$f":"'5. Offre de transport'!HP45","v":0},{"$f":"'5. Offre de transport'!HQ45","v":0},{"$f":"'5. Offre de transport'!HR45","v":0},{"$f":"'5. Offre de transport'!HS45","v":0},{"$f":"'5. Offre de transport'!HT45","v":0},{"$f":"'5. Offre de transport'!HU45","v":0},{"$f":"'5. Offre de transport'!HV45","v":0},{"$f":"'5. Offre de transport'!HW45","v":0},{"$f":"'5. Offre de transport'!HX45","v":0},{"$f":"'5. Offre de transport'!HY45","v":0},{"$f":"'5. Offre de transport'!HZ45","v":0},{"$f":"'5. Offre de transport'!IA45","v":0},{"$f":"'5. Offre de transport'!IB45","v":0},{"$f":"'5. Offre de transport'!IC45","v":0},{"$f":"'5. Offre de transport'!ID45","v":0},{"$f":"'5. Offre de transport'!IE45","v":0},{"$f":"'5. Offre de transport'!IF45","v":0},{"$f":"'5. Offre de transport'!IG45","v":0},{"$f":"'5. Offre de transport'!IH45","v":0},{"$f":"'5. Offre de transport'!II45","v":0},{"$f":"'5. Offre de transport'!IJ45","v":0},{"$f":"'5. Offre de transport'!IK45","v":0},{"$f":"'5. Offre de transport'!IL45","v":0},{"$f":"'5. Offre de transport'!IM45","v":0},{"$f":"'5. Offre de transport'!IN45","v":0},{"$f":"'5. Offre de transport'!IO45","v":0},{"$f":"'5. Offre de transport'!IP45","v":0},{"$f":"'5. Offre de transport'!IQ45","v":0},{"$f":"'5. Offre de transport'!IR45","v":0},{"$f":"'5. Offre de transport'!IS45","v":0},{"$f":"'5. Offre de transport'!IT45","v":0},{"$f":"'5. Offre de transport'!IU45","v":0},{"$f":"'5. Offre de transport'!IV45","v":0},{"$f":"'5. Offre de transport'!IW45","v":0},{"$f":"'5. Offre de transport'!IX45","v":0},{"$f":"'5. Offre de transport'!IY45","v":0},{"$f":"'5. Offre de transport'!IZ45","v":0},{"$f":"'5. Offre de transport'!JA45","v":0},{"$f":"'5. Offre de transport'!JB45","v":0},{"$f":"'5. Offre de transport'!JC45","v":0},{"$f":"'5. Offre de transport'!JD45","v":0},{"$f":"'5. Offre de transport'!JE45","v":0},{"$f":"'5. Offre de transport'!JF45","v":0},{"$f":"'5. Offre de transport'!JG45","v":0},{"$f":"'5. Offre de transport'!JH45","v":0},{"$f":"'5. Offre de transport'!JI45","v":0},{"$f":"'5. Offre de transport'!JJ45","v":0},{"$f":"'5. Offre de transport'!JK45","v":0},{"$f":"'5. Offre de transport'!JL45","v":0},{"$f":"'5. Offre de transport'!JM45","v":0},{"$f":"'5. Offre de transport'!JN45","v":0},{"$f":"'5. Offre de transport'!JO45","v":0},{"$f":"'5. Offre de transport'!JP45","v":0},{"$f":"'5. Offre de transport'!JQ45","v":0},{"$f":"'5. Offre de transport'!JR45","v":0},{"$f":"'5. Offre de transport'!JS45","v":0},{"$f":"'5. Offre de transport'!JT45","v":0},{"$f":"'5. Offre de transport'!JU45","v":0},{"$f":"'5. Offre de transport'!JV45","v":0},{"$f":"'5. Offre de transport'!JW45","v":0},{"$f":"'5. Offre de transport'!JX45","v":0},{"$f":"'5. Offre de transport'!JY45","v":0},{"$f":"'5. Offre de transport'!JZ45","v":0},{"$f":"'5. Offre de transport'!KA45","v":0},{"$f":"'5. Offre de transport'!KB45","v":0},{"$f":"'5. Offre de transport'!KC45","v":0},{"$f":"'5. Offre de transport'!KD45","v":0},{"$f":"'5. Offre de transport'!KE45","v":0},{"$f":"'5. Offre de transport'!KF45","v":0},{"$f":"'5. Offre de transport'!KG45","v":0},{"$f":"'5. Offre de transport'!KH45","v":0},{"$f":"'5. Offre de transport'!KI45","v":0},{"$f":"'5. Offre de transport'!KJ45","v":0},{"$f":"'5. Offre de transport'!KK45","v":0},{"$f":"'5. Offre de transport'!KL45","v":0},{"$f":"'5. Offre de transport'!KM45","v":0},{"$f":"'5. Offre de transport'!KN45","v":0},{"$f":"'5. Offre de transport'!KO45","v":0},{"$f":"'5. Offre de transport'!KP45","v":0},{"$f":"'5. Offre de transport'!KQ45","v":0},{"$f":"'5. Offre de transport'!KR45","v":0},{"$f":"'5. Offre de transport'!KS45","v":0},{"$f":"'5. Offre de transport'!KT45","v":0},{"$f":"'5. Offre de transport'!KU45","v":0},{"$f":"'5. Offre de transport'!KV45","v":0},{"$f":"'5. Offre de transport'!KW45","v":0},{"$f":"'5. Offre de transport'!KX45","v":0},{"$f":"'5. Offre de transport'!KY45","v":0},{"$f":"'5. Offre de transport'!KZ45","v":0},{"$f":"'5. Offre de transport'!LA45","v":0},{"$f":"'5. Offre de transport'!LB45","v":0},{"$f":"'5. Offre de transport'!LC45","v":0},{"$f":"'5. Offre de transport'!LD45","v":0},{"$f":"'5. Offre de transport'!LE45","v":0},{"$f":"'5. Offre de transport'!LF45","v":0},{"$f":"'5. Offre de transport'!LG45","v":0},{"$f":"'5. Offre de transport'!LH45","v":0},{"$f":"'5. Offre de transport'!LI45","v":0},{"$f":"'5. Offre de transport'!LJ45","v":0},{"$f":"'5. Offre de transport'!LK45","v":0},{"$f":"'5. Offre de transport'!LL45","v":0},{"$f":"'5. Offre de transport'!LM45","v":0},{"$f":"'5. Offre de transport'!LN45","v":0},{"$f":"'5. Offre de transport'!LO45","v":0},{"$f":"'5. Offre de transport'!LP45","v":0},{"$f":"'5. Offre de transport'!LQ45","v":0},{"$f":"'5. Offre de transport'!LR45","v":0},{"$f":"'5. Offre de transport'!LS45","v":0},{"$f":"'5. Offre de transport'!LT45","v":0},{"$f":"'5. Offre de transport'!LU45","v":0},{"$f":"'5. Offre de transport'!LV45","v":0},{"$f":"'5. Offre de transport'!LW45","v":0},{"$f":"'5. Offre de transport'!LX45","v":0},{"$f":"'5. Offre de transport'!LY45","v":0},{"$f":"'5. Offre de transport'!LZ45","v":0},{"$f":"'5. Offre de transport'!MA45","v":0},{"$f":"'5. Offre de transport'!MB45","v":0},{"$f":"'5. Offre de transport'!MC45","v":0},{"$f":"'5. Offre de transport'!MD45","v":0},{"$f":"'5. Offre de transport'!ME45","v":0},{"$f":"'5. Offre de transport'!MF45","v":0},{"$f":"'5. Offre de transport'!MG45","v":0},{"$f":"'5. Offre de transport'!MH45","v":0},{"$f":"'5. Offre de transport'!MI45","v":0},{"$f":"'5. Offre de transport'!MJ45","v":0},{"$f":"'5. Offre de transport'!MK45","v":0},{"$f":"'5. Offre de transport'!ML45","v":0},{"$f":"'5. Offre de transport'!MM45","v":0},{"$f":"'5. Offre de transport'!MN45","v":0},{"$f":"'5. Offre de transport'!MO45","v":0},{"$f":"'5. Offre de transport'!MP45","v":0},{"$f":"'5. Offre de transport'!MQ45","v":0},{"$f":"'5. Offre de transport'!MR45","v":0},{"$f":"'5. Offre de transport'!MS45","v":0},{"$f":"'5. Offre de transport'!MT45","v":0},{"$f":"'5. Offre de transport'!MU45","v":0},{"$f":"'5. Offre de transport'!MV45","v":0},{"$f":"'5. Offre de transport'!MW45","v":0},{"$f":"'5. Offre de transport'!MX45","v":0},{"$f":"'5. Offre de transport'!MY45","v":0},{"$f":"'5. Offre de transport'!MZ45","v":0}]
[null,{"$f":"'5. Offre de transport'!B46","v":28},{"$f":"'5. Offre de transport'!C46","v":0},{"$f":"'5. Offre de transport'!D46","v":0},{"$f":"'5. Offre de transport'!E46","v":0},{"$f":"'5. Offre de transport'!F46","v":0},{"$f":"'5. Offre de transport'!G46","v":0},{"$f":"'5. Offre de transport'!H46","v":0},{"$f":"'5. Offre de transport'!I46","v":0},{"$f":"'5. Offre de transport'!J46","v":0},{"$f":"'5. Offre de transport'!K46","v":0},{"$f":"'5. Offre de transport'!L46","v":0},{"$f":"'5. Offre de transport'!M46","v":0},{"$f":"'5. Offre de transport'!N46","v":0},{"$f":"'5. Offre de transport'!O46","v":0},{"$f":"'5. Offre de transport'!P46","v":0},{"$f":"'5. Offre de transport'!Q46","v":0},{"$f":"'5. Offre de transport'!R46","v":0},{"$f":"'5. Offre de transport'!S46","v":0},{"$f":"'5. Offre de transport'!T46","v":0},{"$f":"'5. Offre de transport'!U46","v":0},{"$f":"'5. Offre de transport'!V46","v":0},{"$f":"'5. Offre de transport'!W46","v":0},{"$f":"'5. Offre de transport'!X46","v":0},{"$f":"'5. Offre de transport'!Y46","v":0},{"$f":"'5. Offre de transport'!Z46","v":0},{"$f":"'5. Offre de transport'!AA46","v":0},{"$f":"'5. Offre de transport'!AB46","v":0},{"$f":"'5. Offre de transport'!AC46","v":0},{"$f":"'5. Offre de transport'!AD46","v":0},{"$f":"'5. Offre de transport'!AE46","v":0},{"$f":"'5. Offre de transport'!AF46","v":0},{"$f":"'5. Offre de transport'!AG46","v":0},{"$f":"'5. Offre de transport'!AH46","v":0},{"$f":"'5. Offre de transport'!AI46","v":0},{"$f":"'5. Offre de transport'!AJ46","v":0},{"$f":"'5. Offre de transport'!AK46","v":0},{"$f":"'5. Offre de transport'!AL46","v":0},{"$f":"'5. Offre de transport'!AM46","v":0},{"$f":"'5. Offre de transport'!AN46","v":0},{"$f":"'5. Offre de transport'!AO46","v":0},{"$f":"'5. Offre de transport'!AP46","v":0},{"$f":"'5. Offre de transport'!AQ46","v":0},{"$f":"'5. Offre de transport'!AR46","v":0},{"$f":"'5. Offre de transport'!AS46","v":0},{"$f":"'5. Offre de transport'!AT46","v":0},{"$f":"'5. Offre de transport'!AU46","v":0},{"$f":"'5. Offre de transport'!AV46","v":0},{"$f":"'5. Offre de transport'!AW46","v":0},{"$f":"'5. Offre de transport'!AX46","v":0},{"$f":"'5. Offre de transport'!AY46","v":0},{"$f":"'5. Offre de transport'!AZ46","v":0},{"$f":"'5. Offre de transport'!BA46","v":0},{"$f":"'5. Offre de transport'!BB46","v":0},{"$f":"'5. Offre de transport'!BC46","v":0},{"$f":"'5. Offre de transport'!BD46","v":0},{"$f":"'5. Offre de transport'!BE46","v":0},{"$f":"'5. Offre de transport'!BF46","v":0},{"$f":"'5. Offre de transport'!BG46","v":0},{"$f":"'5. Offre de transport'!BH46","v":0},{"$f":"'5. Offre de transport'!BI46","v":0},{"$f":"'5. Offre de transport'!BJ46","v":0},{"$f":"'5. Offre de transport'!BK46","v":0},{"$f":"'5. Offre de transport'!BL46","v":0},{"$f":"'5. Offre de transport'!BM46","v":0},{"$f":"'5. Offre de transport'!BN46","v":0},{"$f":"'5. Offre de transport'!BO46","v":0},{"$f":"'5. Offre de transport'!BP46","v":0},{"$f":"'5. Offre de transport'!BQ46","v":0},{"$f":"'5. Offre de transport'!BR46","v":0},{"$f":"'5. Offre de transport'!BS46","v":0},{"$f":"'5. Offre de transport'!BT46","v":0},{"$f":"'5. Offre de transport'!BU46","v":0},{"$f":"'5. Offre de transport'!BV46","v":0},{"$f":"'5. Offre de transport'!BW46","v":0},{"$f":"'5. Offre de transport'!BX46","v":0},{"$f":"'5. Offre de transport'!BY46","v":0},{"$f":"'5. Offre de transport'!BZ46","v":0},{"$f":"'5. Offre de transport'!CA46","v":0},{"$f":"'5. Offre de transport'!CB46","v":0},{"$f":"'5. Offre de transport'!CC46","v":0},{"$f":"'5. Offre de transport'!CD46","v":0},{"$f":"'5. Offre de transport'!CE46","v":0},{"$f":"'5. Offre de transport'!CF46","v":0},{"$f":"'5. Offre de transport'!CG46","v":0},{"$f":"'5. Offre de transport'!CH46","v":0},{"$f":"'5. Offre de transport'!CI46","v":0},{"$f":"'5. Offre de transport'!CJ46","v":0},{"$f":"'5. Offre de transport'!CK46","v":0},{"$f":"'5. Offre de transport'!CL46","v":0},{"$f":"'5. Offre de transport'!CM46","v":0},{"$f":"'5. Offre de transport'!CN46","v":0},{"$f":"'5. Offre de transport'!CO46","v":0},{"$f":"'5. Offre de transport'!CP46","v":0},{"$f":"'5. Offre de transport'!CQ46","v":0},{"$f":"'5. Offre de transport'!CR46","v":0},{"$f":"'5. Offre de transport'!CS46","v":0},{"$f":"'5. Offre de transport'!CT46","v":0},{"$f":"'5. Offre de transport'!CU46","v":0},{"$f":"'5. Offre de transport'!CV46","v":0},{"$f":"'5. Offre de transport'!CW46","v":0},{"$f":"'5. Offre de transport'!CX46","v":0},{"$f":"'5. Offre de transport'!CY46","v":0},{"$f":"'5. Offre de transport'!CZ46","v":0},{"$f":"'5. Offre de transport'!DA46","v":0},{"$f":"'5. Offre de transport'!DB46","v":0},{"$f":"'5. Offre de transport'!DC46","v":0},{"$f":"'5. Offre de transport'!DD46","v":0},{"$f":"'5. Offre de transport'!DE46","v":0},{"$f":"'5. Offre de transport'!DF46","v":0},{"$f":"'5. Offre de transport'!DG46","v":0},{"$f":"'5. Offre de transport'!DH46","v":0},{"$f":"'5. Offre de transport'!DI46","v":0},{"$f":"'5. Offre de transport'!DJ46","v":0},{"$f":"'5. Offre de transport'!DK46","v":0},{"$f":"'5. Offre de transport'!DL46","v":0},{"$f":"'5. Offre de transport'!DM46","v":0},{"$f":"'5. Offre de transport'!DN46","v":0},{"$f":"'5. Offre de transport'!DO46","v":0},{"$f":"'5. Offre de transport'!DP46","v":0},{"$f":"'5. Offre de transport'!DQ46","v":0},{"$f":"'5. Offre de transport'!DR46","v":0},{"$f":"'5. Offre de transport'!DS46","v":0},{"$f":"'5. Offre de transport'!DT46","v":0},{"$f":"'5. Offre de transport'!DU46","v":0},{"$f":"'5. Offre de transport'!DV46","v":0},{"$f":"'5. Offre de transport'!DW46","v":0},{"$f":"'5. Offre de transport'!DX46","v":0},{"$f":"'5. Offre de transport'!DY46","v":0},{"$f":"'5. Offre de transport'!DZ46","v":0},{"$f":"'5. Offre de transport'!EA46","v":0},{"$f":"'5. Offre de transport'!EB46","v":0},{"$f":"'5. Offre de transport'!EC46","v":0},{"$f":"'5. Offre de transport'!ED46","v":0},{"$f":"'5. Offre de transport'!EE46","v":0},{"$f":"'5. Offre de transport'!EF46","v":0},{"$f":"'5. Offre de transport'!EG46","v":0},{"$f":"'5. Offre de transport'!EH46","v":0},{"$f":"'5. Offre de transport'!EI46","v":0},{"$f":"'5. Offre de transport'!EJ46","v":0},{"$f":"'5. Offre de transport'!EK46","v":0},{"$f":"'5. Offre de transport'!EL46","v":0},{"$f":"'5. Offre de transport'!EM46","v":0},{"$f":"'5. Offre de transport'!EN46","v":0},{"$f":"'5. Offre de transport'!EO46","v":0},{"$f":"'5. Offre de transport'!EP46","v":0},{"$f":"'5. Offre de transport'!EQ46","v":0},{"$f":"'5. Offre de transport'!ER46","v":0},{"$f":"'5. Offre de transport'!ES46","v":0},{"$f":"'5. Offre de transport'!ET46","v":0},{"$f":"'5. Offre de transport'!EU46","v":0},{"$f":"'5. Offre de transport'!EV46","v":0},{"$f":"'5. Offre de transport'!EW46","v":0},{"$f":"'5. Offre de transport'!EX46","v":0},{"$f":"'5. Offre de transport'!EY46","v":0},{"$f":"'5. Offre de transport'!EZ46","v":0},{"$f":"'5. Offre de transport'!FA46","v":0},{"$f":"'5. Offre de transport'!FB46","v":0},{"$f":"'5. Offre de transport'!FC46","v":0},{"$f":"'5. Offre de transport'!FD46","v":0},{"$f":"'5. Offre de transport'!FE46","v":0},{"$f":"'5. Offre de transport'!FF46","v":0},{"$f":"'5. Offre de transport'!FG46","v":0},{"$f":"'5. Offre de transport'!FH46","v":0},{"$f":"'5. Offre de transport'!FI46","v":0},{"$f":"'5. Offre de transport'!FJ46","v":0},{"$f":"'5. Offre de transport'!FK46","v":0},{"$f":"'5. Offre de transport'!FL46","v":0},{"$f":"'5. Offre de transport'!FM46","v":0},{"$f":"'5. Offre de transport'!FN46","v":0},{"$f":"'5. Offre de transport'!FO46","v":0},{"$f":"'5. Offre de transport'!FP46","v":0},{"$f":"'5. Offre de transport'!FQ46","v":0},{"$f":"'5. Offre de transport'!FR46","v":0},{"$f":"'5. Offre de transport'!FS46","v":0},{"$f":"'5. Offre de transport'!FT46","v":0},{"$f":"'5. Offre de transport'!FU46","v":0},{"$f":"'5. Offre de transport'!FV46","v":0},{"$f":"'5. Offre de transport'!FW46","v":0},{"$f":"'5. Offre de transport'!FX46","v":0},{"$f":"'5. Offre de transport'!FY46","v":0},{"$f":"'5. Offre de transport'!FZ46","v":0},{"$f":"'5. Offre de transport'!GA46","v":0},{"$f":"'5. Offre de transport'!GB46","v":0},{"$f":"'5. Offre de transport'!GC46","v":0},{"$f":"'5. Offre de transport'!GD46","v":0},{"$f":"'5. Offre de transport'!GE46","v":0},{"$f":"'5. Offre de transport'!GF46","v":0},{"$f":"'5. Offre de transport'!GG46","v":0},{"$f":"'5. Offre de transport'!GH46","v":0},{"$f":"'5. Offre de transport'!GI46","v":0},{"$f":"'5. Offre de transport'!GJ46","v":0},{"$f":"'5. Offre de transport'!GK46","v":0},{"$f":"'5. Offre de transport'!GL46","v":0},{"$f":"'5. Offre de transport'!GM46","v":0},{"$f":"'5. Offre de transport'!GN46","v":0},{"$f":"'5. Offre de transport'!GO46","v":0},{"$f":"'5. Offre de transport'!GP46","v":0},{"$f":"'5. Offre de transport'!GQ46","v":0},{"$f":"'5. Offre de transport'!GR46","v":0},{"$f":"'5. Offre de transport'!GS46","v":0},{"$f":"'5. Offre de transport'!GT46","v":0},{"$f":"'5. Offre de transport'!GU46","v":0},{"$f":"'5. Offre de transport'!GV46","v":0},{"$f":"'5. Offre de transport'!GW46","v":0},{"$f":"'5. Offre de transport'!GX46","v":0},{"$f":"'5. Offre de transport'!GY46","v":0},{"$f":"'5. Offre de transport'!GZ46","v":0},{"$f":"'5. Offre de transport'!HA46","v":0},{"$f":"'5. Offre de transport'!HB46","v":0},{"$f":"'5. Offre de transport'!HC46","v":0},{"$f":"'5. Offre de transport'!HD46","v":0},{"$f":"'5. Offre de transport'!HE46","v":0},{"$f":"'5. Offre de transport'!HF46","v":0},{"$f":"'5. Offre de transport'!HG46","v":0},{"$f":"'5. Offre de transport'!HH46","v":0},{"$f":"'5. Offre de transport'!HI46","v":0},{"$f":"'5. Offre de transport'!HJ46","v":0},{"$f":"'5. Offre de transport'!HK46","v":0},{"$f":"'5. Offre de transport'!HL46","v":0},{"$f":"'5. Offre de transport'!HM46","v":0},{"$f":"'5. Offre de transport'!HN46","v":0},{"$f":"'5. Offre de transport'!HO46","v":0},{"$f":"'5. Offre de transport'!HP46","v":0},{"$f":"'5. Offre de transport'!HQ46","v":0},{"$f":"'5. Offre de transport'!HR46","v":0},{"$f":"'5. Offre de transport'!HS46","v":0},{"$f":"'5. Offre de transport'!HT46","v":0},{"$f":"'5. Offre de transport'!HU46","v":0},{"$f":"'5. Offre de transport'!HV46","v":0},{"$f":"'5. Offre de transport'!HW46","v":0},{"$f":"'5. Offre de transport'!HX46","v":0},{"$f":"'5. Offre de transport'!HY46","v":0},{"$f":"'5. Offre de transport'!HZ46","v":0},{"$f":"'5. Offre de transport'!IA46","v":0},{"$f":"'5. Offre de transport'!IB46","v":0},{"$f":"'5. Offre de transport'!IC46","v":0},{"$f":"'5. Offre de transport'!ID46","v":0},{"$f":"'5. Offre de transport'!IE46","v":0},{"$f":"'5. Offre de transport'!IF46","v":0},{"$f":"'5. Offre de transport'!IG46","v":0},{"$f":"'5. Offre de transport'!IH46","v":0},{"$f":"'5. Offre de transport'!II46","v":0},{"$f":"'5. Offre de transport'!IJ46","v":0},{"$f":"'5. Offre de transport'!IK46","v":0},{"$f":"'5. Offre de transport'!IL46","v":0},{"$f":"'5. Offre de transport'!IM46","v":0},{"$f":"'5. Offre de transport'!IN46","v":0},{"$f":"'5. Offre de transport'!IO46","v":0},{"$f":"'5. Offre de transport'!IP46","v":0},{"$f":"'5. Offre de transport'!IQ46","v":0},{"$f":"'5. Offre de transport'!IR46","v":0},{"$f":"'5. Offre de transport'!IS46","v":0},{"$f":"'5. Offre de transport'!IT46","v":0},{"$f":"'5. Offre de transport'!IU46","v":0},{"$f":"'5. Offre de transport'!IV46","v":0},{"$f":"'5. Offre de transport'!IW46","v":0},{"$f":"'5. Offre de transport'!IX46","v":0},{"$f":"'5. Offre de transport'!IY46","v":0},{"$f":"'5. Offre de transport'!IZ46","v":0},{"$f":"'5. Offre de transport'!JA46","v":0},{"$f":"'5. Offre de transport'!JB46","v":0},{"$f":"'5. Offre de transport'!JC46","v":0},{"$f":"'5. Offre de transport'!JD46","v":0},{"$f":"'5. Offre de transport'!JE46","v":0},{"$f":"'5. Offre de transport'!JF46","v":0},{"$f":"'5. Offre de transport'!JG46","v":0},{"$f":"'5. Offre de transport'!JH46","v":0},{"$f":"'5. Offre de transport'!JI46","v":0},{"$f":"'5. Offre de transport'!JJ46","v":0},{"$f":"'5. Offre de transport'!JK46","v":0},{"$f":"'5. Offre de transport'!JL46","v":0},{"$f":"'5. Offre de transport'!JM46","v":0},{"$f":"'5. Offre de transport'!JN46","v":0},{"$f":"'5. Offre de transport'!JO46","v":0},{"$f":"'5. Offre de transport'!JP46","v":0},{"$f":"'5. Offre de transport'!JQ46","v":0},{"$f":"'5. Offre de transport'!JR46","v":0},{"$f":"'5. Offre de transport'!JS46","v":0},{"$f":"'5. Offre de transport'!JT46","v":0},{"$f":"'5. Offre de transport'!JU46","v":0},{"$f":"'5. Offre de transport'!JV46","v":0},{"$f":"'5. Offre de transport'!JW46","v":0},{"$f":"'5. Offre de transport'!JX46","v":0},{"$f":"'5. Offre de transport'!JY46","v":0},{"$f":"'5. Offre de transport'!JZ46","v":0},{"$f":"'5. Offre de transport'!KA46","v":0},{"$f":"'5. Offre de transport'!KB46","v":0},{"$f":"'5. Offre de transport'!KC46","v":0},{"$f":"'5. Offre de transport'!KD46","v":0},{"$f":"'5. Offre de transport'!KE46","v":0},{"$f":"'5. Offre de transport'!KF46","v":0},{"$f":"'5. Offre de transport'!KG46","v":0},{"$f":"'5. Offre de transport'!KH46","v":0},{"$f":"'5. Offre de transport'!KI46","v":0},{"$f":"'5. Offre de transport'!KJ46","v":0},{"$f":"'5. Offre de transport'!KK46","v":0},{"$f":"'5. Offre de transport'!KL46","v":0},{"$f":"'5. Offre de transport'!KM46","v":0},{"$f":"'5. Offre de transport'!KN46","v":0},{"$f":"'5. Offre de transport'!KO46","v":0},{"$f":"'5. Offre de transport'!KP46","v":0},{"$f":"'5. Offre de transport'!KQ46","v":0},{"$f":"'5. Offre de transport'!KR46","v":0},{"$f":"'5. Offre de transport'!KS46","v":0},{"$f":"'5. Offre de transport'!KT46","v":0},{"$f":"'5. Offre de transport'!KU46","v":0},{"$f":"'5. Offre de transport'!KV46","v":0},{"$f":"'5. Offre de transport'!KW46","v":0},{"$f":"'5. Offre de transport'!KX46","v":0},{"$f":"'5. Offre de transport'!KY46","v":0},{"$f":"'5. Offre de transport'!KZ46","v":0},{"$f":"'5. Offre de transport'!LA46","v":0},{"$f":"'5. Offre de transport'!LB46","v":0},{"$f":"'5. Offre de transport'!LC46","v":0},{"$f":"'5. Offre de transport'!LD46","v":0},{"$f":"'5. Offre de transport'!LE46","v":0},{"$f":"'5. Offre de transport'!LF46","v":0},{"$f":"'5. Offre de transport'!LG46","v":0},{"$f":"'5. Offre de transport'!LH46","v":0},{"$f":"'5. Offre de transport'!LI46","v":0},{"$f":"'5. Offre de transport'!LJ46","v":0},{"$f":"'5. Offre de transport'!LK46","v":0},{"$f":"'5. Offre de transport'!LL46","v":0},{"$f":"'5. Offre de transport'!LM46","v":0},{"$f":"'5. Offre de transport'!LN46","v":0},{"$f":"'5. Offre de transport'!LO46","v":0},{"$f":"'5. Offre de transport'!LP46","v":0},{"$f":"'5. Offre de transport'!LQ46","v":0},{"$f":"'5. Offre de transport'!LR46","v":0},{"$f":"'5. Offre de transport'!LS46","v":0},{"$f":"'5. Offre de transport'!LT46","v":0},{"$f":"'5. Offre de transport'!LU46","v":0},{"$f":"'5. Offre de transport'!LV46","v":0},{"$f":"'5. Offre de transport'!LW46","v":0},{"$f":"'5. Offre de transport'!LX46","v":0},{"$f":"'5. Offre de transport'!LY46","v":0},{"$f":"'5. Offre de transport'!LZ46","v":0},{"$f":"'5. Offre de transport'!MA46","v":0},{"$f":"'5. Offre de transport'!MB46","v":0},{"$f":"'5. Offre de transport'!MC46","v":0},{"$f":"'5. Offre de transport'!MD46","v":0},{"$f":"'5. Offre de transport'!ME46","v":0},{"$f":"'5. Offre de transport'!MF46","v":0},{"$f":"'5. Offre de transport'!MG46","v":0},{"$f":"'5. Offre de transport'!MH46","v":0},{"$f":"'5. Offre de transport'!MI46","v":0},{"$f":"'5. Offre de transport'!MJ46","v":0},{"$f":"'5. Offre de transport'!MK46","v":0},{"$f":"'5. Offre de transport'!ML46","v":0},{"$f":"'5. Offre de transport'!MM46","v":0},{"$f":"'5. Offre de transport'!MN46","v":0},{"$f":"'5. Offre de transport'!MO46","v":0},{"$f":"'5. Offre de transport'!MP46","v":0},{"$f":"'5. Offre de transport'!MQ46","v":0},{"$f":"'5. Offre de transport'!MR46","v":0},{"$f":"'5. Offre de transport'!MS46","v":0},{"$f":"'5. Offre de transport'!MT46","v":0},{"$f":"'5. Offre de transport'!MU46","v":0},{"$f":"'5. Offre de transport'!MV46","v":0},{"$f":"'5. Offre de transport'!MW46","v":0},{"$f":"'5. Offre de transport'!MX46","v":0},{"$f":"'5. Offre de transport'!MY46","v":0},{"$f":"'5. Offre de transport'!MZ46","v":0}]
[null,{"$f":"'5. Offre de transport'!B47","v":29},{"$f":"'5. Offre de transport'!C47","v":0},{"$f":"'5. Offre de transport'!D47","v":0},{"$f":"'5. Offre de transport'!E47","v":0},{"$f":"'5. Offre de transport'!F47","v":0},{"$f":"'5. Offre de transport'!G47","v":0},{"$f":"'5. Offre de transport'!H47","v":0},{"$f":"'5. Offre de transport'!I47","v":0},{"$f":"'5. Offre de transport'!J47","v":0},{"$f":"'5. Offre de transport'!K47","v":0},{"$f":"'5. Offre de transport'!L47","v":0},{"$f":"'5. Offre de transport'!M47","v":0},{"$f":"'5. Offre de transport'!N47","v":0},{"$f":"'5. Offre de transport'!O47","v":0},{"$f":"'5. Offre de transport'!P47","v":0},{"$f":"'5. Offre de transport'!Q47","v":0},{"$f":"'5. Offre de transport'!R47","v":0},{"$f":"'5. Offre de transport'!S47","v":0},{"$f":"'5. Offre de transport'!T47","v":0},{"$f":"'5. Offre de transport'!U47","v":0},{"$f":"'5. Offre de transport'!V47","v":0},{"$f":"'5. Offre de transport'!W47","v":0},{"$f":"'5. Offre de transport'!X47","v":0},{"$f":"'5. Offre de transport'!Y47","v":0},{"$f":"'5. Offre de transport'!Z47","v":0},{"$f":"'5. Offre de transport'!AA47","v":0},{"$f":"'5. Offre de transport'!AB47","v":0},{"$f":"'5. Offre de transport'!AC47","v":0},{"$f":"'5. Offre de transport'!AD47","v":0},{"$f":"'5. Offre de transport'!AE47","v":0},{"$f":"'5. Offre de transport'!AF47","v":0},{"$f":"'5. Offre de transport'!AG47","v":0},{"$f":"'5. Offre de transport'!AH47","v":0},{"$f":"'5. Offre de transport'!AI47","v":0},{"$f":"'5. Offre de transport'!AJ47","v":0},{"$f":"'5. Offre de transport'!AK47","v":0},{"$f":"'5. Offre de transport'!AL47","v":0},{"$f":"'5. Offre de transport'!AM47","v":0},{"$f":"'5. Offre de transport'!AN47","v":0},{"$f":"'5. Offre de transport'!AO47","v":0},{"$f":"'5. Offre de transport'!AP47","v":0},{"$f":"'5. Offre de transport'!AQ47","v":0},{"$f":"'5. Offre de transport'!AR47","v":0},{"$f":"'5. Offre de transport'!AS47","v":0},{"$f":"'5. Offre de transport'!AT47","v":0},{"$f":"'5. Offre de transport'!AU47","v":0},{"$f":"'5. Offre de transport'!AV47","v":0},{"$f":"'5. Offre de transport'!AW47","v":0},{"$f":"'5. Offre de transport'!AX47","v":0},{"$f":"'5. Offre de transport'!AY47","v":0},{"$f":"'5. Offre de transport'!AZ47","v":0},{"$f":"'5. Offre de transport'!BA47","v":0},{"$f":"'5. Offre de transport'!BB47","v":0},{"$f":"'5. Offre de transport'!BC47","v":0},{"$f":"'5. Offre de transport'!BD47","v":0},{"$f":"'5. Offre de transport'!BE47","v":0},{"$f":"'5. Offre de transport'!BF47","v":0},{"$f":"'5. Offre de transport'!BG47","v":0},{"$f":"'5. Offre de transport'!BH47","v":0},{"$f":"'5. Offre de transport'!BI47","v":0},{"$f":"'5. Offre de transport'!BJ47","v":0},{"$f":"'5. Offre de transport'!BK47","v":0},{"$f":"'5. Offre de transport'!BL47","v":0},{"$f":"'5. Offre de transport'!BM47","v":0},{"$f":"'5. Offre de transport'!BN47","v":0},{"$f":"'5. Offre de transport'!BO47","v":0},{"$f":"'5. Offre de transport'!BP47","v":0},{"$f":"'5. Offre de transport'!BQ47","v":0},{"$f":"'5. Offre de transport'!BR47","v":0},{"$f":"'5. Offre de transport'!BS47","v":0},{"$f":"'5. Offre de transport'!BT47","v":0},{"$f":"'5. Offre de transport'!BU47","v":0},{"$f":"'5. Offre de transport'!BV47","v":0},{"$f":"'5. Offre de transport'!BW47","v":0},{"$f":"'5. Offre de transport'!BX47","v":0},{"$f":"'5. Offre de transport'!BY47","v":0},{"$f":"'5. Offre de transport'!BZ47","v":0},{"$f":"'5. Offre de transport'!CA47","v":0},{"$f":"'5. Offre de transport'!CB47","v":0},{"$f":"'5. Offre de transport'!CC47","v":0},{"$f":"'5. Offre de transport'!CD47","v":0},{"$f":"'5. Offre de transport'!CE47","v":0},{"$f":"'5. Offre de transport'!CF47","v":0},{"$f":"'5. Offre de transport'!CG47","v":0},{"$f":"'5. Offre de transport'!CH47","v":0},{"$f":"'5. Offre de transport'!CI47","v":0},{"$f":"'5. Offre de transport'!CJ47","v":0},{"$f":"'5. Offre de transport'!CK47","v":0},{"$f":"'5. Offre de transport'!CL47","v":0},{"$f":"'5. Offre de transport'!CM47","v":0},{"$f":"'5. Offre de transport'!CN47","v":0},{"$f":"'5. Offre de transport'!CO47","v":0},{"$f":"'5. Offre de transport'!CP47","v":0},{"$f":"'5. Offre de transport'!CQ47","v":0},{"$f":"'5. Offre de transport'!CR47","v":0},{"$f":"'5. Offre de transport'!CS47","v":0},{"$f":"'5. Offre de transport'!CT47","v":0},{"$f":"'5. Offre de transport'!CU47","v":0},{"$f":"'5. Offre de transport'!CV47","v":0},{"$f":"'5. Offre de transport'!CW47","v":0},{"$f":"'5. Offre de transport'!CX47","v":0},{"$f":"'5. Offre de transport'!CY47","v":0},{"$f":"'5. Offre de transport'!CZ47","v":0},{"$f":"'5. Offre de transport'!DA47","v":0},{"$f":"'5. Offre de transport'!DB47","v":0},{"$f":"'5. Offre de transport'!DC47","v":0},{"$f":"'5. Offre de transport'!DD47","v":0},{"$f":"'5. Offre de transport'!DE47","v":0},{"$f":"'5. Offre de transport'!DF47","v":0},{"$f":"'5. Offre de transport'!DG47","v":0},{"$f":"'5. Offre de transport'!DH47","v":0},{"$f":"'5. Offre de transport'!DI47","v":0},{"$f":"'5. Offre de transport'!DJ47","v":0},{"$f":"'5. Offre de transport'!DK47","v":0},{"$f":"'5. Offre de transport'!DL47","v":0},{"$f":"'5. Offre de transport'!DM47","v":0},{"$f":"'5. Offre de transport'!DN47","v":0},{"$f":"'5. Offre de transport'!DO47","v":0},{"$f":"'5. Offre de transport'!DP47","v":0},{"$f":"'5. Offre de transport'!DQ47","v":0},{"$f":"'5. Offre de transport'!DR47","v":0},{"$f":"'5. Offre de transport'!DS47","v":0},{"$f":"'5. Offre de transport'!DT47","v":0},{"$f":"'5. Offre de transport'!DU47","v":0},{"$f":"'5. Offre de transport'!DV47","v":0},{"$f":"'5. Offre de transport'!DW47","v":0},{"$f":"'5. Offre de transport'!DX47","v":0},{"$f":"'5. Offre de transport'!DY47","v":0},{"$f":"'5. Offre de transport'!DZ47","v":0},{"$f":"'5. Offre de transport'!EA47","v":0},{"$f":"'5. Offre de transport'!EB47","v":0},{"$f":"'5. Offre de transport'!EC47","v":0},{"$f":"'5. Offre de transport'!ED47","v":0},{"$f":"'5. Offre de transport'!EE47","v":0},{"$f":"'5. Offre de transport'!EF47","v":0},{"$f":"'5. Offre de transport'!EG47","v":0},{"$f":"'5. Offre de transport'!EH47","v":0},{"$f":"'5. Offre de transport'!EI47","v":0},{"$f":"'5. Offre de transport'!EJ47","v":0},{"$f":"'5. Offre de transport'!EK47","v":0},{"$f":"'5. Offre de transport'!EL47","v":0},{"$f":"'5. Offre de transport'!EM47","v":0},{"$f":"'5. Offre de transport'!EN47","v":0},{"$f":"'5. Offre de transport'!EO47","v":0},{"$f":"'5. Offre de transport'!EP47","v":0},{"$f":"'5. Offre de transport'!EQ47","v":0},{"$f":"'5. Offre de transport'!ER47","v":0},{"$f":"'5. Offre de transport'!ES47","v":0},{"$f":"'5. Offre de transport'!ET47","v":0},{"$f":"'5. Offre de transport'!EU47","v":0},{"$f":"'5. Offre de transport'!EV47","v":0},{"$f":"'5. Offre de transport'!EW47","v":0},{"$f":"'5. Offre de transport'!EX47","v":0},{"$f":"'5. Offre de transport'!EY47","v":0},{"$f":"'5. Offre de transport'!EZ47","v":0},{"$f":"'5. Offre de transport'!FA47","v":0},{"$f":"'5. Offre de transport'!FB47","v":0},{"$f":"'5. Offre de transport'!FC47","v":0},{"$f":"'5. Offre de transport'!FD47","v":0},{"$f":"'5. Offre de transport'!FE47","v":0},{"$f":"'5. Offre de transport'!FF47","v":0},{"$f":"'5. Offre de transport'!FG47","v":0},{"$f":"'5. Offre de transport'!FH47","v":0},{"$f":"'5. Offre de transport'!FI47","v":0},{"$f":"'5. Offre de transport'!FJ47","v":0},{"$f":"'5. Offre de transport'!FK47","v":0},{"$f":"'5. Offre de transport'!FL47","v":0},{"$f":"'5. Offre de transport'!FM47","v":0},{"$f":"'5. Offre de transport'!FN47","v":0},{"$f":"'5. Offre de transport'!FO47","v":0},{"$f":"'5. Offre de transport'!FP47","v":0},{"$f":"'5. Offre de transport'!FQ47","v":0},{"$f":"'5. Offre de transport'!FR47","v":0},{"$f":"'5. Offre de transport'!FS47","v":0},{"$f":"'5. Offre de transport'!FT47","v":0},{"$f":"'5. Offre de transport'!FU47","v":0},{"$f":"'5. Offre de transport'!FV47","v":0},{"$f":"'5. Offre de transport'!FW47","v":0},{"$f":"'5. Offre de transport'!FX47","v":0},{"$f":"'5. Offre de transport'!FY47","v":0},{"$f":"'5. Offre de transport'!FZ47","v":0},{"$f":"'5. Offre de transport'!GA47","v":0},{"$f":"'5. Offre de transport'!GB47","v":0},{"$f":"'5. Offre de transport'!GC47","v":0},{"$f":"'5. Offre de transport'!GD47","v":0},{"$f":"'5. Offre de transport'!GE47","v":0},{"$f":"'5. Offre de transport'!GF47","v":0},{"$f":"'5. Offre de transport'!GG47","v":0},{"$f":"'5. Offre de transport'!GH47","v":0},{"$f":"'5. Offre de transport'!GI47","v":0},{"$f":"'5. Offre de transport'!GJ47","v":0},{"$f":"'5. Offre de transport'!GK47","v":0},{"$f":"'5. Offre de transport'!GL47","v":0},{"$f":"'5. Offre de transport'!GM47","v":0},{"$f":"'5. Offre de transport'!GN47","v":0},{"$f":"'5. Offre de transport'!GO47","v":0},{"$f":"'5. Offre de transport'!GP47","v":0},{"$f":"'5. Offre de transport'!GQ47","v":0},{"$f":"'5. Offre de transport'!GR47","v":0},{"$f":"'5. Offre de transport'!GS47","v":0},{"$f":"'5. Offre de transport'!GT47","v":0},{"$f":"'5. Offre de transport'!GU47","v":0},{"$f":"'5. Offre de transport'!GV47","v":0},{"$f":"'5. Offre de transport'!GW47","v":0},{"$f":"'5. Offre de transport'!GX47","v":0},{"$f":"'5. Offre de transport'!GY47","v":0},{"$f":"'5. Offre de transport'!GZ47","v":0},{"$f":"'5. Offre de transport'!HA47","v":0},{"$f":"'5. Offre de transport'!HB47","v":0},{"$f":"'5. Offre de transport'!HC47","v":0},{"$f":"'5. Offre de transport'!HD47","v":0},{"$f":"'5. Offre de transport'!HE47","v":0},{"$f":"'5. Offre de transport'!HF47","v":0},{"$f":"'5. Offre de transport'!HG47","v":0},{"$f":"'5. Offre de transport'!HH47","v":0},{"$f":"'5. Offre de transport'!HI47","v":0},{"$f":"'5. Offre de transport'!HJ47","v":0},{"$f":"'5. Offre de transport'!HK47","v":0},{"$f":"'5. Offre de transport'!HL47","v":0},{"$f":"'5. Offre de transport'!HM47","v":0},{"$f":"'5. Offre de transport'!HN47","v":0},{"$f":"'5. Offre de transport'!HO47","v":0},{"$f":"'5. Offre de transport'!HP47","v":0},{"$f":"'5. Offre de transport'!HQ47","v":0},{"$f":"'5. Offre de transport'!HR47","v":0},{"$f":"'5. Offre de transport'!HS47","v":0},{"$f":"'5. Offre de transport'!HT47","v":0},{"$f":"'5. Offre de transport'!HU47","v":0},{"$f":"'5. Offre de transport'!HV47","v":0},{"$f":"'5. Offre de transport'!HW47","v":0},{"$f":"'5. Offre de transport'!HX47","v":0},{"$f":"'5. Offre de transport'!HY47","v":0},{"$f":"'5. Offre de transport'!HZ47","v":0},{"$f":"'5. Offre de transport'!IA47","v":0},{"$f":"'5. Offre de transport'!IB47","v":0},{"$f":"'5. Offre de transport'!IC47","v":0},{"$f":"'5. Offre de transport'!ID47","v":0},{"$f":"'5. Offre de transport'!IE47","v":0},{"$f":"'5. Offre de transport'!IF47","v":0},{"$f":"'5. Offre de transport'!IG47","v":0},{"$f":"'5. Offre de transport'!IH47","v":0},{"$f":"'5. Offre de transport'!II47","v":0},{"$f":"'5. Offre de transport'!IJ47","v":0},{"$f":"'5. Offre de transport'!IK47","v":0},{"$f":"'5. Offre de transport'!IL47","v":0},{"$f":"'5. Offre de transport'!IM47","v":0},{"$f":"'5. Offre de transport'!IN47","v":0},{"$f":"'5. Offre de transport'!IO47","v":0},{"$f":"'5. Offre de transport'!IP47","v":0},{"$f":"'5. Offre de transport'!IQ47","v":0},{"$f":"'5. Offre de transport'!IR47","v":0},{"$f":"'5. Offre de transport'!IS47","v":0},{"$f":"'5. Offre de transport'!IT47","v":0},{"$f":"'5. Offre de transport'!IU47","v":0},{"$f":"'5. Offre de transport'!IV47","v":0},{"$f":"'5. Offre de transport'!IW47","v":0},{"$f":"'5. Offre de transport'!IX47","v":0},{"$f":"'5. Offre de transport'!IY47","v":0},{"$f":"'5. Offre de transport'!IZ47","v":0},{"$f":"'5. Offre de transport'!JA47","v":0},{"$f":"'5. Offre de transport'!JB47","v":0},{"$f":"'5. Offre de transport'!JC47","v":0},{"$f":"'5. Offre de transport'!JD47","v":0},{"$f":"'5. Offre de transport'!JE47","v":0},{"$f":"'5. Offre de transport'!JF47","v":0},{"$f":"'5. Offre de transport'!JG47","v":0},{"$f":"'5. Offre de transport'!JH47","v":0},{"$f":"'5. Offre de transport'!JI47","v":0},{"$f":"'5. Offre de transport'!JJ47","v":0},{"$f":"'5. Offre de transport'!JK47","v":0},{"$f":"'5. Offre de transport'!JL47","v":0},{"$f":"'5. Offre de transport'!JM47","v":0},{"$f":"'5. Offre de transport'!JN47","v":0},{"$f":"'5. Offre de transport'!JO47","v":0},{"$f":"'5. Offre de transport'!JP47","v":0},{"$f":"'5. Offre de transport'!JQ47","v":0},{"$f":"'5. Offre de transport'!JR47","v":0},{"$f":"'5. Offre de transport'!JS47","v":0},{"$f":"'5. Offre de transport'!JT47","v":0},{"$f":"'5. Offre de transport'!JU47","v":0},{"$f":"'5. Offre de transport'!JV47","v":0},{"$f":"'5. Offre de transport'!JW47","v":0},{"$f":"'5. Offre de transport'!JX47","v":0},{"$f":"'5. Offre de transport'!JY47","v":0},{"$f":"'5. Offre de transport'!JZ47","v":0},{"$f":"'5. Offre de transport'!KA47","v":0},{"$f":"'5. Offre de transport'!KB47","v":0},{"$f":"'5. Offre de transport'!KC47","v":0},{"$f":"'5. Offre de transport'!KD47","v":0},{"$f":"'5. Offre de transport'!KE47","v":0},{"$f":"'5. Offre de transport'!KF47","v":0},{"$f":"'5. Offre de transport'!KG47","v":0},{"$f":"'5. Offre de transport'!KH47","v":0},{"$f":"'5. Offre de transport'!KI47","v":0},{"$f":"'5. Offre de transport'!KJ47","v":0},{"$f":"'5. Offre de transport'!KK47","v":0},{"$f":"'5. Offre de transport'!KL47","v":0},{"$f":"'5. Offre de transport'!KM47","v":0},{"$f":"'5. Offre de transport'!KN47","v":0},{"$f":"'5. Offre de transport'!KO47","v":0},{"$f":"'5. Offre de transport'!KP47","v":0},{"$f":"'5. Offre de transport'!KQ47","v":0},{"$f":"'5. Offre de transport'!KR47","v":0},{"$f":"'5. Offre de transport'!KS47","v":0},{"$f":"'5. Offre de transport'!KT47","v":0},{"$f":"'5. Offre de transport'!KU47","v":0},{"$f":"'5. Offre de transport'!KV47","v":0},{"$f":"'5. Offre de transport'!KW47","v":0},{"$f":"'5. Offre de transport'!KX47","v":0},{"$f":"'5. Offre de transport'!KY47","v":0},{"$f":"'5. Offre de transport'!KZ47","v":0},{"$f":"'5. Offre de transport'!LA47","v":0},{"$f":"'5. Offre de transport'!LB47","v":0},{"$f":"'5. Offre de transport'!LC47","v":0},{"$f":"'5. Offre de transport'!LD47","v":0},{"$f":"'5. Offre de transport'!LE47","v":0},{"$f":"'5. Offre de transport'!LF47","v":0},{"$f":"'5. Offre de transport'!LG47","v":0},{"$f":"'5. Offre de transport'!LH47","v":0},{"$f":"'5. Offre de transport'!LI47","v":0},{"$f":"'5. Offre de transport'!LJ47","v":0},{"$f":"'5. Offre de transport'!LK47","v":0},{"$f":"'5. Offre de transport'!LL47","v":0},{"$f":"'5. Offre de transport'!LM47","v":0},{"$f":"'5. Offre de transport'!LN47","v":0},{"$f":"'5. Offre de transport'!LO47","v":0},{"$f":"'5. Offre de transport'!LP47","v":0},{"$f":"'5. Offre de transport'!LQ47","v":0},{"$f":"'5. Offre de transport'!LR47","v":0},{"$f":"'5. Offre de transport'!LS47","v":0},{"$f":"'5. Offre de transport'!LT47","v":0},{"$f":"'5. Offre de transport'!LU47","v":0},{"$f":"'5. Offre de transport'!LV47","v":0},{"$f":"'5. Offre de transport'!LW47","v":0},{"$f":"'5. Offre de transport'!LX47","v":0},{"$f":"'5. Offre de transport'!LY47","v":0},{"$f":"'5. Offre de transport'!LZ47","v":0},{"$f":"'5. Offre de transport'!MA47","v":0},{"$f":"'5. Offre de transport'!MB47","v":0},{"$f":"'5. Offre de transport'!MC47","v":0},{"$f":"'5. Offre de transport'!MD47","v":0},{"$f":"'5. Offre de transport'!ME47","v":0},{"$f":"'5. Offre de transport'!MF47","v":0},{"$f":"'5. Offre de transport'!MG47","v":0},{"$f":"'5. Offre de transport'!MH47","v":0},{"$f":"'5. Offre de transport'!MI47","v":0},{"$f":"'5. Offre de transport'!MJ47","v":0},{"$f":"'5. Offre de transport'!MK47","v":0},{"$f":"'5. Offre de transport'!ML47","v":0},{"$f":"'5. Offre de transport'!MM47","v":0},{"$f":"'5. Offre de transport'!MN47","v":0},{"$f":"'5. Offre de transport'!MO47","v":0},{"$f":"'5. Offre de transport'!MP47","v":0},{"$f":"'5. Offre de transport'!MQ47","v":0},{"$f":"'5. Offre de transport'!MR47","v":0},{"$f":"'5. Offre de transport'!MS47","v":0},{"$f":"'5. Offre de transport'!MT47","v":0},{"$f":"'5. Offre de transport'!MU47","v":0},{"$f":"'5. Offre de transport'!MV47","v":0},{"$f":"'5. Offre de transport'!MW47","v":0},{"$f":"'5. Offre de transport'!MX47","v":0},{"$f":"'5. Offre de transport'!MY47","v":0},{"$f":"'5. Offre de transport'!MZ47","v":0}]
[null,{"$f":"'5. Offre de transport'!B48","v":30},{"$f":"'5. Offre de transport'!C48","v":0},{"$f":"'5. Offre de transport'!D48","v":0},{"$f":"'5. Offre de transport'!E48","v":0},{"$f":"'5. Offre de transport'!F48","v":0},{"$f":"'5. Offre de transport'!G48","v":0},{"$f":"'5. Offre de transport'!H48","v":0},{"$f":"'5. Offre de transport'!I48","v":0},{"$f":"'5. Offre de transport'!J48","v":0},{"$f":"'5. Offre de transport'!K48","v":0},{"$f":"'5. Offre de transport'!L48","v":0},{"$f":"'5. Offre de transport'!M48","v":0},{"$f":"'5. Offre de transport'!N48","v":0},{"$f":"'5. Offre de transport'!O48","v":0},{"$f":"'5. Offre de transport'!P48","v":0},{"$f":"'5. Offre de transport'!Q48","v":0},{"$f":"'5. Offre de transport'!R48","v":0},{"$f":"'5. Offre de transport'!S48","v":0},{"$f":"'5. Offre de transport'!T48","v":0},{"$f":"'5. Offre de transport'!U48","v":0},{"$f":"'5. Offre de transport'!V48","v":0},{"$f":"'5. Offre de transport'!W48","v":0},{"$f":"'5. Offre de transport'!X48","v":0},{"$f":"'5. Offre de transport'!Y48","v":0},{"$f":"'5. Offre de transport'!Z48","v":0},{"$f":"'5. Offre de transport'!AA48","v":0},{"$f":"'5. Offre de transport'!AB48","v":0},{"$f":"'5. Offre de transport'!AC48","v":0},{"$f":"'5. Offre de transport'!AD48","v":0},{"$f":"'5. Offre de transport'!AE48","v":0},{"$f":"'5. Offre de transport'!AF48","v":0},{"$f":"'5. Offre de transport'!AG48","v":0},{"$f":"'5. Offre de transport'!AH48","v":0},{"$f":"'5. Offre de transport'!AI48","v":0},{"$f":"'5. Offre de transport'!AJ48","v":0},{"$f":"'5. Offre de transport'!AK48","v":0},{"$f":"'5. Offre de transport'!AL48","v":0},{"$f":"'5. Offre de transport'!AM48","v":0},{"$f":"'5. Offre de transport'!AN48","v":0},{"$f":"'5. Offre de transport'!AO48","v":0},{"$f":"'5. Offre de transport'!AP48","v":0},{"$f":"'5. Offre de transport'!AQ48","v":0},{"$f":"'5. Offre de transport'!AR48","v":0},{"$f":"'5. Offre de transport'!AS48","v":0},{"$f":"'5. Offre de transport'!AT48","v":0},{"$f":"'5. Offre de transport'!AU48","v":0},{"$f":"'5. Offre de transport'!AV48","v":0},{"$f":"'5. Offre de transport'!AW48","v":0},{"$f":"'5. Offre de transport'!AX48","v":0},{"$f":"'5. Offre de transport'!AY48","v":0},{"$f":"'5. Offre de transport'!AZ48","v":0},{"$f":"'5. Offre de transport'!BA48","v":0},{"$f":"'5. Offre de transport'!BB48","v":0},{"$f":"'5. Offre de transport'!BC48","v":0},{"$f":"'5. Offre de transport'!BD48","v":0},{"$f":"'5. Offre de transport'!BE48","v":0},{"$f":"'5. Offre de transport'!BF48","v":0},{"$f":"'5. Offre de transport'!BG48","v":0},{"$f":"'5. Offre de transport'!BH48","v":0},{"$f":"'5. Offre de transport'!BI48","v":0},{"$f":"'5. Offre de transport'!BJ48","v":0},{"$f":"'5. Offre de transport'!BK48","v":0},{"$f":"'5. Offre de transport'!BL48","v":0},{"$f":"'5. Offre de transport'!BM48","v":0},{"$f":"'5. Offre de transport'!BN48","v":0},{"$f":"'5. Offre de transport'!BO48","v":0},{"$f":"'5. Offre de transport'!BP48","v":0},{"$f":"'5. Offre de transport'!BQ48","v":0},{"$f":"'5. Offre de transport'!BR48","v":0},{"$f":"'5. Offre de transport'!BS48","v":0},{"$f":"'5. Offre de transport'!BT48","v":0},{"$f":"'5. Offre de transport'!BU48","v":0},{"$f":"'5. Offre de transport'!BV48","v":0},{"$f":"'5. Offre de transport'!BW48","v":0},{"$f":"'5. Offre de transport'!BX48","v":0},{"$f":"'5. Offre de transport'!BY48","v":0},{"$f":"'5. Offre de transport'!BZ48","v":0},{"$f":"'5. Offre de transport'!CA48","v":0},{"$f":"'5. Offre de transport'!CB48","v":0},{"$f":"'5. Offre de transport'!CC48","v":0},{"$f":"'5. Offre de transport'!CD48","v":0},{"$f":"'5. Offre de transport'!CE48","v":0},{"$f":"'5. Offre de transport'!CF48","v":0},{"$f":"'5. Offre de transport'!CG48","v":0},{"$f":"'5. Offre de transport'!CH48","v":0},{"$f":"'5. Offre de transport'!CI48","v":0},{"$f":"'5. Offre de transport'!CJ48","v":0},{"$f":"'5. Offre de transport'!CK48","v":0},{"$f":"'5. Offre de transport'!CL48","v":0},{"$f":"'5. Offre de transport'!CM48","v":0},{"$f":"'5. Offre de transport'!CN48","v":0},{"$f":"'5. Offre de transport'!CO48","v":0},{"$f":"'5. Offre de transport'!CP48","v":0},{"$f":"'5. Offre de transport'!CQ48","v":0},{"$f":"'5. Offre de transport'!CR48","v":0},{"$f":"'5. Offre de transport'!CS48","v":0},{"$f":"'5. Offre de transport'!CT48","v":0},{"$f":"'5. Offre de transport'!CU48","v":0},{"$f":"'5. Offre de transport'!CV48","v":0},{"$f":"'5. Offre de transport'!CW48","v":0},{"$f":"'5. Offre de transport'!CX48","v":0},{"$f":"'5. Offre de transport'!CY48","v":0},{"$f":"'5. Offre de transport'!CZ48","v":0},{"$f":"'5. Offre de transport'!DA48","v":0},{"$f":"'5. Offre de transport'!DB48","v":0},{"$f":"'5. Offre de transport'!DC48","v":0},{"$f":"'5. Offre de transport'!DD48","v":0},{"$f":"'5. Offre de transport'!DE48","v":0},{"$f":"'5. Offre de transport'!DF48","v":0},{"$f":"'5. Offre de transport'!DG48","v":0},{"$f":"'5. Offre de transport'!DH48","v":0},{"$f":"'5. Offre de transport'!DI48","v":0},{"$f":"'5. Offre de transport'!DJ48","v":0},{"$f":"'5. Offre de transport'!DK48","v":0},{"$f":"'5. Offre de transport'!DL48","v":0},{"$f":"'5. Offre de transport'!DM48","v":0},{"$f":"'5. Offre de transport'!DN48","v":0},{"$f":"'5. Offre de transport'!DO48","v":0},{"$f":"'5. Offre de transport'!DP48","v":0},{"$f":"'5. Offre de transport'!DQ48","v":0},{"$f":"'5. Offre de transport'!DR48","v":0},{"$f":"'5. Offre de transport'!DS48","v":0},{"$f":"'5. Offre de transport'!DT48","v":0},{"$f":"'5. Offre de transport'!DU48","v":0},{"$f":"'5. Offre de transport'!DV48","v":0},{"$f":"'5. Offre de transport'!DW48","v":0},{"$f":"'5. Offre de transport'!DX48","v":0},{"$f":"'5. Offre de transport'!DY48","v":0},{"$f":"'5. Offre de transport'!DZ48","v":0},{"$f":"'5. Offre de transport'!EA48","v":0},{"$f":"'5. Offre de transport'!EB48","v":0},{"$f":"'5. Offre de transport'!EC48","v":0},{"$f":"'5. Offre de transport'!ED48","v":0},{"$f":"'5. Offre de transport'!EE48","v":0},{"$f":"'5. Offre de transport'!EF48","v":0},{"$f":"'5. Offre de transport'!EG48","v":0},{"$f":"'5. Offre de transport'!EH48","v":0},{"$f":"'5. Offre de transport'!EI48","v":0},{"$f":"'5. Offre de transport'!EJ48","v":0},{"$f":"'5. Offre de transport'!EK48","v":0},{"$f":"'5. Offre de transport'!EL48","v":0},{"$f":"'5. Offre de transport'!EM48","v":0},{"$f":"'5. Offre de transport'!EN48","v":0},{"$f":"'5. Offre de transport'!EO48","v":0},{"$f":"'5. Offre de transport'!EP48","v":0},{"$f":"'5. Offre de transport'!EQ48","v":0},{"$f":"'5. Offre de transport'!ER48","v":0},{"$f":"'5. Offre de transport'!ES48","v":0},{"$f":"'5. Offre de transport'!ET48","v":0},{"$f":"'5. Offre de transport'!EU48","v":0},{"$f":"'5. Offre de transport'!EV48","v":0},{"$f":"'5. Offre de transport'!EW48","v":0},{"$f":"'5. Offre de transport'!EX48","v":0},{"$f":"'5. Offre de transport'!EY48","v":0},{"$f":"'5. Offre de transport'!EZ48","v":0},{"$f":"'5. Offre de transport'!FA48","v":0},{"$f":"'5. Offre de transport'!FB48","v":0},{"$f":"'5. Offre de transport'!FC48","v":0},{"$f":"'5. Offre de transport'!FD48","v":0},{"$f":"'5. Offre de transport'!FE48","v":0},{"$f":"'5. Offre de transport'!FF48","v":0},{"$f":"'5. Offre de transport'!FG48","v":0},{"$f":"'5. Offre de transport'!FH48","v":0},{"$f":"'5. Offre de transport'!FI48","v":0},{"$f":"'5. Offre de transport'!FJ48","v":0},{"$f":"'5. Offre de transport'!FK48","v":0},{"$f":"'5. Offre de transport'!FL48","v":0},{"$f":"'5. Offre de transport'!FM48","v":0},{"$f":"'5. Offre de transport'!FN48","v":0},{"$f":"'5. Offre de transport'!FO48","v":0},{"$f":"'5. Offre de transport'!FP48","v":0},{"$f":"'5. Offre de transport'!FQ48","v":0},{"$f":"'5. Offre de transport'!FR48","v":0},{"$f":"'5. Offre de transport'!FS48","v":0},{"$f":"'5. Offre de transport'!FT48","v":0},{"$f":"'5. Offre de transport'!FU48","v":0},{"$f":"'5. Offre de transport'!FV48","v":0},{"$f":"'5. Offre de transport'!FW48","v":0},{"$f":"'5. Offre de transport'!FX48","v":0},{"$f":"'5. Offre de transport'!FY48","v":0},{"$f":"'5. Offre de transport'!FZ48","v":0},{"$f":"'5. Offre de transport'!GA48","v":0},{"$f":"'5. Offre de transport'!GB48","v":0},{"$f":"'5. Offre de transport'!GC48","v":0},{"$f":"'5. Offre de transport'!GD48","v":0},{"$f":"'5. Offre de transport'!GE48","v":0},{"$f":"'5. Offre de transport'!GF48","v":0},{"$f":"'5. Offre de transport'!GG48","v":0},{"$f":"'5. Offre de transport'!GH48","v":0},{"$f":"'5. Offre de transport'!GI48","v":0},{"$f":"'5. Offre de transport'!GJ48","v":0},{"$f":"'5. Offre de transport'!GK48","v":0},{"$f":"'5. Offre de transport'!GL48","v":0},{"$f":"'5. Offre de transport'!GM48","v":0},{"$f":"'5. Offre de transport'!GN48","v":0},{"$f":"'5. Offre de transport'!GO48","v":0},{"$f":"'5. Offre de transport'!GP48","v":0},{"$f":"'5. Offre de transport'!GQ48","v":0},{"$f":"'5. Offre de transport'!GR48","v":0},{"$f":"'5. Offre de transport'!GS48","v":0},{"$f":"'5. Offre de transport'!GT48","v":0},{"$f":"'5. Offre de transport'!GU48","v":0},{"$f":"'5. Offre de transport'!GV48","v":0},{"$f":"'5. Offre de transport'!GW48","v":0},{"$f":"'5. Offre de transport'!GX48","v":0},{"$f":"'5. Offre de transport'!GY48","v":0},{"$f":"'5. Offre de transport'!GZ48","v":0},{"$f":"'5. Offre de transport'!HA48","v":0},{"$f":"'5. Offre de transport'!HB48","v":0},{"$f":"'5. Offre de transport'!HC48","v":0},{"$f":"'5. Offre de transport'!HD48","v":0},{"$f":"'5. Offre de transport'!HE48","v":0},{"$f":"'5. Offre de transport'!HF48","v":0},{"$f":"'5. Offre de transport'!HG48","v":0},{"$f":"'5. Offre de transport'!HH48","v":0},{"$f":"'5. Offre de transport'!HI48","v":0},{"$f":"'5. Offre de transport'!HJ48","v":0},{"$f":"'5. Offre de transport'!HK48","v":0},{"$f":"'5. Offre de transport'!HL48","v":0},{"$f":"'5. Offre de transport'!HM48","v":0},{"$f":"'5. Offre de transport'!HN48","v":0},{"$f":"'5. Offre de transport'!HO48","v":0},{"$f":"'5. Offre de transport'!HP48","v":0},{"$f":"'5. Offre de transport'!HQ48","v":0},{"$f":"'5. Offre de transport'!HR48","v":0},{"$f":"'5. Offre de transport'!HS48","v":0},{"$f":"'5. Offre de transport'!HT48","v":0},{"$f":"'5. Offre de transport'!HU48","v":0},{"$f":"'5. Offre de transport'!HV48","v":0},{"$f":"'5. Offre de transport'!HW48","v":0},{"$f":"'5. Offre de transport'!HX48","v":0},{"$f":"'5. Offre de transport'!HY48","v":0},{"$f":"'5. Offre de transport'!HZ48","v":0},{"$f":"'5. Offre de transport'!IA48","v":0},{"$f":"'5. Offre de transport'!IB48","v":0},{"$f":"'5. Offre de transport'!IC48","v":0},{"$f":"'5. Offre de transport'!ID48","v":0},{"$f":"'5. Offre de transport'!IE48","v":0},{"$f":"'5. Offre de transport'!IF48","v":0},{"$f":"'5. Offre de transport'!IG48","v":0},{"$f":"'5. Offre de transport'!IH48","v":0},{"$f":"'5. Offre de transport'!II48","v":0},{"$f":"'5. Offre de transport'!IJ48","v":0},{"$f":"'5. Offre de transport'!IK48","v":0},{"$f":"'5. Offre de transport'!IL48","v":0},{"$f":"'5. Offre de transport'!IM48","v":0},{"$f":"'5. Offre de transport'!IN48","v":0},{"$f":"'5. Offre de transport'!IO48","v":0},{"$f":"'5. Offre de transport'!IP48","v":0},{"$f":"'5. Offre de transport'!IQ48","v":0},{"$f":"'5. Offre de transport'!IR48","v":0},{"$f":"'5. Offre de transport'!IS48","v":0},{"$f":"'5. Offre de transport'!IT48","v":0},{"$f":"'5. Offre de transport'!IU48","v":0},{"$f":"'5. Offre de transport'!IV48","v":0},{"$f":"'5. Offre de transport'!IW48","v":0},{"$f":"'5. Offre de transport'!IX48","v":0},{"$f":"'5. Offre de transport'!IY48","v":0},{"$f":"'5. Offre de transport'!IZ48","v":0},{"$f":"'5. Offre de transport'!JA48","v":0},{"$f":"'5. Offre de transport'!JB48","v":0},{"$f":"'5. Offre de transport'!JC48","v":0},{"$f":"'5. Offre de transport'!JD48","v":0},{"$f":"'5. Offre de transport'!JE48","v":0},{"$f":"'5. Offre de transport'!JF48","v":0},{"$f":"'5. Offre de transport'!JG48","v":0},{"$f":"'5. Offre de transport'!JH48","v":0},{"$f":"'5. Offre de transport'!JI48","v":0},{"$f":"'5. Offre de transport'!JJ48","v":0},{"$f":"'5. Offre de transport'!JK48","v":0},{"$f":"'5. Offre de transport'!JL48","v":0},{"$f":"'5. Offre de transport'!JM48","v":0},{"$f":"'5. Offre de transport'!JN48","v":0},{"$f":"'5. Offre de transport'!JO48","v":0},{"$f":"'5. Offre de transport'!JP48","v":0},{"$f":"'5. Offre de transport'!JQ48","v":0},{"$f":"'5. Offre de transport'!JR48","v":0},{"$f":"'5. Offre de transport'!JS48","v":0},{"$f":"'5. Offre de transport'!JT48","v":0},{"$f":"'5. Offre de transport'!JU48","v":0},{"$f":"'5. Offre de transport'!JV48","v":0},{"$f":"'5. Offre de transport'!JW48","v":0},{"$f":"'5. Offre de transport'!JX48","v":0},{"$f":"'5. Offre de transport'!JY48","v":0},{"$f":"'5. Offre de transport'!JZ48","v":0},{"$f":"'5. Offre de transport'!KA48","v":0},{"$f":"'5. Offre de transport'!KB48","v":0},{"$f":"'5. Offre de transport'!KC48","v":0},{"$f":"'5. Offre de transport'!KD48","v":0},{"$f":"'5. Offre de transport'!KE48","v":0},{"$f":"'5. Offre de transport'!KF48","v":0},{"$f":"'5. Offre de transport'!KG48","v":0},{"$f":"'5. Offre de transport'!KH48","v":0},{"$f":"'5. Offre de transport'!KI48","v":0},{"$f":"'5. Offre de transport'!KJ48","v":0},{"$f":"'5. Offre de transport'!KK48","v":0},{"$f":"'5. Offre de transport'!KL48","v":0},{"$f":"'5. Offre de transport'!KM48","v":0},{"$f":"'5. Offre de transport'!KN48","v":0},{"$f":"'5. Offre de transport'!KO48","v":0},{"$f":"'5. Offre de transport'!KP48","v":0},{"$f":"'5. Offre de transport'!KQ48","v":0},{"$f":"'5. Offre de transport'!KR48","v":0},{"$f":"'5. Offre de transport'!KS48","v":0},{"$f":"'5. Offre de transport'!KT48","v":0},{"$f":"'5. Offre de transport'!KU48","v":0},{"$f":"'5. Offre de transport'!KV48","v":0},{"$f":"'5. Offre de transport'!KW48","v":0},{"$f":"'5. Offre de transport'!KX48","v":0},{"$f":"'5. Offre de transport'!KY48","v":0},{"$f":"'5. Offre de transport'!KZ48","v":0},{"$f":"'5. Offre de transport'!LA48","v":0},{"$f":"'5. Offre de transport'!LB48","v":0},{"$f":"'5. Offre de transport'!LC48","v":0},{"$f":"'5. Offre de transport'!LD48","v":0},{"$f":"'5. Offre de transport'!LE48","v":0},{"$f":"'5. Offre de transport'!LF48","v":0},{"$f":"'5. Offre de transport'!LG48","v":0},{"$f":"'5. Offre de transport'!LH48","v":0},{"$f":"'5. Offre de transport'!LI48","v":0},{"$f":"'5. Offre de transport'!LJ48","v":0},{"$f":"'5. Offre de transport'!LK48","v":0},{"$f":"'5. Offre de transport'!LL48","v":0},{"$f":"'5. Offre de transport'!LM48","v":0},{"$f":"'5. Offre de transport'!LN48","v":0},{"$f":"'5. Offre de transport'!LO48","v":0},{"$f":"'5. Offre de transport'!LP48","v":0},{"$f":"'5. Offre de transport'!LQ48","v":0},{"$f":"'5. Offre de transport'!LR48","v":0},{"$f":"'5. Offre de transport'!LS48","v":0},{"$f":"'5. Offre de transport'!LT48","v":0},{"$f":"'5. Offre de transport'!LU48","v":0},{"$f":"'5. Offre de transport'!LV48","v":0},{"$f":"'5. Offre de transport'!LW48","v":0},{"$f":"'5. Offre de transport'!LX48","v":0},{"$f":"'5. Offre de transport'!LY48","v":0},{"$f":"'5. Offre de transport'!LZ48","v":0},{"$f":"'5. Offre de transport'!MA48","v":0},{"$f":"'5. Offre de transport'!MB48","v":0},{"$f":"'5. Offre de transport'!MC48","v":0},{"$f":"'5. Offre de transport'!MD48","v":0},{"$f":"'5. Offre de transport'!ME48","v":0},{"$f":"'5. Offre de transport'!MF48","v":0},{"$f":"'5. Offre de transport'!MG48","v":0},{"$f":"'5. Offre de transport'!MH48","v":0},{"$f":"'5. Offre de transport'!MI48","v":0},{"$f":"'5. Offre de transport'!MJ48","v":0},{"$f":"'5. Offre de transport'!MK48","v":0},{"$f":"'5. Offre de transport'!ML48","v":0},{"$f":"'5. Offre de transport'!MM48","v":0},{"$f":"'5. Offre de transport'!MN48","v":0},{"$f":"'5. Offre de transport'!MO48","v":0},{"$f":"'5. Offre de transport'!MP48","v":0},{"$f":"'5. Offre de transport'!MQ48","v":0},{"$f":"'5. Offre de transport'!MR48","v":0},{"$f":"'5. Offre de transport'!MS48","v":0},{"$f":"'5. Offre de transport'!MT48","v":0},{"$f":"'5. Offre de transport'!MU48","v":0},{"$f":"'5. Offre de transport'!MV48","v":0},{"$f":"'5. Offre de transport'!MW48","v":0},{"$f":"'5. Offre de transport'!MX48","v":0},{"$f":"'5. Offre de transport'!MY48","v":0},{"$f":"'5. Offre de transport'!MZ48","v":0}]
[null,{"$f":"'5. Offre de transport'!B49","v":"…"},{"$f":"'5. Offre de transport'!C49","v":"…"},{"$f":"'5. Offre de transport'!D49","v":"…"},{"$f":"'5. Offre de transport'!E49","v":"…"},{"$f":"'5. Offre de transport'!F49","v":"…"},{"$f":"'5. Offre de transport'!G49","v":0},{"$f":"'5. Offre de transport'!H49","v":0},{"$f":"'5. Offre de transport'!I49","v":0},{"$f":"'5. Offre de transport'!J49","v":0},{"$f":"'5. Offre de transport'!K49","v":0},{"$f":"'5. Offre de transport'!L49","v":0},{"$f":"'5. Offre de transport'!M49","v":0},{"$f":"'5. Offre de transport'!N49","v":0},{"$f":"'5. Offre de transport'!O49","v":0},{"$f":"'5. Offre de transport'!P49","v":0},{"$f":"'5. Offre de transport'!Q49","v":0},{"$f":"'5. Offre de transport'!R49","v":0},{"$f":"'5. Offre de transport'!S49","v":0},{"$f":"'5. Offre de transport'!T49","v":0},{"$f":"'5. Offre de transport'!U49","v":0},{"$f":"'5. Offre de transport'!V49","v":0},{"$f":"'5. Offre de transport'!W49","v":0},{"$f":"'5. Offre de transport'!X49","v":0},{"$f":"'5. Offre de transport'!Y49","v":0},{"$f":"'5. Offre de transport'!Z49","v":0},{"$f":"'5. Offre de transport'!AA49","v":0},{"$f":"'5. Offre de transport'!AB49","v":0},{"$f":"'5. Offre de transport'!AC49","v":0},{"$f":"'5. Offre de transport'!AD49","v":0},{"$f":"'5. Offre de transport'!AE49","v":0},{"$f":"'5. Offre de transport'!AF49","v":0},{"$f":"'5. Offre de transport'!AG49","v":0},{"$f":"'5. Offre de transport'!AH49","v":0},{"$f":"'5. Offre de transport'!AI49","v":0},{"$f":"'5. Offre de transport'!AJ49","v":0},{"$f":"'5. Offre de transport'!AK49","v":0},{"$f":"'5. Offre de transport'!AL49","v":0},{"$f":"'5. Offre de transport'!AM49","v":0},{"$f":"'5. Offre de transport'!AN49","v":0},{"$f":"'5. Offre de transport'!AO49","v":0},{"$f":"'5. Offre de transport'!AP49","v":0},{"$f":"'5. Offre de transport'!AQ49","v":0},{"$f":"'5. Offre de transport'!AR49","v":0},{"$f":"'5. Offre de transport'!AS49","v":0},{"$f":"'5. Offre de transport'!AT49","v":0},{"$f":"'5. Offre de transport'!AU49","v":0},{"$f":"'5. Offre de transport'!AV49","v":0},{"$f":"'5. Offre de transport'!AW49","v":0},{"$f":"'5. Offre de transport'!AX49","v":0},{"$f":"'5. Offre de transport'!AY49","v":0},{"$f":"'5. Offre de transport'!AZ49","v":0},{"$f":"'5. Offre de transport'!BA49","v":0},{"$f":"'5. Offre de transport'!BB49","v":0},{"$f":"'5. Offre de transport'!BC49","v":0},{"$f":"'5. Offre de transport'!BD49","v":0},{"$f":"'5. Offre de transport'!BE49","v":0},{"$f":"'5. Offre de transport'!BF49","v":0},{"$f":"'5. Offre de transport'!BG49","v":0},{"$f":"'5. Offre de transport'!BH49","v":0},{"$f":"'5. Offre de transport'!BI49","v":0},{"$f":"'5. Offre de transport'!BJ49","v":0},{"$f":"'5. Offre de transport'!BK49","v":0},{"$f":"'5. Offre de transport'!BL49","v":0},{"$f":"'5. Offre de transport'!BM49","v":0},{"$f":"'5. Offre de transport'!BN49","v":0},{"$f":"'5. Offre de transport'!BO49","v":0},{"$f":"'5. Offre de transport'!BP49","v":0},{"$f":"'5. Offre de transport'!BQ49","v":0},{"$f":"'5. Offre de transport'!BR49","v":0},{"$f":"'5. Offre de transport'!BS49","v":0},{"$f":"'5. Offre de transport'!BT49","v":0},{"$f":"'5. Offre de transport'!BU49","v":0},{"$f":"'5. Offre de transport'!BV49","v":0},{"$f":"'5. Offre de transport'!BW49","v":0},{"$f":"'5. Offre de transport'!BX49","v":0},{"$f":"'5. Offre de transport'!BY49","v":0},{"$f":"'5. Offre de transport'!BZ49","v":0},{"$f":"'5. Offre de transport'!CA49","v":0},{"$f":"'5. Offre de transport'!CB49","v":0},{"$f":"'5. Offre de transport'!CC49","v":0},{"$f":"'5. Offre de transport'!CD49","v":0},{"$f":"'5. Offre de transport'!CE49","v":0},{"$f":"'5. Offre de transport'!CF49","v":0},{"$f":"'5. Offre de transport'!CG49","v":0},{"$f":"'5. Offre de transport'!CH49","v":0},{"$f":"'5. Offre de transport'!CI49","v":0},{"$f":"'5. Offre de transport'!CJ49","v":0},{"$f":"'5. Offre de transport'!CK49","v":0},{"$f":"'5. Offre de transport'!CL49","v":0},{"$f":"'5. Offre de transport'!CM49","v":0},{"$f":"'5. Offre de transport'!CN49","v":0},{"$f":"'5. Offre de transport'!CO49","v":0},{"$f":"'5. Offre de transport'!CP49","v":0},{"$f":"'5. Offre de transport'!CQ49","v":0},{"$f":"'5. Offre de transport'!CR49","v":0},{"$f":"'5. Offre de transport'!CS49","v":0},{"$f":"'5. Offre de transport'!CT49","v":0},{"$f":"'5. Offre de transport'!CU49","v":0},{"$f":"'5. Offre de transport'!CV49","v":0},{"$f":"'5. Offre de transport'!CW49","v":0},{"$f":"'5. Offre de transport'!CX49","v":0},{"$f":"'5. Offre de transport'!CY49","v":0},{"$f":"'5. Offre de transport'!CZ49","v":0},{"$f":"'5. Offre de transport'!DA49","v":0},{"$f":"'5. Offre de transport'!DB49","v":0},{"$f":"'5. Offre de transport'!DC49","v":0},{"$f":"'5. Offre de transport'!DD49","v":0},{"$f":"'5. Offre de transport'!DE49","v":0},{"$f":"'5. Offre de transport'!DF49","v":0},{"$f":"'5. Offre de transport'!DG49","v":0},{"$f":"'5. Offre de transport'!DH49","v":0},{"$f":"'5. Offre de transport'!DI49","v":0},{"$f":"'5. Offre de transport'!DJ49","v":0},{"$f":"'5. Offre de transport'!DK49","v":0},{"$f":"'5. Offre de transport'!DL49","v":0},{"$f":"'5. Offre de transport'!DM49","v":0},{"$f":"'5. Offre de transport'!DN49","v":0},{"$f":"'5. Offre de transport'!DO49","v":0},{"$f":"'5. Offre de transport'!DP49","v":0},{"$f":"'5. Offre de transport'!DQ49","v":0},{"$f":"'5. Offre de transport'!DR49","v":0},{"$f":"'5. Offre de transport'!DS49","v":0},{"$f":"'5. Offre de transport'!DT49","v":0},{"$f":"'5. Offre de transport'!DU49","v":0},{"$f":"'5. Offre de transport'!DV49","v":0},{"$f":"'5. Offre de transport'!DW49","v":0},{"$f":"'5. Offre de transport'!DX49","v":0},{"$f":"'5. Offre de transport'!DY49","v":0},{"$f":"'5. Offre de transport'!DZ49","v":0},{"$f":"'5. Offre de transport'!EA49","v":0},{"$f":"'5. Offre de transport'!EB49","v":0},{"$f":"'5. Offre de transport'!EC49","v":0},{"$f":"'5. Offre de transport'!ED49","v":0},{"$f":"'5. Offre de transport'!EE49","v":0},{"$f":"'5. Offre de transport'!EF49","v":0},{"$f":"'5. Offre de transport'!EG49","v":0},{"$f":"'5. Offre de transport'!EH49","v":0},{"$f":"'5. Offre de transport'!EI49","v":0},{"$f":"'5. Offre de transport'!EJ49","v":0},{"$f":"'5. Offre de transport'!EK49","v":0},{"$f":"'5. Offre de transport'!EL49","v":0},{"$f":"'5. Offre de transport'!EM49","v":0},{"$f":"'5. Offre de transport'!EN49","v":0},{"$f":"'5. Offre de transport'!EO49","v":0},{"$f":"'5. Offre de transport'!EP49","v":0},{"$f":"'5. Offre de transport'!EQ49","v":0},{"$f":"'5. Offre de transport'!ER49","v":0},{"$f":"'5. Offre de transport'!ES49","v":0},{"$f":"'5. Offre de transport'!ET49","v":0},{"$f":"'5. Offre de transport'!EU49","v":0},{"$f":"'5. Offre de transport'!EV49","v":0},{"$f":"'5. Offre de transport'!EW49","v":0},{"$f":"'5. Offre de transport'!EX49","v":0},{"$f":"'5. Offre de transport'!EY49","v":0},{"$f":"'5. Offre de transport'!EZ49","v":0},{"$f":"'5. Offre de transport'!FA49","v":0},{"$f":"'5. Offre de transport'!FB49","v":0},{"$f":"'5. Offre de transport'!FC49","v":0},{"$f":"'5. Offre de transport'!FD49","v":0},{"$f":"'5. Offre de transport'!FE49","v":0},{"$f":"'5. Offre de transport'!FF49","v":0},{"$f":"'5. Offre de transport'!FG49","v":0},{"$f":"'5. Offre de transport'!FH49","v":0},{"$f":"'5. Offre de transport'!FI49","v":0},{"$f":"'5. Offre de transport'!FJ49","v":0},{"$f":"'5. Offre de transport'!FK49","v":0},{"$f":"'5. Offre de transport'!FL49","v":0},{"$f":"'5. Offre de transport'!FM49","v":0},{"$f":"'5. Offre de transport'!FN49","v":0},{"$f":"'5. Offre de transport'!FO49","v":0},{"$f":"'5. Offre de transport'!FP49","v":0},{"$f":"'5. Offre de transport'!FQ49","v":0},{"$f":"'5. Offre de transport'!FR49","v":0},{"$f":"'5. Offre de transport'!FS49","v":0},{"$f":"'5. Offre de transport'!FT49","v":0},{"$f":"'5. Offre de transport'!FU49","v":0},{"$f":"'5. Offre de transport'!FV49","v":0},{"$f":"'5. Offre de transport'!FW49","v":0},{"$f":"'5. Offre de transport'!FX49","v":0},{"$f":"'5. Offre de transport'!FY49","v":0},{"$f":"'5. Offre de transport'!FZ49","v":0},{"$f":"'5. Offre de transport'!GA49","v":0},{"$f":"'5. Offre de transport'!GB49","v":0},{"$f":"'5. Offre de transport'!GC49","v":0},{"$f":"'5. Offre de transport'!GD49","v":0},{"$f":"'5. Offre de transport'!GE49","v":0},{"$f":"'5. Offre de transport'!GF49","v":0},{"$f":"'5. Offre de transport'!GG49","v":0},{"$f":"'5. Offre de transport'!GH49","v":0},{"$f":"'5. Offre de transport'!GI49","v":0},{"$f":"'5. Offre de transport'!GJ49","v":0},{"$f":"'5. Offre de transport'!GK49","v":0},{"$f":"'5. Offre de transport'!GL49","v":0},{"$f":"'5. Offre de transport'!GM49","v":0},{"$f":"'5. Offre de transport'!GN49","v":0},{"$f":"'5. Offre de transport'!GO49","v":0},{"$f":"'5. Offre de transport'!GP49","v":0},{"$f":"'5. Offre de transport'!GQ49","v":0},{"$f":"'5. Offre de transport'!GR49","v":0},{"$f":"'5. Offre de transport'!GS49","v":0},{"$f":"'5. Offre de transport'!GT49","v":0},{"$f":"'5. Offre de transport'!GU49","v":0},{"$f":"'5. Offre de transport'!GV49","v":0},{"$f":"'5. Offre de transport'!GW49","v":0},{"$f":"'5. Offre de transport'!GX49","v":0},{"$f":"'5. Offre de transport'!GY49","v":0},{"$f":"'5. Offre de transport'!GZ49","v":0},{"$f":"'5. Offre de transport'!HA49","v":0},{"$f":"'5. Offre de transport'!HB49","v":0},{"$f":"'5. Offre de transport'!HC49","v":0},{"$f":"'5. Offre de transport'!HD49","v":0},{"$f":"'5. Offre de transport'!HE49","v":0},{"$f":"'5. Offre de transport'!HF49","v":0},{"$f":"'5. Offre de transport'!HG49","v":0},{"$f":"'5. Offre de transport'!HH49","v":0},{"$f":"'5. Offre de transport'!HI49","v":0},{"$f":"'5. Offre de transport'!HJ49","v":0},{"$f":"'5. Offre de transport'!HK49","v":0},{"$f":"'5. Offre de transport'!HL49","v":0},{"$f":"'5. Offre de transport'!HM49","v":0},{"$f":"'5. Offre de transport'!HN49","v":0},{"$f":"'5. Offre de transport'!HO49","v":0},{"$f":"'5. Offre de transport'!HP49","v":0},{"$f":"'5. Offre de transport'!HQ49","v":0},{"$f":"'5. Offre de transport'!HR49","v":0},{"$f":"'5. Offre de transport'!HS49","v":0},{"$f":"'5. Offre de transport'!HT49","v":0},{"$f":"'5. Offre de transport'!HU49","v":0},{"$f":"'5. Offre de transport'!HV49","v":0},{"$f":"'5. Offre de transport'!HW49","v":0},{"$f":"'5. Offre de transport'!HX49","v":0},{"$f":"'5. Offre de transport'!HY49","v":0},{"$f":"'5. Offre de transport'!HZ49","v":0},{"$f":"'5. Offre de transport'!IA49","v":0},{"$f":"'5. Offre de transport'!IB49","v":0},{"$f":"'5. Offre de transport'!IC49","v":0},{"$f":"'5. Offre de transport'!ID49","v":0},{"$f":"'5. Offre de transport'!IE49","v":0},{"$f":"'5. Offre de transport'!IF49","v":0},{"$f":"'5. Offre de transport'!IG49","v":0},{"$f":"'5. Offre de transport'!IH49","v":0},{"$f":"'5. Offre de transport'!II49","v":0},{"$f":"'5. Offre de transport'!IJ49","v":0},{"$f":"'5. Offre de transport'!IK49","v":0},{"$f":"'5. Offre de transport'!IL49","v":0},{"$f":"'5. Offre de transport'!IM49","v":0},{"$f":"'5. Offre de transport'!IN49","v":0},{"$f":"'5. Offre de transport'!IO49","v":0},{"$f":"'5. Offre de transport'!IP49","v":0},{"$f":"'5. Offre de transport'!IQ49","v":0},{"$f":"'5. Offre de transport'!IR49","v":0},{"$f":"'5. Offre de transport'!IS49","v":0},{"$f":"'5. Offre de transport'!IT49","v":0},{"$f":"'5. Offre de transport'!IU49","v":0},{"$f":"'5. Offre de transport'!IV49","v":0},{"$f":"'5. Offre de transport'!IW49","v":0},{"$f":"'5. Offre de transport'!IX49","v":0},{"$f":"'5. Offre de transport'!IY49","v":0},{"$f":"'5. Offre de transport'!IZ49","v":0},{"$f":"'5. Offre de transport'!JA49","v":0},{"$f":"'5. Offre de transport'!JB49","v":0},{"$f":"'5. Offre de transport'!JC49","v":0},{"$f":"'5. Offre de transport'!JD49","v":0},{"$f":"'5. Offre de transport'!JE49","v":0},{"$f":"'5. Offre de transport'!JF49","v":0},{"$f":"'5. Offre de transport'!JG49","v":0},{"$f":"'5. Offre de transport'!JH49","v":0},{"$f":"'5. Offre de transport'!JI49","v":0},{"$f":"'5. Offre de transport'!JJ49","v":0},{"$f":"'5. Offre de transport'!JK49","v":0},{"$f":"'5. Offre de transport'!JL49","v":0},{"$f":"'5. Offre de transport'!JM49","v":0},{"$f":"'5. Offre de transport'!JN49","v":0},{"$f":"'5. Offre de transport'!JO49","v":0},{"$f":"'5. Offre de transport'!JP49","v":0},{"$f":"'5. Offre de transport'!JQ49","v":0},{"$f":"'5. Offre de transport'!JR49","v":0},{"$f":"'5. Offre de transport'!JS49","v":0},{"$f":"'5. Offre de transport'!JT49","v":0},{"$f":"'5. Offre de transport'!JU49","v":0},{"$f":"'5. Offre de transport'!JV49","v":0},{"$f":"'5. Offre de transport'!JW49","v":0},{"$f":"'5. Offre de transport'!JX49","v":0},{"$f":"'5. Offre de transport'!JY49","v":0},{"$f":"'5. Offre de transport'!JZ49","v":0},{"$f":"'5. Offre de transport'!KA49","v":0},{"$f":"'5. Offre de transport'!KB49","v":0},{"$f":"'5. Offre de transport'!KC49","v":0},{"$f":"'5. Offre de transport'!KD49","v":0},{"$f":"'5. Offre de transport'!KE49","v":0},{"$f":"'5. Offre de transport'!KF49","v":0},{"$f":"'5. Offre de transport'!KG49","v":0},{"$f":"'5. Offre de transport'!KH49","v":0},{"$f":"'5. Offre de transport'!KI49","v":0},{"$f":"'5. Offre de transport'!KJ49","v":0},{"$f":"'5. Offre de transport'!KK49","v":0},{"$f":"'5. Offre de transport'!KL49","v":0},{"$f":"'5. Offre de transport'!KM49","v":0},{"$f":"'5. Offre de transport'!KN49","v":0},{"$f":"'5. Offre de transport'!KO49","v":0},{"$f":"'5. Offre de transport'!KP49","v":0},{"$f":"'5. Offre de transport'!KQ49","v":0},{"$f":"'5. Offre de transport'!KR49","v":0},{"$f":"'5. Offre de transport'!KS49","v":0},{"$f":"'5. Offre de transport'!KT49","v":0},{"$f":"'5. Offre de transport'!KU49","v":0},{"$f":"'5. Offre de transport'!KV49","v":0},{"$f":"'5. Offre de transport'!KW49","v":0},{"$f":"'5. Offre de transport'!KX49","v":0},{"$f":"'5. Offre de transport'!KY49","v":0},{"$f":"'5. Offre de transport'!KZ49","v":0},{"$f":"'5. Offre de transport'!LA49","v":0},{"$f":"'5. Offre de transport'!LB49","v":0},{"$f":"'5. Offre de transport'!LC49","v":0},{"$f":"'5. Offre de transport'!LD49","v":0},{"$f":"'5. Offre de transport'!LE49","v":0},{"$f":"'5. Offre de transport'!LF49","v":0},{"$f":"'5. Offre de transport'!LG49","v":0},{"$f":"'5. Offre de transport'!LH49","v":0},{"$f":"'5. Offre de transport'!LI49","v":0},{"$f":"'5. Offre de transport'!LJ49","v":0},{"$f":"'5. Offre de transport'!LK49","v":0},{"$f":"'5. Offre de transport'!LL49","v":0},{"$f":"'5. Offre de transport'!LM49","v":0},{"$f":"'5. Offre de transport'!LN49","v":0},{"$f":"'5. Offre de transport'!LO49","v":0},{"$f":"'5. Offre de transport'!LP49","v":0},{"$f":"'5. Offre de transport'!LQ49","v":0},{"$f":"'5. Offre de transport'!LR49","v":0},{"$f":"'5. Offre de transport'!LS49","v":0},{"$f":"'5. Offre de transport'!LT49","v":0},{"$f":"'5. Offre de transport'!LU49","v":0},{"$f":"'5. Offre de transport'!LV49","v":0},{"$f":"'5. Offre de transport'!LW49","v":0},{"$f":"'5. Offre de transport'!LX49","v":0},{"$f":"'5. Offre de transport'!LY49","v":0},{"$f":"'5. Offre de transport'!LZ49","v":0},{"$f":"'5. Offre de transport'!MA49","v":0},{"$f":"'5. Offre de transport'!MB49","v":0},{"$f":"'5. Offre de transport'!MC49","v":0},{"$f":"'5. Offre de transport'!MD49","v":0},{"$f":"'5. Offre de transport'!ME49","v":0},{"$f":"'5. Offre de transport'!MF49","v":0},{"$f":"'5. Offre de transport'!MG49","v":0},{"$f":"'5. Offre de transport'!MH49","v":0},{"$f":"'5. Offre de transport'!MI49","v":0},{"$f":"'5. Offre de transport'!MJ49","v":0},{"$f":"'5. Offre de transport'!MK49","v":0},{"$f":"'5. Offre de transport'!ML49","v":0},{"$f":"'5. Offre de transport'!MM49","v":0},{"$f":"'5. Offre de transport'!MN49","v":0},{"$f":"'5. Offre de transport'!MO49","v":0},{"$f":"'5. Offre de transport'!MP49","v":0},{"$f":"'5. Offre de transport'!MQ49","v":0},{"$f":"'5. Offre de transport'!MR49","v":0},{"$f":"'5. Offre de transport'!MS49","v":0},{"$f":"'5. Offre de transport'!MT49","v":0},{"$f":"'5. Offre de transport'!MU49","v":0},{"$f":"'5. Offre de transport'!MV49","v":0},{"$f":"'5. Offre de transport'!MW49","v":0},{"$f":"'5. Offre de transport'!MX49","v":0},{"$f":"'5. Offre de transport'!MY49","v":0},{"$f":"'5. Offre de transport'!MZ49","v":0}]
[null,{"$f":"'5. Offre de transport'!B50","v":0},{"$f":"'5. Offre de transport'!C50","v":0},{"$f":"'5. Offre de transport'!D50","v":0},{"$f":"'5. Offre de transport'!E50","v":0},{"$f":"'5. Offre de transport'!F50","v":0},{"$f":"'5. Offre de transport'!G50","v":0},{"$f":"'5. Offre de transport'!H50","v":0},{"$f":"'5. Offre de transport'!I50","v":0},{"$f":"'5. Offre de transport'!J50","v":0},{"$f":"'5. Offre de transport'!K50","v":0},{"$f":"'5. Offre de transport'!L50","v":0},{"$f":"'5. Offre de transport'!M50","v":0},{"$f":"'5. Offre de transport'!N50","v":0},{"$f":"'5. Offre de transport'!O50","v":0},{"$f":"'5. Offre de transport'!P50","v":0},{"$f":"'5. Offre de transport'!Q50","v":0},{"$f":"'5. Offre de transport'!R50","v":0},{"$f":"'5. Offre de transport'!S50","v":0},{"$f":"'5. Offre de transport'!T50","v":0},{"$f":"'5. Offre de transport'!U50","v":0},{"$f":"'5. Offre de transport'!V50","v":0},{"$f":"'5. Offre de transport'!W50","v":0},{"$f":"'5. Offre de transport'!X50","v":0},{"$f":"'5. Offre de transport'!Y50","v":0},{"$f":"'5. Offre de transport'!Z50","v":0},{"$f":"'5. Offre de transport'!AA50","v":0},{"$f":"'5. Offre de transport'!AB50","v":0},{"$f":"'5. Offre de transport'!AC50","v":0},{"$f":"'5. Offre de transport'!AD50","v":0},{"$f":"'5. Offre de transport'!AE50","v":0},{"$f":"'5. Offre de transport'!AF50","v":0},{"$f":"'5. Offre de transport'!AG50","v":0},{"$f":"'5. Offre de transport'!AH50","v":0},{"$f":"'5. Offre de transport'!AI50","v":0},{"$f":"'5. Offre de transport'!AJ50","v":0},{"$f":"'5. Offre de transport'!AK50","v":0},{"$f":"'5. Offre de transport'!AL50","v":0},{"$f":"'5. Offre de transport'!AM50","v":0},{"$f":"'5. Offre de transport'!AN50","v":0},{"$f":"'5. Offre de transport'!AO50","v":0},{"$f":"'5. Offre de transport'!AP50","v":0},{"$f":"'5. Offre de transport'!AQ50","v":0},{"$f":"'5. Offre de transport'!AR50","v":0},{"$f":"'5. Offre de transport'!AS50","v":0},{"$f":"'5. Offre de transport'!AT50","v":0},{"$f":"'5. Offre de transport'!AU50","v":0},{"$f":"'5. Offre de transport'!AV50","v":0},{"$f":"'5. Offre de transport'!AW50","v":0},{"$f":"'5. Offre de transport'!AX50","v":0},{"$f":"'5. Offre de transport'!AY50","v":0},{"$f":"'5. Offre de transport'!AZ50","v":0},{"$f":"'5. Offre de transport'!BA50","v":0},{"$f":"'5. Offre de transport'!BB50","v":0},{"$f":"'5. Offre de transport'!BC50","v":0},{"$f":"'5. Offre de transport'!BD50","v":0},{"$f":"'5. Offre de transport'!BE50","v":0},{"$f":"'5. Offre de transport'!BF50","v":0},{"$f":"'5. Offre de transport'!BG50","v":0},{"$f":"'5. Offre de transport'!BH50","v":0},{"$f":"'5. Offre de transport'!BI50","v":0},{"$f":"'5. Offre de transport'!BJ50","v":0},{"$f":"'5. Offre de transport'!BK50","v":0},{"$f":"'5. Offre de transport'!BL50","v":0},{"$f":"'5. Offre de transport'!BM50","v":0},{"$f":"'5. Offre de transport'!BN50","v":0},{"$f":"'5. Offre de transport'!BO50","v":0},{"$f":"'5. Offre de transport'!BP50","v":0},{"$f":"'5. Offre de transport'!BQ50","v":0},{"$f":"'5. Offre de transport'!BR50","v":0},{"$f":"'5. Offre de transport'!BS50","v":0},{"$f":"'5. Offre de transport'!BT50","v":0},{"$f":"'5. Offre de transport'!BU50","v":0},{"$f":"'5. Offre de transport'!BV50","v":0},{"$f":"'5. Offre de transport'!BW50","v":0},{"$f":"'5. Offre de transport'!BX50","v":0},{"$f":"'5. Offre de transport'!BY50","v":0},{"$f":"'5. Offre de transport'!BZ50","v":0},{"$f":"'5. Offre de transport'!CA50","v":0},{"$f":"'5. Offre de transport'!CB50","v":0},{"$f":"'5. Offre de transport'!CC50","v":0},{"$f":"'5. Offre de transport'!CD50","v":0},{"$f":"'5. Offre de transport'!CE50","v":0},{"$f":"'5. Offre de transport'!CF50","v":0},{"$f":"'5. Offre de transport'!CG50","v":0},{"$f":"'5. Offre de transport'!CH50","v":0},{"$f":"'5. Offre de transport'!CI50","v":0},{"$f":"'5. Offre de transport'!CJ50","v":0},{"$f":"'5. Offre de transport'!CK50","v":0},{"$f":"'5. Offre de transport'!CL50","v":0},{"$f":"'5. Offre de transport'!CM50","v":0},{"$f":"'5. Offre de transport'!CN50","v":0},{"$f":"'5. Offre de transport'!CO50","v":0},{"$f":"'5. Offre de transport'!CP50","v":0},{"$f":"'5. Offre de transport'!CQ50","v":0},{"$f":"'5. Offre de transport'!CR50","v":0},{"$f":"'5. Offre de transport'!CS50","v":0},{"$f":"'5. Offre de transport'!CT50","v":0},{"$f":"'5. Offre de transport'!CU50","v":0},{"$f":"'5. Offre de transport'!CV50","v":0},{"$f":"'5. Offre de transport'!CW50","v":0},{"$f":"'5. Offre de transport'!CX50","v":0},{"$f":"'5. Offre de transport'!CY50","v":0},{"$f":"'5. Offre de transport'!CZ50","v":0},{"$f":"'5. Offre de transport'!DA50","v":0},{"$f":"'5. Offre de transport'!DB50","v":0},{"$f":"'5. Offre de transport'!DC50","v":0},{"$f":"'5. Offre de transport'!DD50","v":0},{"$f":"'5. Offre de transport'!DE50","v":0},{"$f":"'5. Offre de transport'!DF50","v":0},{"$f":"'5. Offre de transport'!DG50","v":0},{"$f":"'5. Offre de transport'!DH50","v":0},{"$f":"'5. Offre de transport'!DI50","v":0},{"$f":"'5. Offre de transport'!DJ50","v":0},{"$f":"'5. Offre de transport'!DK50","v":0},{"$f":"'5. Offre de transport'!DL50","v":0},{"$f":"'5. Offre de transport'!DM50","v":0},{"$f":"'5. Offre de transport'!DN50","v":0},{"$f":"'5. Offre de transport'!DO50","v":0},{"$f":"'5. Offre de transport'!DP50","v":0},{"$f":"'5. Offre de transport'!DQ50","v":0},{"$f":"'5. Offre de transport'!DR50","v":0},{"$f":"'5. Offre de transport'!DS50","v":0},{"$f":"'5. Offre de transport'!DT50","v":0},{"$f":"'5. Offre de transport'!DU50","v":0},{"$f":"'5. Offre de transport'!DV50","v":0},{"$f":"'5. Offre de transport'!DW50","v":0},{"$f":"'5. Offre de transport'!DX50","v":0},{"$f":"'5. Offre de transport'!DY50","v":0},{"$f":"'5. Offre de transport'!DZ50","v":0},{"$f":"'5. Offre de transport'!EA50","v":0},{"$f":"'5. Offre de transport'!EB50","v":0},{"$f":"'5. Offre de transport'!EC50","v":0},{"$f":"'5. Offre de transport'!ED50","v":0},{"$f":"'5. Offre de transport'!EE50","v":0},{"$f":"'5. Offre de transport'!EF50","v":0},{"$f":"'5. Offre de transport'!EG50","v":0},{"$f":"'5. Offre de transport'!EH50","v":0},{"$f":"'5. Offre de transport'!EI50","v":0},{"$f":"'5. Offre de transport'!EJ50","v":0},{"$f":"'5. Offre de transport'!EK50","v":0},{"$f":"'5. Offre de transport'!EL50","v":0},{"$f":"'5. Offre de transport'!EM50","v":0},{"$f":"'5. Offre de transport'!EN50","v":0},{"$f":"'5. Offre de transport'!EO50","v":0},{"$f":"'5. Offre de transport'!EP50","v":0},{"$f":"'5. Offre de transport'!EQ50","v":0},{"$f":"'5. Offre de transport'!ER50","v":0},{"$f":"'5. Offre de transport'!ES50","v":0},{"$f":"'5. Offre de transport'!ET50","v":0},{"$f":"'5. Offre de transport'!EU50","v":0},{"$f":"'5. Offre de transport'!EV50","v":0},{"$f":"'5. Offre de transport'!EW50","v":0},{"$f":"'5. Offre de transport'!EX50","v":0},{"$f":"'5. Offre de transport'!EY50","v":0},{"$f":"'5. Offre de transport'!EZ50","v":0},{"$f":"'5. Offre de transport'!FA50","v":0},{"$f":"'5. Offre de transport'!FB50","v":0},{"$f":"'5. Offre de transport'!FC50","v":0},{"$f":"'5. Offre de transport'!FD50","v":0},{"$f":"'5. Offre de transport'!FE50","v":0},{"$f":"'5. Offre de transport'!FF50","v":0},{"$f":"'5. Offre de transport'!FG50","v":0},{"$f":"'5. Offre de transport'!FH50","v":0},{"$f":"'5. Offre de transport'!FI50","v":0},{"$f":"'5. Offre de transport'!FJ50","v":0},{"$f":"'5. Offre de transport'!FK50","v":0},{"$f":"'5. Offre de transport'!FL50","v":0},{"$f":"'5. Offre de transport'!FM50","v":0},{"$f":"'5. Offre de transport'!FN50","v":0},{"$f":"'5. Offre de transport'!FO50","v":0},{"$f":"'5. Offre de transport'!FP50","v":0},{"$f":"'5. Offre de transport'!FQ50","v":0},{"$f":"'5. Offre de transport'!FR50","v":0},{"$f":"'5. Offre de transport'!FS50","v":0},{"$f":"'5. Offre de transport'!FT50","v":0},{"$f":"'5. Offre de transport'!FU50","v":0},{"$f":"'5. Offre de transport'!FV50","v":0},{"$f":"'5. Offre de transport'!FW50","v":0},{"$f":"'5. Offre de transport'!FX50","v":0},{"$f":"'5. Offre de transport'!FY50","v":0},{"$f":"'5. Offre de transport'!FZ50","v":0},{"$f":"'5. Offre de transport'!GA50","v":0},{"$f":"'5. Offre de transport'!GB50","v":0},{"$f":"'5. Offre de transport'!GC50","v":0},{"$f":"'5. Offre de transport'!GD50","v":0},{"$f":"'5. Offre de transport'!GE50","v":0},{"$f":"'5. Offre de transport'!GF50","v":0},{"$f":"'5. Offre de transport'!GG50","v":0},{"$f":"'5. Offre de transport'!GH50","v":0},{"$f":"'5. Offre de transport'!GI50","v":0},{"$f":"'5. Offre de transport'!GJ50","v":0},{"$f":"'5. Offre de transport'!GK50","v":0},{"$f":"'5. Offre de transport'!GL50","v":0},{"$f":"'5. Offre de transport'!GM50","v":0},{"$f":"'5. Offre de transport'!GN50","v":0},{"$f":"'5. Offre de transport'!GO50","v":0},{"$f":"'5. Offre de transport'!GP50","v":0},{"$f":"'5. Offre de transport'!GQ50","v":0},{"$f":"'5. Offre de transport'!GR50","v":0},{"$f":"'5. Offre de transport'!GS50","v":0},{"$f":"'5. Offre de transport'!GT50","v":0},{"$f":"'5. Offre de transport'!GU50","v":0},{"$f":"'5. Offre de transport'!GV50","v":0},{"$f":"'5. Offre de transport'!GW50","v":0},{"$f":"'5. Offre de transport'!GX50","v":0},{"$f":"'5. Offre de transport'!GY50","v":0},{"$f":"'5. Offre de transport'!GZ50","v":0},{"$f":"'5. Offre de transport'!HA50","v":0},{"$f":"'5. Offre de transport'!HB50","v":0},{"$f":"'5. Offre de transport'!HC50","v":0},{"$f":"'5. Offre de transport'!HD50","v":0},{"$f":"'5. Offre de transport'!HE50","v":0},{"$f":"'5. Offre de transport'!HF50","v":0},{"$f":"'5. Offre de transport'!HG50","v":0},{"$f":"'5. Offre de transport'!HH50","v":0},{"$f":"'5. Offre de transport'!HI50","v":0},{"$f":"'5. Offre de transport'!HJ50","v":0},{"$f":"'5. Offre de transport'!HK50","v":0},{"$f":"'5. Offre de transport'!HL50","v":0},{"$f":"'5. Offre de transport'!HM50","v":0},{"$f":"'5. Offre de transport'!HN50","v":0},{"$f":"'5. Offre de transport'!HO50","v":0},{"$f":"'5. Offre de transport'!HP50","v":0},{"$f":"'5. Offre de transport'!HQ50","v":0},{"$f":"'5. Offre de transport'!HR50","v":0},{"$f":"'5. Offre de transport'!HS50","v":0},{"$f":"'5. Offre de transport'!HT50","v":0},{"$f":"'5. Offre de transport'!HU50","v":0},{"$f":"'5. Offre de transport'!HV50","v":0},{"$f":"'5. Offre de transport'!HW50","v":0},{"$f":"'5. Offre de transport'!HX50","v":0},{"$f":"'5. Offre de transport'!HY50","v":0},{"$f":"'5. Offre de transport'!HZ50","v":0},{"$f":"'5. Offre de transport'!IA50","v":0},{"$f":"'5. Offre de transport'!IB50","v":0},{"$f":"'5. Offre de transport'!IC50","v":0},{"$f":"'5. Offre de transport'!ID50","v":0},{"$f":"'5. Offre de transport'!IE50","v":0},{"$f":"'5. Offre de transport'!IF50","v":0},{"$f":"'5. Offre de transport'!IG50","v":0},{"$f":"'5. Offre de transport'!IH50","v":0},{"$f":"'5. Offre de transport'!II50","v":0},{"$f":"'5. Offre de transport'!IJ50","v":0},{"$f":"'5. Offre de transport'!IK50","v":0},{"$f":"'5. Offre de transport'!IL50","v":0},{"$f":"'5. Offre de transport'!IM50","v":0},{"$f":"'5. Offre de transport'!IN50","v":0},{"$f":"'5. Offre de transport'!IO50","v":0},{"$f":"'5. Offre de transport'!IP50","v":0},{"$f":"'5. Offre de transport'!IQ50","v":0},{"$f":"'5. Offre de transport'!IR50","v":0},{"$f":"'5. Offre de transport'!IS50","v":0},{"$f":"'5. Offre de transport'!IT50","v":0},{"$f":"'5. Offre de transport'!IU50","v":0},{"$f":"'5. Offre de transport'!IV50","v":0},{"$f":"'5. Offre de transport'!IW50","v":0},{"$f":"'5. Offre de transport'!IX50","v":0},{"$f":"'5. Offre de transport'!IY50","v":0},{"$f":"'5. Offre de transport'!IZ50","v":0},{"$f":"'5. Offre de transport'!JA50","v":0},{"$f":"'5. Offre de transport'!JB50","v":0},{"$f":"'5. Offre de transport'!JC50","v":0},{"$f":"'5. Offre de transport'!JD50","v":0},{"$f":"'5. Offre de transport'!JE50","v":0},{"$f":"'5. Offre de transport'!JF50","v":0},{"$f":"'5. Offre de transport'!JG50","v":0},{"$f":"'5. Offre de transport'!JH50","v":0},{"$f":"'5. Offre de transport'!JI50","v":0},{"$f":"'5. Offre de transport'!JJ50","v":0},{"$f":"'5. Offre de transport'!JK50","v":0},{"$f":"'5. Offre de transport'!JL50","v":0},{"$f":"'5. Offre de transport'!JM50","v":0},{"$f":"'5. Offre de transport'!JN50","v":0},{"$f":"'5. Offre de transport'!JO50","v":0},{"$f":"'5. Offre de transport'!JP50","v":0},{"$f":"'5. Offre de transport'!JQ50","v":0},{"$f":"'5. Offre de transport'!JR50","v":0},{"$f":"'5. Offre de transport'!JS50","v":0},{"$f":"'5. Offre de transport'!JT50","v":0},{"$f":"'5. Offre de transport'!JU50","v":0},{"$f":"'5. Offre de transport'!JV50","v":0},{"$f":"'5. Offre de transport'!JW50","v":0},{"$f":"'5. Offre de transport'!JX50","v":0},{"$f":"'5. Offre de transport'!JY50","v":0},{"$f":"'5. Offre de transport'!JZ50","v":0},{"$f":"'5. Offre de transport'!KA50","v":0},{"$f":"'5. Offre de transport'!KB50","v":0},{"$f":"'5. Offre de transport'!KC50","v":0},{"$f":"'5. Offre de transport'!KD50","v":0},{"$f":"'5. Offre de transport'!KE50","v":0},{"$f":"'5. Offre de transport'!KF50","v":0},{"$f":"'5. Offre de transport'!KG50","v":0},{"$f":"'5. Offre de transport'!KH50","v":0},{"$f":"'5. Offre de transport'!KI50","v":0},{"$f":"'5. Offre de transport'!KJ50","v":0},{"$f":"'5. Offre de transport'!KK50","v":0},{"$f":"'5. Offre de transport'!KL50","v":0},{"$f":"'5. Offre de transport'!KM50","v":0},{"$f":"'5. Offre de transport'!KN50","v":0},{"$f":"'5. Offre de transport'!KO50","v":0},{"$f":"'5. Offre de transport'!KP50","v":0},{"$f":"'5. Offre de transport'!KQ50","v":0},{"$f":"'5. Offre de transport'!KR50","v":0},{"$f":"'5. Offre de transport'!KS50","v":0},{"$f":"'5. Offre de transport'!KT50","v":0},{"$f":"'5. Offre de transport'!KU50","v":0},{"$f":"'5. Offre de transport'!KV50","v":0},{"$f":"'5. Offre de transport'!KW50","v":0},{"$f":"'5. Offre de transport'!KX50","v":0},{"$f":"'5. Offre de transport'!KY50","v":0},{"$f":"'5. Offre de transport'!KZ50","v":0},{"$f":"'5. Offre de transport'!LA50","v":0},{"$f":"'5. Offre de transport'!LB50","v":0},{"$f":"'5. Offre de transport'!LC50","v":0},{"$f":"'5. Offre de transport'!LD50","v":0},{"$f":"'5. Offre de transport'!LE50","v":0},{"$f":"'5. Offre de transport'!LF50","v":0},{"$f":"'5. Offre de transport'!LG50","v":0},{"$f":"'5. Offre de transport'!LH50","v":0},{"$f":"'5. Offre de transport'!LI50","v":0},{"$f":"'5. Offre de transport'!LJ50","v":0},{"$f":"'5. Offre de transport'!LK50","v":0},{"$f":"'5. Offre de transport'!LL50","v":0},{"$f":"'5. Offre de transport'!LM50","v":0},{"$f":"'5. Offre de transport'!LN50","v":0},{"$f":"'5. Offre de transport'!LO50","v":0},{"$f":"'5. Offre de transport'!LP50","v":0},{"$f":"'5. Offre de transport'!LQ50","v":0},{"$f":"'5. Offre de transport'!LR50","v":0},{"$f":"'5. Offre de transport'!LS50","v":0},{"$f":"'5. Offre de transport'!LT50","v":0},{"$f":"'5. Offre de transport'!LU50","v":0},{"$f":"'5. Offre de transport'!LV50","v":0},{"$f":"'5. Offre de transport'!LW50","v":0},{"$f":"'5. Offre de transport'!LX50","v":0},{"$f":"'5. Offre de transport'!LY50","v":0},{"$f":"'5. Offre de transport'!LZ50","v":0},{"$f":"'5. Offre de transport'!MA50","v":0},{"$f":"'5. Offre de transport'!MB50","v":0},{"$f":"'5. Offre de transport'!MC50","v":0},{"$f":"'5. Offre de transport'!MD50","v":0},{"$f":"'5. Offre de transport'!ME50","v":0},{"$f":"'5. Offre de transport'!MF50","v":0},{"$f":"'5. Offre de transport'!MG50","v":0},{"$f":"'5. Offre de transport'!MH50","v":0},{"$f":"'5. Offre de transport'!MI50","v":0},{"$f":"'5. Offre de transport'!MJ50","v":0},{"$f":"'5. Offre de transport'!MK50","v":0},{"$f":"'5. Offre de transport'!ML50","v":0},{"$f":"'5. Offre de transport'!MM50","v":0},{"$f":"'5. Offre de transport'!MN50","v":0},{"$f":"'5. Offre de transport'!MO50","v":0},{"$f":"'5. Offre de transport'!MP50","v":0},{"$f":"'5. Offre de transport'!MQ50","v":0},{"$f":"'5. Offre de transport'!MR50","v":0},{"$f":"'5. Offre de transport'!MS50","v":0},{"$f":"'5. Offre de transport'!MT50","v":0},{"$f":"'5. Offre de transport'!MU50","v":0},{"$f":"'5. Offre de transport'!MV50","v":0},{"$f":"'5. Offre de transport'!MW50","v":0},{"$f":"'5. Offre de transport'!MX50","v":0},{"$f":"'5. Offre de transport'!MY50","v":0},{"$f":"'5. Offre de transport'!MZ50","v":0}]
[null,{"$f":"'5. Offre de transport'!B51","v":"n° de ligne"},{"$f":"'5. Offre de transport'!C51","v":1},{"$f":"'5. Offre de transport'!D51","v":2},{"$f":"'5. Offre de transport'!E51","v":3},{"$f":"'5. Offre de transport'!F51","v":4},{"$f":"'5. Offre de transport'!G51","v":5},{"$f":"'5. Offre de transport'!H51","v":6},{"$f":"'5. Offre de transport'!I51","v":7},{"$f":"'5. Offre de transport'!J51","v":8},{"$f":"'5. Offre de transport'!K51","v":9},{"$f":"'5. Offre de transport'!L51","v":10},{"$f":"'5. Offre de transport'!M51","v":11},{"$f":"'5. Offre de transport'!N51","v":12},{"$f":"'5. Offre de transport'!O51","v":13},{"$f":"'5. Offre de transport'!P51","v":14},{"$f":"'5. Offre de transport'!Q51","v":15},{"$f":"'5. Offre de transport'!R51","v":16},{"$f":"'5. Offre de transport'!S51","v":17},{"$f":"'5. Offre de transport'!T51","v":18},{"$f":"'5. Offre de transport'!U51","v":19},{"$f":"'5. Offre de transport'!V51","v":20},{"$f":"'5. Offre de transport'!W51","v":21},{"$f":"'5. Offre de transport'!X51","v":22},{"$f":"'5. Offre de transport'!Y51","v":23},{"$f":"'5. Offre de transport'!Z51","v":24},{"$f":"'5. Offre de transport'!AA51","v":25},{"$f":"'5. Offre de transport'!AB51","v":26},{"$f":"'5. Offre de transport'!AC51","v":27},{"$f":"'5. Offre de transport'!AD51","v":28},{"$f":"'5. Offre de transport'!AE51","v":29},{"$f":"'5. Offre de transport'!AF51","v":30},{"$f":"'5. Offre de transport'!AG51","v":31},{"$f":"'5. Offre de transport'!AH51","v":32},{"$f":"'5. Offre de transport'!AI51","v":33},{"$f":"'5. Offre de transport'!AJ51","v":34},{"$f":"'5. Offre de transport'!AK51","v":35},{"$f":"'5. Offre de transport'!AL51","v":36},{"$f":"'5. Offre de transport'!AM51","v":37},{"$f":"'5. Offre de transport'!AN51","v":38},{"$f":"'5. Offre de transport'!AO51","v":39},{"$f":"'5. Offre de transport'!AP51","v":40},{"$f":"'5. Offre de transport'!AQ51","v":41},{"$f":"'5. Offre de transport'!AR51","v":42},{"$f":"'5. Offre de transport'!AS51","v":43},{"$f":"'5. Offre de transport'!AT51","v":44},{"$f":"'5. Offre de transport'!AU51","v":45},{"$f":"'5. Offre de transport'!AV51","v":46},{"$f":"'5. Offre de transport'!AW51","v":47},{"$f":"'5. Offre de transport'!AX51","v":48},{"$f":"'5. Offre de transport'!AY51","v":49},{"$f":"'5. Offre de transport'!AZ51","v":50},{"$f":"'5. Offre de transport'!BA51","v":51},{"$f":"'5. Offre de transport'!BB51","v":52},{"$f":"'5. Offre de transport'!BC51","v":53},{"$f":"'5. Offre de transport'!BD51","v":54},{"$f":"'5. Offre de transport'!BE51","v":55},{"$f":"'5. Offre de transport'!BF51","v":56},{"$f":"'5. Offre de transport'!BG51","v":57},{"$f":"'5. Offre de transport'!BH51","v":58},{"$f":"'5. Offre de transport'!BI51","v":59},{"$f":"'5. Offre de transport'!BJ51","v":60},{"$f":"'5. Offre de transport'!BK51","v":61},{"$f":"'5. Offre de transport'!BL51","v":62},{"$f":"'5. Offre de transport'!BM51","v":63},{"$f":"'5. Offre de transport'!BN51","v":64},{"$f":"'5. Offre de transport'!BO51","v":65},{"$f":"'5. Offre de transport'!BP51","v":66},{"$f":"'5. Offre de transport'!BQ51","v":67},{"$f":"'5. Offre de transport'!BR51","v":68},{"$f":"'5. Offre de transport'!BS51","v":69},{"$f":"'5. Offre de transport'!BT51","v":70},{"$f":"'5. Offre de transport'!BU51","v":71},{"$f":"'5. Offre de transport'!BV51","v":72},{"$f":"'5. Offre de transport'!BW51","v":73},{"$f":"'5. Offre de transport'!BX51","v":74},{"$f":"'5. Offre de transport'!BY51","v":75},{"$f":"'5. Offre de transport'!BZ51","v":76},{"$f":"'5. Offre de transport'!CA51","v":77},{"$f":"'5. Offre de transport'!CB51","v":78},{"$f":"'5. Offre de transport'!CC51","v":79},{"$f":"'5. Offre de transport'!CD51","v":80},{"$f":"'5. Offre de transport'!CE51","v":81},{"$f":"'5. Offre de transport'!CF51","v":82},{"$f":"'5. Offre de transport'!CG51","v":83},{"$f":"'5. Offre de transport'!CH51","v":84},{"$f":"'5. Offre de transport'!CI51","v":85},{"$f":"'5. Offre de transport'!CJ51","v":86},{"$f":"'5. Offre de transport'!CK51","v":87},{"$f":"'5. Offre de transport'!CL51","v":88},{"$f":"'5. Offre de transport'!CM51","v":89},{"$f":"'5. Offre de transport'!CN51","v":90},{"$f":"'5. Offre de transport'!CO51","v":91},{"$f":"'5. Offre de transport'!CP51","v":92},{"$f":"'5. Offre de transport'!CQ51","v":93},{"$f":"'5. Offre de transport'!CR51","v":94},{"$f":"'5. Offre de transport'!CS51","v":95},{"$f":"'5. Offre de transport'!CT51","v":96},{"$f":"'5. Offre de transport'!CU51","v":97},{"$f":"'5. Offre de transport'!CV51","v":98},{"$f":"'5. Offre de transport'!CW51","v":99},{"$f":"'5. Offre de transport'!CX51","v":100},{"$f":"'5. Offre de transport'!CY51","v":101},{"$f":"'5. Offre de transport'!CZ51","v":102},{"$f":"'5. Offre de transport'!DA51","v":103},{"$f":"'5. Offre de transport'!DB51","v":104},{"$f":"'5. Offre de transport'!DC51","v":105},{"$f":"'5. Offre de transport'!DD51","v":106},{"$f":"'5. Offre de transport'!DE51","v":107},{"$f":"'5. Offre de transport'!DF51","v":108},{"$f":"'5. Offre de transport'!DG51","v":109},{"$f":"'5. Offre de transport'!DH51","v":110},{"$f":"'5. Offre de transport'!DI51","v":111},{"$f":"'5. Offre de transport'!DJ51","v":112},{"$f":"'5. Offre de transport'!DK51","v":113},{"$f":"'5. Offre de transport'!DL51","v":114},{"$f":"'5. Offre de transport'!DM51","v":115},{"$f":"'5. Offre de transport'!DN51","v":116},{"$f":"'5. Offre de transport'!DO51","v":117},{"$f":"'5. Offre de transport'!DP51","v":118},{"$f":"'5. Offre de transport'!DQ51","v":119},{"$f":"'5. Offre de transport'!DR51","v":120},{"$f":"'5. Offre de transport'!DS51","v":121},{"$f":"'5. Offre de transport'!DT51","v":122},{"$f":"'5. Offre de transport'!DU51","v":123},{"$f":"'5. Offre de transport'!DV51","v":124},{"$f":"'5. Offre de transport'!DW51","v":125},{"$f":"'5. Offre de transport'!DX51","v":126},{"$f":"'5. Offre de transport'!DY51","v":127},{"$f":"'5. Offre de transport'!DZ51","v":128},{"$f":"'5. Offre de transport'!EA51","v":129},{"$f":"'5. Offre de transport'!EB51","v":130},{"$f":"'5. Offre de transport'!EC51","v":131},{"$f":"'5. Offre de transport'!ED51","v":132},{"$f":"'5. Offre de transport'!EE51","v":133},{"$f":"'5. Offre de transport'!EF51","v":134},{"$f":"'5. Offre de transport'!EG51","v":135},{"$f":"'5. Offre de transport'!EH51","v":136},{"$f":"'5. Offre de transport'!EI51","v":137},{"$f":"'5. Offre de transport'!EJ51","v":138},{"$f":"'5. Offre de transport'!EK51","v":139},{"$f":"'5. Offre de transport'!EL51","v":140},{"$f":"'5. Offre de transport'!EM51","v":141},{"$f":"'5. Offre de transport'!EN51","v":142},{"$f":"'5. Offre de transport'!EO51","v":143},{"$f":"'5. Offre de transport'!EP51","v":144},{"$f":"'5. Offre de transport'!EQ51","v":145},{"$f":"'5. Offre de transport'!ER51","v":146},{"$f":"'5. Offre de transport'!ES51","v":147},{"$f":"'5. Offre de transport'!ET51","v":148},{"$f":"'5. Offre de transport'!EU51","v":149},{"$f":"'5. Offre de transport'!EV51","v":150},{"$f":"'5. Offre de transport'!EW51","v":151},{"$f":"'5. Offre de transport'!EX51","v":152},{"$f":"'5. Offre de transport'!EY51","v":153},{"$f":"'5. Offre de transport'!EZ51","v":154},{"$f":"'5. Offre de transport'!FA51","v":155},{"$f":"'5. Offre de transport'!FB51","v":156},{"$f":"'5. Offre de transport'!FC51","v":157},{"$f":"'5. Offre de transport'!FD51","v":158},{"$f":"'5. Offre de transport'!FE51","v":159},{"$f":"'5. Offre de transport'!FF51","v":160},{"$f":"'5. Offre de transport'!FG51","v":161},{"$f":"'5. Offre de transport'!FH51","v":162},{"$f":"'5. Offre de transport'!FI51","v":163},{"$f":"'5. Offre de transport'!FJ51","v":164},{"$f":"'5. Offre de transport'!FK51","v":165},{"$f":"'5. Offre de transport'!FL51","v":166},{"$f":"'5. Offre de transport'!FM51","v":167},{"$f":"'5. Offre de transport'!FN51","v":168},{"$f":"'5. Offre de transport'!FO51","v":169},{"$f":"'5. Offre de transport'!FP51","v":170},{"$f":"'5. Offre de transport'!FQ51","v":171},{"$f":"'5. Offre de transport'!FR51","v":172},{"$f":"'5. Offre de transport'!FS51","v":173},{"$f":"'5. Offre de transport'!FT51","v":174},{"$f":"'5. Offre de transport'!FU51","v":175},{"$f":"'5. Offre de transport'!FV51","v":176},{"$f":"'5. Offre de transport'!FW51","v":177},{"$f":"'5. Offre de transport'!FX51","v":178},{"$f":"'5. Offre de transport'!FY51","v":179},{"$f":"'5. Offre de transport'!FZ51","v":180},{"$f":"'5. Offre de transport'!GA51","v":181},{"$f":"'5. Offre de transport'!GB51","v":182},{"$f":"'5. Offre de transport'!GC51","v":183},{"$f":"'5. Offre de transport'!GD51","v":184},{"$f":"'5. Offre de transport'!GE51","v":185},{"$f":"'5. Offre de transport'!GF51","v":186},{"$f":"'5. Offre de transport'!GG51","v":187},{"$f":"'5. Offre de transport'!GH51","v":188},{"$f":"'5. Offre de transport'!GI51","v":189},{"$f":"'5. Offre de transport'!GJ51","v":190},{"$f":"'5. Offre de transport'!GK51","v":191},{"$f":"'5. Offre de transport'!GL51","v":192},{"$f":"'5. Offre de transport'!GM51","v":193},{"$f":"'5. Offre de transport'!GN51","v":194},{"$f":"'5. Offre de transport'!GO51","v":195},{"$f":"'5. Offre de transport'!GP51","v":196},{"$f":"'5. Offre de transport'!GQ51","v":197},{"$f":"'5. Offre de transport'!GR51","v":198},{"$f":"'5. Offre de transport'!GS51","v":199},{"$f":"'5. Offre de transport'!GT51","v":200},{"$f":"'5. Offre de transport'!GU51","v":201},{"$f":"'5. Offre de transport'!GV51","v":202},{"$f":"'5. Offre de transport'!GW51","v":203},{"$f":"'5. Offre de transport'!GX51","v":204},{"$f":"'5. Offre de transport'!GY51","v":205},{"$f":"'5. Offre de transport'!GZ51","v":206},{"$f":"'5. Offre de transport'!HA51","v":207},{"$f":"'5. Offre de transport'!HB51","v":208},{"$f":"'5. Offre de transport'!HC51","v":209},{"$f":"'5. Offre de transport'!HD51","v":210},{"$f":"'5. Offre de transport'!HE51","v":211},{"$f":"'5. Offre de transport'!HF51","v":212},{"$f":"'5. Offre de transport'!HG51","v":213},{"$f":"'5. Offre de transport'!HH51","v":214},{"$f":"'5. Offre de transport'!HI51","v":215},{"$f":"'5. Offre de transport'!HJ51","v":216},{"$f":"'5. Offre de transport'!HK51","v":217},{"$f":"'5. Offre de transport'!HL51","v":218},{"$f":"'5. Offre de transport'!HM51","v":219},{"$f":"'5. Offre de transport'!HN51","v":220},{"$f":"'5. Offre de transport'!HO51","v":221},{"$f":"'5. Offre de transport'!HP51","v":222},{"$f":"'5. Offre de transport'!HQ51","v":223},{"$f":"'5. Offre de transport'!HR51","v":224},{"$f":"'5. Offre de transport'!HS51","v":225},{"$f":"'5. Offre de transport'!HT51","v":226},{"$f":"'5. Offre de transport'!HU51","v":227},{"$f":"'5. Offre de transport'!HV51","v":228},{"$f":"'5. Offre de transport'!HW51","v":229},{"$f":"'5. Offre de transport'!HX51","v":230},{"$f":"'5. Offre de transport'!HY51","v":231},{"$f":"'5. Offre de transport'!HZ51","v":232},{"$f":"'5. Offre de transport'!IA51","v":233},{"$f":"'5. Offre de transport'!IB51","v":234},{"$f":"'5. Offre de transport'!IC51","v":235},{"$f":"'5. Offre de transport'!ID51","v":236},{"$f":"'5. Offre de transport'!IE51","v":237},{"$f":"'5. Offre de transport'!IF51","v":238},{"$f":"'5. Offre de transport'!IG51","v":239},{"$f":"'5. Offre de transport'!IH51","v":240},{"$f":"'5. Offre de transport'!II51","v":241},{"$f":"'5. Offre de transport'!IJ51","v":242},{"$f":"'5. Offre de transport'!IK51","v":243},{"$f":"'5. Offre de transport'!IL51","v":244},{"$f":"'5. Offre de transport'!IM51","v":245},{"$f":"'5. Offre de transport'!IN51","v":246},{"$f":"'5. Offre de transport'!IO51","v":247},{"$f":"'5. Offre de transport'!IP51","v":248},{"$f":"'5. Offre de transport'!IQ51","v":249},{"$f":"'5. Offre de transport'!IR51","v":250},{"$f":"'5. Offre de transport'!IS51","v":251},{"$f":"'5. Offre de transport'!IT51","v":252},{"$f":"'5. Offre de transport'!IU51","v":253},{"$f":"'5. Offre de transport'!IV51","v":254},{"$f":"'5. Offre de transport'!IW51","v":255},{"$f":"'5. Offre de transport'!IX51","v":256},{"$f":"'5. Offre de transport'!IY51","v":257},{"$f":"'5. Offre de transport'!IZ51","v":258},{"$f":"'5. Offre de transport'!JA51","v":259},{"$f":"'5. Offre de transport'!JB51","v":260},{"$f":"'5. Offre de transport'!JC51","v":261},{"$f":"'5. Offre de transport'!JD51","v":262},{"$f":"'5. Offre de transport'!JE51","v":263},{"$f":"'5. Offre de transport'!JF51","v":264},{"$f":"'5. Offre de transport'!JG51","v":265},{"$f":"'5. Offre de transport'!JH51","v":266},{"$f":"'5. Offre de transport'!JI51","v":267},{"$f":"'5. Offre de transport'!JJ51","v":268},{"$f":"'5. Offre de transport'!JK51","v":269},{"$f":"'5. Offre de transport'!JL51","v":270},{"$f":"'5. Offre de transport'!JM51","v":271},{"$f":"'5. Offre de transport'!JN51","v":272},{"$f":"'5. Offre de transport'!JO51","v":273},{"$f":"'5. Offre de transport'!JP51","v":274},{"$f":"'5. Offre de transport'!JQ51","v":275},{"$f":"'5. Offre de transport'!JR51","v":276},{"$f":"'5. Offre de transport'!JS51","v":277},{"$f":"'5. Offre de transport'!JT51","v":278},{"$f":"'5. Offre de transport'!JU51","v":279},{"$f":"'5. Offre de transport'!JV51","v":280},{"$f":"'5. Offre de transport'!JW51","v":281},{"$f":"'5. Offre de transport'!JX51","v":282},{"$f":"'5. Offre de transport'!JY51","v":283},{"$f":"'5. Offre de transport'!JZ51","v":284},{"$f":"'5. Offre de transport'!KA51","v":285},{"$f":"'5. Offre de transport'!KB51","v":286},{"$f":"'5. Offre de transport'!KC51","v":287},{"$f":"'5. Offre de transport'!KD51","v":288},{"$f":"'5. Offre de transport'!KE51","v":289},{"$f":"'5. Offre de transport'!KF51","v":290},{"$f":"'5. Offre de transport'!KG51","v":291},{"$f":"'5. Offre de transport'!KH51","v":292},{"$f":"'5. Offre de transport'!KI51","v":293},{"$f":"'5. Offre de transport'!KJ51","v":294},{"$f":"'5. Offre de transport'!KK51","v":295},{"$f":"'5. Offre de transport'!KL51","v":296},{"$f":"'5. Offre de transport'!KM51","v":297},{"$f":"'5. Offre de transport'!KN51","v":298},{"$f":"'5. Offre de transport'!KO51","v":299},{"$f":"'5. Offre de transport'!KP51","v":300},{"$f":"'5. Offre de transport'!KQ51","v":0},{"$f":"'5. Offre de transport'!KR51","v":0},{"$f":"'5. Offre de transport'!KS51","v":0},{"$f":"'5. Offre de transport'!KT51","v":0},{"$f":"'5. Offre de transport'!KU51","v":0},{"$f":"'5. Offre de transport'!KV51","v":0},{"$f":"'5. Offre de transport'!KW51","v":0},{"$f":"'5. Offre de transport'!KX51","v":0},{"$f":"'5. Offre de transport'!KY51","v":0},{"$f":"'5. Offre de transport'!KZ51","v":0},{"$f":"'5. Offre de transport'!LA51","v":0},{"$f":"'5. Offre de transport'!LB51","v":0},{"$f":"'5. Offre de transport'!LC51","v":0},{"$f":"'5. Offre de transport'!LD51","v":0},{"$f":"'5. Offre de transport'!LE51","v":0},{"$f":"'5. Offre de transport'!LF51","v":0},{"$f":"'5. Offre de transport'!LG51","v":0},{"$f":"'5. Offre de transport'!LH51","v":0},{"$f":"'5. Offre de transport'!LI51","v":0},{"$f":"'5. Offre de transport'!LJ51","v":0},{"$f":"'5. Offre de transport'!LK51","v":0},{"$f":"'5. Offre de transport'!LL51","v":0},{"$f":"'5. Offre de transport'!LM51","v":0},{"$f":"'5. Offre de transport'!LN51","v":0},{"$f":"'5. Offre de transport'!LO51","v":0},{"$f":"'5. Offre de transport'!LP51","v":0},{"$f":"'5. Offre de transport'!LQ51","v":0},{"$f":"'5. Offre de transport'!LR51","v":0},{"$f":"'5. Offre de transport'!LS51","v":0},{"$f":"'5. Offre de transport'!LT51","v":0},{"$f":"'5. Offre de transport'!LU51","v":0},{"$f":"'5. Offre de transport'!LV51","v":0},{"$f":"'5. Offre de transport'!LW51","v":0},{"$f":"'5. Offre de transport'!LX51","v":0},{"$f":"'5. Offre de transport'!LY51","v":0},{"$f":"'5. Offre de transport'!LZ51","v":0},{"$f":"'5. Offre de transport'!MA51","v":0},{"$f":"'5. Offre de transport'!MB51","v":0},{"$f":"'5. Offre de transport'!MC51","v":0},{"$f":"'5. Offre de transport'!MD51","v":0},{"$f":"'5. Offre de transport'!ME51","v":0},{"$f":"'5. Offre de transport'!MF51","v":0},{"$f":"'5. Offre de transport'!MG51","v":0},{"$f":"'5. Offre de transport'!MH51","v":0},{"$f":"'5. Offre de transport'!MI51","v":0},{"$f":"'5. Offre de transport'!MJ51","v":0},{"$f":"'5. Offre de transport'!MK51","v":0},{"$f":"'5. Offre de transport'!ML51","v":0},{"$f":"'5. Offre de transport'!MM51","v":0},{"$f":"'5. Offre de transport'!MN51","v":0},{"$f":"'5. Offre de transport'!MO51","v":0},{"$f":"'5. Offre de transport'!MP51","v":0},{"$f":"'5. Offre de transport'!MQ51","v":0},{"$f":"'5. Offre de transport'!MR51","v":0},{"$f":"'5. Offre de transport'!MS51","v":0},{"$f":"'5. Offre de transport'!MT51","v":0},{"$f":"'5. Offre de transport'!MU51","v":0},{"$f":"'5. Offre de transport'!MV51","v":0},{"$f":"'5. Offre de transport'!MW51","v":0},{"$f":"'5. Offre de transport'!MX51","v":0},{"$f":"'5. Offre de transport'!MY51","v":0},{"$f":"'5. Offre de transport'!MZ51","v":0}]
[null,{"$f":"'5. Offre de transport'!B52","v":"Service conventionné ?\n(Oui/Non)"},{"$f":"'5. Offre de transport'!C52","v":0},{"$f":"'5. Offre de transport'!D52","v":0},{"$f":"'5. Offre de transport'!E52","v":0},{"$f":"'5. Offre de transport'!F52","v":0},{"$f":"'5. Offre de transport'!G52","v":0},{"$f":"'5. Offre de transport'!H52","v":0},{"$f":"'5. Offre de transport'!I52","v":0},{"$f":"'5. Offre de transport'!J52","v":0},{"$f":"'5. Offre de transport'!K52","v":0},{"$f":"'5. Offre de transport'!L52","v":0},{"$f":"'5. Offre de transport'!M52","v":0},{"$f":"'5. Offre de transport'!N52","v":0},{"$f":"'5. Offre de transport'!O52","v":0},{"$f":"'5. Offre de transport'!P52","v":0},{"$f":"'5. Offre de transport'!Q52","v":0},{"$f":"'5. Offre de transport'!R52","v":0},{"$f":"'5. Offre de transport'!S52","v":0},{"$f":"'5. Offre de transport'!T52","v":0},{"$f":"'5. Offre de transport'!U52","v":0},{"$f":"'5. Offre de transport'!V52","v":0},{"$f":"'5. Offre de transport'!W52","v":0},{"$f":"'5. Offre de transport'!X52","v":0},{"$f":"'5. Offre de transport'!Y52","v":0},{"$f":"'5. Offre de transport'!Z52","v":0},{"$f":"'5. Offre de transport'!AA52","v":0},{"$f":"'5. Offre de transport'!AB52","v":0},{"$f":"'5. Offre de transport'!AC52","v":0},{"$f":"'5. Offre de transport'!AD52","v":0},{"$f":"'5. Offre de transport'!AE52","v":0},{"$f":"'5. Offre de transport'!AF52","v":0},{"$f":"'5. Offre de transport'!AG52","v":0},{"$f":"'5. Offre de transport'!AH52","v":0},{"$f":"'5. Offre de transport'!AI52","v":0},{"$f":"'5. Offre de transport'!AJ52","v":0},{"$f":"'5. Offre de transport'!AK52","v":0},{"$f":"'5. Offre de transport'!AL52","v":0},{"$f":"'5. Offre de transport'!AM52","v":0},{"$f":"'5. Offre de transport'!AN52","v":0},{"$f":"'5. Offre de transport'!AO52","v":0},{"$f":"'5. Offre de transport'!AP52","v":0},{"$f":"'5. Offre de transport'!AQ52","v":0},{"$f":"'5. Offre de transport'!AR52","v":0},{"$f":"'5. Offre de transport'!AS52","v":0},{"$f":"'5. Offre de transport'!AT52","v":0},{"$f":"'5. Offre de transport'!AU52","v":0},{"$f":"'5. Offre de transport'!AV52","v":0},{"$f":"'5. Offre de transport'!AW52","v":0},{"$f":"'5. Offre de transport'!AX52","v":0},{"$f":"'5. Offre de transport'!AY52","v":0},{"$f":"'5. Offre de transport'!AZ52","v":0},{"$f":"'5. Offre de transport'!BA52","v":0},{"$f":"'5. Offre de transport'!BB52","v":0},{"$f":"'5. Offre de transport'!BC52","v":0},{"$f":"'5. Offre de transport'!BD52","v":0},{"$f":"'5. Offre de transport'!BE52","v":0},{"$f":"'5. Offre de transport'!BF52","v":0},{"$f":"'5. Offre de transport'!BG52","v":0},{"$f":"'5. Offre de transport'!BH52","v":0},{"$f":"'5. Offre de transport'!BI52","v":0},{"$f":"'5. Offre de transport'!BJ52","v":0},{"$f":"'5. Offre de transport'!BK52","v":0},{"$f":"'5. Offre de transport'!BL52","v":0},{"$f":"'5. Offre de transport'!BM52","v":0},{"$f":"'5. Offre de transport'!BN52","v":0},{"$f":"'5. Offre de transport'!BO52","v":0},{"$f":"'5. Offre de transport'!BP52","v":0},{"$f":"'5. Offre de transport'!BQ52","v":0},{"$f":"'5. Offre de transport'!BR52","v":0},{"$f":"'5. Offre de transport'!BS52","v":0},{"$f":"'5. Offre de transport'!BT52","v":0},{"$f":"'5. Offre de transport'!BU52","v":0},{"$f":"'5. Offre de transport'!BV52","v":0},{"$f":"'5. Offre de transport'!BW52","v":0},{"$f":"'5. Offre de transport'!BX52","v":0},{"$f":"'5. Offre de transport'!BY52","v":0},{"$f":"'5. Offre de transport'!BZ52","v":0},{"$f":"'5. Offre de transport'!CA52","v":0},{"$f":"'5. Offre de transport'!CB52","v":0},{"$f":"'5. Offre de transport'!CC52","v":0},{"$f":"'5. Offre de transport'!CD52","v":0},{"$f":"'5. Offre de transport'!CE52","v":0},{"$f":"'5. Offre de transport'!CF52","v":0},{"$f":"'5. Offre de transport'!CG52","v":0},{"$f":"'5. Offre de transport'!CH52","v":0},{"$f":"'5. Offre de transport'!CI52","v":0},{"$f":"'5. Offre de transport'!CJ52","v":0},{"$f":"'5. Offre de transport'!CK52","v":0},{"$f":"'5. Offre de transport'!CL52","v":0},{"$f":"'5. Offre de transport'!CM52","v":0},{"$f":"'5. Offre de transport'!CN52","v":0},{"$f":"'5. Offre de transport'!CO52","v":0},{"$f":"'5. Offre de transport'!CP52","v":0},{"$f":"'5. Offre de transport'!CQ52","v":0},{"$f":"'5. Offre de transport'!CR52","v":0},{"$f":"'5. Offre de transport'!CS52","v":0},{"$f":"'5. Offre de transport'!CT52","v":0},{"$f":"'5. Offre de transport'!CU52","v":0},{"$f":"'5. Offre de transport'!CV52","v":0},{"$f":"'5. Offre de transport'!CW52","v":0},{"$f":"'5. Offre de transport'!CX52","v":0},{"$f":"'5. Offre de transport'!CY52","v":0},{"$f":"'5. Offre de transport'!CZ52","v":0},{"$f":"'5. Offre de transport'!DA52","v":0},{"$f":"'5. Offre de transport'!DB52","v":0},{"$f":"'5. Offre de transport'!DC52","v":0},{"$f":"'5. Offre de transport'!DD52","v":0},{"$f":"'5. Offre de transport'!DE52","v":0},{"$f":"'5. Offre de transport'!DF52","v":0},{"$f":"'5. Offre de transport'!DG52","v":0},{"$f":"'5. Offre de transport'!DH52","v":0},{"$f":"'5. Offre de transport'!DI52","v":0},{"$f":"'5. Offre de transport'!DJ52","v":0},{"$f":"'5. Offre de transport'!DK52","v":0},{"$f":"'5. Offre de transport'!DL52","v":0},{"$f":"'5. Offre de transport'!DM52","v":0},{"$f":"'5. Offre de transport'!DN52","v":0},{"$f":"'5. Offre de transport'!DO52","v":0},{"$f":"'5. Offre de transport'!DP52","v":0},{"$f":"'5. Offre de transport'!DQ52","v":0},{"$f":"'5. Offre de transport'!DR52","v":0},{"$f":"'5. Offre de transport'!DS52","v":0},{"$f":"'5. Offre de transport'!DT52","v":0},{"$f":"'5. Offre de transport'!DU52","v":0},{"$f":"'5. Offre de transport'!DV52","v":0},{"$f":"'5. Offre de transport'!DW52","v":0},{"$f":"'5. Offre de transport'!DX52","v":0},{"$f":"'5. Offre de transport'!DY52","v":0},{"$f":"'5. Offre de transport'!DZ52","v":0},{"$f":"'5. Offre de transport'!EA52","v":0},{"$f":"'5. Offre de transport'!EB52","v":0},{"$f":"'5. Offre de transport'!EC52","v":0},{"$f":"'5. Offre de transport'!ED52","v":0},{"$f":"'5. Offre de transport'!EE52","v":0},{"$f":"'5. Offre de transport'!EF52","v":0},{"$f":"'5. Offre de transport'!EG52","v":0},{"$f":"'5. Offre de transport'!EH52","v":0},{"$f":"'5. Offre de transport'!EI52","v":0},{"$f":"'5. Offre de transport'!EJ52","v":0},{"$f":"'5. Offre de transport'!EK52","v":0},{"$f":"'5. Offre de transport'!EL52","v":0},{"$f":"'5. Offre de transport'!EM52","v":0},{"$f":"'5. Offre de transport'!EN52","v":0},{"$f":"'5. Offre de transport'!EO52","v":0},{"$f":"'5. Offre de transport'!EP52","v":0},{"$f":"'5. Offre de transport'!EQ52","v":0},{"$f":"'5. Offre de transport'!ER52","v":0},{"$f":"'5. Offre de transport'!ES52","v":0},{"$f":"'5. Offre de transport'!ET52","v":0},{"$f":"'5. Offre de transport'!EU52","v":0},{"$f":"'5. Offre de transport'!EV52","v":0},{"$f":"'5. Offre de transport'!EW52","v":0},{"$f":"'5. Offre de transport'!EX52","v":0},{"$f":"'5. Offre de transport'!EY52","v":0},{"$f":"'5. Offre de transport'!EZ52","v":0},{"$f":"'5. Offre de transport'!FA52","v":0},{"$f":"'5. Offre de transport'!FB52","v":0},{"$f":"'5. Offre de transport'!FC52","v":0},{"$f":"'5. Offre de transport'!FD52","v":0},{"$f":"'5. Offre de transport'!FE52","v":0},{"$f":"'5. Offre de transport'!FF52","v":0},{"$f":"'5. Offre de transport'!FG52","v":0},{"$f":"'5. Offre de transport'!FH52","v":0},{"$f":"'5. Offre de transport'!FI52","v":0},{"$f":"'5. Offre de transport'!FJ52","v":0},{"$f":"'5. Offre de transport'!FK52","v":0},{"$f":"'5. Offre de transport'!FL52","v":0},{"$f":"'5. Offre de transport'!FM52","v":0},{"$f":"'5. Offre de transport'!FN52","v":0},{"$f":"'5. Offre de transport'!FO52","v":0},{"$f":"'5. Offre de transport'!FP52","v":0},{"$f":"'5. Offre de transport'!FQ52","v":0},{"$f":"'5. Offre de transport'!FR52","v":0},{"$f":"'5. Offre de transport'!FS52","v":0},{"$f":"'5. Offre de transport'!FT52","v":0},{"$f":"'5. Offre de transport'!FU52","v":0},{"$f":"'5. Offre de transport'!FV52","v":0},{"$f":"'5. Offre de transport'!FW52","v":0},{"$f":"'5. Offre de transport'!FX52","v":0},{"$f":"'5. Offre de transport'!FY52","v":0},{"$f":"'5. Offre de transport'!FZ52","v":0},{"$f":"'5. Offre de transport'!GA52","v":0},{"$f":"'5. Offre de transport'!GB52","v":0},{"$f":"'5. Offre de transport'!GC52","v":0},{"$f":"'5. Offre de transport'!GD52","v":0},{"$f":"'5. Offre de transport'!GE52","v":0},{"$f":"'5. Offre de transport'!GF52","v":0},{"$f":"'5. Offre de transport'!GG52","v":0},{"$f":"'5. Offre de transport'!GH52","v":0},{"$f":"'5. Offre de transport'!GI52","v":0},{"$f":"'5. Offre de transport'!GJ52","v":0},{"$f":"'5. Offre de transport'!GK52","v":0},{"$f":"'5. Offre de transport'!GL52","v":0},{"$f":"'5. Offre de transport'!GM52","v":0},{"$f":"'5. Offre de transport'!GN52","v":0},{"$f":"'5. Offre de transport'!GO52","v":0},{"$f":"'5. Offre de transport'!GP52","v":0},{"$f":"'5. Offre de transport'!GQ52","v":0},{"$f":"'5. Offre de transport'!GR52","v":0},{"$f":"'5. Offre de transport'!GS52","v":0},{"$f":"'5. Offre de transport'!GT52","v":0},{"$f":"'5. Offre de transport'!GU52","v":0},{"$f":"'5. Offre de transport'!GV52","v":0},{"$f":"'5. Offre de transport'!GW52","v":0},{"$f":"'5. Offre de transport'!GX52","v":0},{"$f":"'5. Offre de transport'!GY52","v":0},{"$f":"'5. Offre de transport'!GZ52","v":0},{"$f":"'5. Offre de transport'!HA52","v":0},{"$f":"'5. Offre de transport'!HB52","v":0},{"$f":"'5. Offre de transport'!HC52","v":0},{"$f":"'5. Offre de transport'!HD52","v":0},{"$f":"'5. Offre de transport'!HE52","v":0},{"$f":"'5. Offre de transport'!HF52","v":0},{"$f":"'5. Offre de transport'!HG52","v":0},{"$f":"'5. Offre de transport'!HH52","v":0},{"$f":"'5. Offre de transport'!HI52","v":0},{"$f":"'5. Offre de transport'!HJ52","v":0},{"$f":"'5. Offre de transport'!HK52","v":0},{"$f":"'5. Offre de transport'!HL52","v":0},{"$f":"'5. Offre de transport'!HM52","v":0},{"$f":"'5. Offre de transport'!HN52","v":0},{"$f":"'5. Offre de transport'!HO52","v":0},{"$f":"'5. Offre de transport'!HP52","v":0},{"$f":"'5. Offre de transport'!HQ52","v":0},{"$f":"'5. Offre de transport'!HR52","v":0},{"$f":"'5. Offre de transport'!HS52","v":0},{"$f":"'5. Offre de transport'!HT52","v":0},{"$f":"'5. Offre de transport'!HU52","v":0},{"$f":"'5. Offre de transport'!HV52","v":0},{"$f":"'5. Offre de transport'!HW52","v":0},{"$f":"'5. Offre de transport'!HX52","v":0},{"$f":"'5. Offre de transport'!HY52","v":0},{"$f":"'5. Offre de transport'!HZ52","v":0},{"$f":"'5. Offre de transport'!IA52","v":0},{"$f":"'5. Offre de transport'!IB52","v":0},{"$f":"'5. Offre de transport'!IC52","v":0},{"$f":"'5. Offre de transport'!ID52","v":0},{"$f":"'5. Offre de transport'!IE52","v":0},{"$f":"'5. Offre de transport'!IF52","v":0},{"$f":"'5. Offre de transport'!IG52","v":0},{"$f":"'5. Offre de transport'!IH52","v":0},{"$f":"'5. Offre de transport'!II52","v":0},{"$f":"'5. Offre de transport'!IJ52","v":0},{"$f":"'5. Offre de transport'!IK52","v":0},{"$f":"'5. Offre de transport'!IL52","v":0},{"$f":"'5. Offre de transport'!IM52","v":0},{"$f":"'5. Offre de transport'!IN52","v":0},{"$f":"'5. Offre de transport'!IO52","v":0},{"$f":"'5. Offre de transport'!IP52","v":0},{"$f":"'5. Offre de transport'!IQ52","v":0},{"$f":"'5. Offre de transport'!IR52","v":0},{"$f":"'5. Offre de transport'!IS52","v":0},{"$f":"'5. Offre de transport'!IT52","v":0},{"$f":"'5. Offre de transport'!IU52","v":0},{"$f":"'5. Offre de transport'!IV52","v":0},{"$f":"'5. Offre de transport'!IW52","v":0},{"$f":"'5. Offre de transport'!IX52","v":0},{"$f":"'5. Offre de transport'!IY52","v":0},{"$f":"'5. Offre de transport'!IZ52","v":0},{"$f":"'5. Offre de transport'!JA52","v":0},{"$f":"'5. Offre de transport'!JB52","v":0},{"$f":"'5. Offre de transport'!JC52","v":0},{"$f":"'5. Offre de transport'!JD52","v":0},{"$f":"'5. Offre de transport'!JE52","v":0},{"$f":"'5. Offre de transport'!JF52","v":0},{"$f":"'5. Offre de transport'!JG52","v":0},{"$f":"'5. Offre de transport'!JH52","v":0},{"$f":"'5. Offre de transport'!JI52","v":0},{"$f":"'5. Offre de transport'!JJ52","v":0},{"$f":"'5. Offre de transport'!JK52","v":0},{"$f":"'5. Offre de transport'!JL52","v":0},{"$f":"'5. Offre de transport'!JM52","v":0},{"$f":"'5. Offre de transport'!JN52","v":0},{"$f":"'5. Offre de transport'!JO52","v":0},{"$f":"'5. Offre de transport'!JP52","v":0},{"$f":"'5. Offre de transport'!JQ52","v":0},{"$f":"'5. Offre de transport'!JR52","v":0},{"$f":"'5. Offre de transport'!JS52","v":0},{"$f":"'5. Offre de transport'!JT52","v":0},{"$f":"'5. Offre de transport'!JU52","v":0},{"$f":"'5. Offre de transport'!JV52","v":0},{"$f":"'5. Offre de transport'!JW52","v":0},{"$f":"'5. Offre de transport'!JX52","v":0},{"$f":"'5. Offre de transport'!JY52","v":0},{"$f":"'5. Offre de transport'!JZ52","v":0},{"$f":"'5. Offre de transport'!KA52","v":0},{"$f":"'5. Offre de transport'!KB52","v":0},{"$f":"'5. Offre de transport'!KC52","v":0},{"$f":"'5. Offre de transport'!KD52","v":0},{"$f":"'5. Offre de transport'!KE52","v":0},{"$f":"'5. Offre de transport'!KF52","v":0},{"$f":"'5. Offre de transport'!KG52","v":0},{"$f":"'5. Offre de transport'!KH52","v":0},{"$f":"'5. Offre de transport'!KI52","v":0},{"$f":"'5. Offre de transport'!KJ52","v":0},{"$f":"'5. Offre de transport'!KK52","v":0},{"$f":"'5. Offre de transport'!KL52","v":0},{"$f":"'5. Offre de transport'!KM52","v":0},{"$f":"'5. Offre de transport'!KN52","v":0},{"$f":"'5. Offre de transport'!KO52","v":0},{"$f":"'5. Offre de transport'!KP52","v":0},{"$f":"'5. Offre de transport'!KQ52","v":0},{"$f":"'5. Offre de transport'!KR52","v":0},{"$f":"'5. Offre de transport'!KS52","v":0},{"$f":"'5. Offre de transport'!KT52","v":0},{"$f":"'5. Offre de transport'!KU52","v":0},{"$f":"'5. Offre de transport'!KV52","v":0},{"$f":"'5. Offre de transport'!KW52","v":0},{"$f":"'5. Offre de transport'!KX52","v":0},{"$f":"'5. Offre de transport'!KY52","v":0},{"$f":"'5. Offre de transport'!KZ52","v":0},{"$f":"'5. Offre de transport'!LA52","v":0},{"$f":"'5. Offre de transport'!LB52","v":0},{"$f":"'5. Offre de transport'!LC52","v":0},{"$f":"'5. Offre de transport'!LD52","v":0},{"$f":"'5. Offre de transport'!LE52","v":0},{"$f":"'5. Offre de transport'!LF52","v":0},{"$f":"'5. Offre de transport'!LG52","v":0},{"$f":"'5. Offre de transport'!LH52","v":0},{"$f":"'5. Offre de transport'!LI52","v":0},{"$f":"'5. Offre de transport'!LJ52","v":0},{"$f":"'5. Offre de transport'!LK52","v":0},{"$f":"'5. Offre de transport'!LL52","v":0},{"$f":"'5. Offre de transport'!LM52","v":0},{"$f":"'5. Offre de transport'!LN52","v":0},{"$f":"'5. Offre de transport'!LO52","v":0},{"$f":"'5. Offre de transport'!LP52","v":0},{"$f":"'5. Offre de transport'!LQ52","v":0},{"$f":"'5. Offre de transport'!LR52","v":0},{"$f":"'5. Offre de transport'!LS52","v":0},{"$f":"'5. Offre de transport'!LT52","v":0},{"$f":"'5. Offre de transport'!LU52","v":0},{"$f":"'5. Offre de transport'!LV52","v":0},{"$f":"'5. Offre de transport'!LW52","v":0},{"$f":"'5. Offre de transport'!LX52","v":0},{"$f":"'5. Offre de transport'!LY52","v":0},{"$f":"'5. Offre de transport'!LZ52","v":0},{"$f":"'5. Offre de transport'!MA52","v":0},{"$f":"'5. Offre de transport'!MB52","v":0},{"$f":"'5. Offre de transport'!MC52","v":0},{"$f":"'5. Offre de transport'!MD52","v":0},{"$f":"'5. Offre de transport'!ME52","v":0},{"$f":"'5. Offre de transport'!MF52","v":0},{"$f":"'5. Offre de transport'!MG52","v":0},{"$f":"'5. Offre de transport'!MH52","v":0},{"$f":"'5. Offre de transport'!MI52","v":0},{"$f":"'5. Offre de transport'!MJ52","v":0},{"$f":"'5. Offre de transport'!MK52","v":0},{"$f":"'5. Offre de transport'!ML52","v":0},{"$f":"'5. Offre de transport'!MM52","v":0},{"$f":"'5. Offre de transport'!MN52","v":0},{"$f":"'5. Offre de transport'!MO52","v":0},{"$f":"'5. Offre de transport'!MP52","v":0},{"$f":"'5. Offre de transport'!MQ52","v":0},{"$f":"'5. Offre de transport'!MR52","v":0},{"$f":"'5. Offre de transport'!MS52","v":0},{"$f":"'5. Offre de transport'!MT52","v":0},{"$f":"'5. Offre de transport'!MU52","v":0},{"$f":"'5. Offre de transport'!MV52","v":0},{"$f":"'5. Offre de transport'!MW52","v":0},{"$f":"'5. Offre de transport'!MX52","v":0},{"$f":"'5. Offre de transport'!MY52","v":0},{"$f":"'5. Offre de transport'!MZ52","v":0}]
[]
[null,"O",{"$f":"IF(C3<>0,C3,\"\")","v":"Ville/Arrêt  0"},{"$f":"IF(D3<>0,D3,\"\")","v":"Ville/Arrêt  0"},"","","","","","","","","","","","","","","","","","","","","","","","","","","","","","","","","","","","","","","","","","","","","","","","","","","","","","","","","","","","","","","",{"$f":"IF(BP3<>0,BP3,\"\")","v":""},"","","","","","","","","","","","","","","","","","","","","","","","","","","","","","","","","","","","","","","","","","","","","","","","","","","","","","","","","","","","","","","",{"$f":"IF(EB3<>0,EB3,\"\")","v":""},"","","","","","","","","","","","","","","","","","","","","","","","","","","","","","","","","","","","","","","","","","","","","","","","","","","","","","","","","","","","","","","",{"$f":"IF(GN3<>0,GN3,\"\")","v":""},"","","","","","","","","","","","","","","","","","","","","","","","","","","","","","","","","","","","","","","","","","","","","","","","","","","","","","","","","","","","","","","",{"$f":"IF(IZ3<>0,IZ3,\"\")","v":""},"","","","","","","","","","","","","","","","","","","","","","","","","","","","","","","","","","","","","","","","","","","","","","","","","","","","","","","","","","","","","","","",{"$f":"IF(LL3<>0,LL3,\"\")","v":""},"","","","","","","","","","","","","","","","","","","","","","","","","","","","","","","","","","","","","","","",""]
[null,"D",{"$f":"IF(C39=\"\",\"\",IF(31-SUMPRODUCT((C4:C33=0)*1)=0,C33,INDEX(C3:C33,31-SUMPRODUCT((C4:C33=0)*1),1)))","v":"Ville/Arrêt  6"},{"$f":"IF(D39=\"\",\"\",IF(31-SUMPRODUCT((D4:D33=0)*1)=0,D33,INDEX(D3:D33,31-SUMPRODUCT((D4:D33=0)*1),1)))","v":"Ville/Arrêt  4"},"","","","","","","","","","","","","","","","","","","","","","","","","","","","","","","","","","","","","","","","","","","","","","","","","","","","","","","","","","","","","","","",{"$f":"IF(BP39=\"\",\"\",IF(31-SUMPRODUCT((BP4:BP33=0)*1)=0,BP33,INDEX(BP3:BP33,31-SUMPRODUCT((BP4:BP33=0)*1),1)))","v":""},"","","","","","","","","","","","","","","","","","","","","","","","","","","","","","","","","","","","","","","","","","","","","","","","","","","","","","","","","","","","","","","",{"$f":"IF(EB39=\"\",\"\",IF(31-SUMPRODUCT((EB4:EB33=0)*1)=0,EB33,INDEX(EB3:EB33,31-SUMPRODUCT((EB4:EB33=0)*1),1)))","v":""},"","","","","","","","","","","","","","","","","","","","","","","","","","","","","","","","","","","","","","","","","","","","","","","","","","","","","","","","","","","","","","","",{"$f":"IF(GN39=\"\",\"\",IF(31-SUMPRODUCT((GN4:GN33=0)*1)=0,GN33,INDEX(GN3:GN33,31-SUMPRODUCT((GN4:GN33=0)*1),1)))","v":""},"","","","","","","","","","","","","","","","","","","","","","","","","","","","","","","","","","","","","","","","","","","","","","","","","","","","","","","","","","","","","","","",{"$f":"IF(IZ39=\"\",\"\",IF(31-SUMPRODUCT((IZ4:IZ33=0)*1)=0,IZ33,INDEX(IZ3:IZ33,31-SUMPRODUCT((IZ4:IZ33=0)*1),1)))","v":""},"","","","","","","","","","","","","","","","","","","","","","","","","","","","","","","","","","","","","","","","","","","","","","","","","","","","","","","","","","","","","","","",{"$f":"IF(LL39=\"\",\"\",IF(31-SUMPRODUCT((LL4:LL33=0)*1)=0,LL33,INDEX(LL3:LL33,31-SUMPRODUCT((LL4:LL33=0)*1),1)))","v":""},"","","","","","","","","","","","","","","","","","","","","","","","","","","","","","","","","","","","","","","",""]
[]
[null,"NB_ligne",{"$f":"COLUMN(MZ3)-COUNTIF(C3:MZ3,0)-2","v":2}]
[null,"NB_arrêt",{"$f":"ROW(C33)-2-COUNTIF(C3:C33,0)","v":7},{"$f":"ROW(D33)-2-COUNTIF(D3:D33,0)","v":5},0,0,0,0,0,0,0,0,0,0,0,0,0,0,0,0,0,0,0,0,0,0,0,0,0,0,0,0,0,0,0,0,0,0,0,0,0,0,0,0,0,0,0,0,0,0,0,0,0,0,0,0,0,0,0,0,0,0,0,0,0,0,0,{"$f":"ROW(BP33)-2-COUNTIF(BP3:BP33,0)","v":0},0,0,0,0,0,0,0,0,0,0,0,0,0,0,0,0,0,0,0,0,0,0,0,0,0,0,0,0,0,0,0,0,0,0,0,0,0,0,0,0,0,0,0,0,0,0,0,0,0,0,0,0,0,0,0,0,0,0,0,0,0,0,0,{"$f":"ROW(EB33)-2-COUNTIF(EB3:EB33,0)","v":0},0,0,0,0,0,0,0,0,0,0,0,0,0,0,0,0,0,0,0,0,0,0,0,0,0,0,0,0,0,0,0,0,0,0,0,0,0,0,0,0,0,0,0,0,0,0,0,0,0,0,0,0,0,0,0,0,0,0,0,0,0,0,0,{"$f":"ROW(GN33)-2-COUNTIF(GN3:GN33,0)","v":0},0,0,0,0,0,0,0,0,0,0,0,0,0,0,0,0,0,0,0,0,0,0,0,0,0,0,0,0,0,0,0,0,0,0,0,0,0,0,0,0,0,0,0,0,0,0,0,0,0,0,0,0,0,0,0,0,0,0,0,0,0,0,0,{"$f":"ROW(IZ33)-2-COUNTIF(IZ3:IZ33,0)","v":0},0,0,0,0,0,0,0,0,0,0,0,0,0,0,0,0,0,0,0,0,0,0,0,0,0,0,0,0,0,0,0,0,0,0,0,0,0,0,0,0,0,0,0,0,0,0,0,0,0,0,0,0,0,0,0,0,0,0,0,0,0,0,0,{"$f":"ROW(LL33)-2-COUNTIF(LL3:LL33,0)","v":0},0,0,0,0,0,0,0,0,0,0,0,0,0,0,0,0,0,0,0,0,0,0,0,0,0,0,0,0,0,0,0,0,0,0,0,0,0,0,0,0]
[null,"NB_liaisons_max",{"$f":"SUMPRODUCT(('5. Offre de transport'!C67:C1048576<>\"\")*1)","v":33}]
[]
[]
[null,"Ligne",{"$f":"ROW('7. Fréquentation'!B30)","v":30}]
[null,"Lignes6",{"$f":"SUMPRODUCT(('6. Qualité service'!C$1:C$3000=\"Ville\")*1)","v":21}]
[null,"Ligne6_Fin",{"$f":"ROW('6. Qualité service'!38:38)","v":38}]
[]
[]
[]
[]
[]
[]
[]
[]
[]
[]
[]
[]
[]
[]
[]
[]
[]
[]
[]
[]
[]
[]
[]
[]
[]
[]
[]
[]
[]
[]
[]
[]
[]
[]
[]
[]
[]
[]
[]
[]
[]
[null,1,21,"Ville/Arrêt  15","Ville/Arrêt  16",null,"JJ/MM/AAAA"]
[null,1,22,"Ville/Arrêt  15","Ville/Arrêt  17",null,"JJ/MM/AAAA"]
[null,1,23,"Ville/Arrêt  15","Ville/Arrêt  18",null,"JJ/MM/AAAA"]
[null,1,24,"Ville/Arrêt  15","Ville/Arrêt  19",null,"JJ/MM/AAAA"]
[null,1,25,"Ville/Arrêt  15","Ville/Arrêt  20",null,"JJ/MM/AAAA"]
[null,1,26,"Ville/Arrêt  15","Ville/Arrêt  21",null,"JJ/MM/AAAA"]
[null,1,27,"Ville/Arrêt  15","Ville/Arrêt  22",null,"JJ/MM/AAAA"]
[null,1,28,"Ville/Arrêt  15","Ville/Arrêt  23",null,"JJ/MM/AAAA"]
[null,1,29,"Ville/Arrêt  15","Ville/Arrêt  24",null,"JJ/MM/AAAA"]
[null,1,30,"Ville/Arrêt  15","Ville/Arrêt  25",null,"JJ/MM/AAAA"]
[null,1,31,"Ville/Arrêt  15","Ville/Arrêt  26",null,"JJ/MM/AAAA"]
[null,1,32,"Ville/Arrêt  15","Ville/Arrêt  27",null,"JJ/MM/AAAA"]
[null,1,33,"Ville/Arrêt  15","Ville/Arrêt  28",null,"JJ/MM/AAAA"]
[null,1,34,"Ville/Arrêt  15","Ville/Arrêt  29",null,"JJ/MM/AAAA"]
[null,1,35,"Ville/Arrêt  15","Ville/Arrêt  30",null,"JJ/MM/AAAA"]
[null,1,36,"Ville/Arrêt  15","…",null,"JJ/MM/AAAA"]
[null,1,37,"Ville/Arrêt  15",0,null,"JJ/MM/AAAA"]
[null,1,38,"Ville/Arrêt  15",1,null,"JJ/MM/AAAA"]
[null,1,39,"Ville/Arrêt  15",0,null,"JJ/MM/AAAA"]
[null,1,40,"Ville/Arrêt  15",null,null,"JJ/MM/AAAA"]
[null,1,41,"Ville/Arrêt  15",7,null,"JJ/MM/AAAA"]
[null,1,42,"Ville/Arrêt  15",31,null,"JJ/MM/AAAA"]
[null,1,43,"Ville/Arrêt  15",21,null,"JJ/MM/AAAA"]
[null,1,44,"Ville/Arrêt  15",null,null,"JJ/MM/AAAA"]
[null,1,45,"Ville/Arrêt  15",null,null,"JJ/MM/AAAA"]
[null,1,46,"Ville/Arrêt  15",null,null,"JJ/MM/AAAA"]
[null,1,47,"Ville/Arrêt  15",null,null,"JJ/MM/AAAA"]
[null,1,48,"Ville/Arrêt  15",null,null,"JJ/MM/AAAA"]
[null,1,49,"Ville/Arrêt  15",null,null,"JJ/MM/AAAA"]
[null,1,50,"Ville/Arrêt  15",null,null,"JJ/MM/AAAA"]
[null,1,51,"Ville/Arrêt  16","Ville/Arrêt  17",null,"JJ/MM/AAAA"]
[null,1,52,"Ville/Arrêt  16","Ville/Arrêt  18",null,"JJ/MM/AAAA"]
[null,1,53,"Ville/Arrêt  16","Ville/Arrêt  19",null,"JJ/MM/AAAA"]
[null,1,54,"Ville/Arrêt  16","Ville/Arrêt  20",null,"JJ/MM/AAAA"]
[null,1,55,"Ville/Arrêt  16","Ville/Arrêt  21",null,"JJ/MM/AAAA"]
[null,1,56,"Ville/Arrêt  16","Ville/Arrêt  22",null,"JJ/MM/AAAA"]
[null,1,57,"Ville/Arrêt  16","Ville/Arrêt  23",null,"JJ/MM/AAAA"]
[null,1,58,"Ville/Arrêt  16","Ville/Arrêt  24",null,"JJ/MM/AAAA"]
[null,1,59,"Ville/Arrêt  16","Ville/Arrêt  25",null,"JJ/MM/AAAA"]
[null,1,60,"Ville/Arrêt  16","Ville/Arrêt  26",null,"JJ/MM/AAAA"]
[null,1,61,"Ville/Arrêt  16","Ville/Arrêt  27",null,"JJ/MM/AAAA"]
[null,1,62,"Ville/Arrêt  16","Ville/Arrêt  28",null,"JJ/MM/AAAA"]
[null,1,63,"Ville/Arrêt  16","Ville/Arrêt  29",null,"JJ/MM/AAAA"]
[null,1,64,"Ville/Arrêt  16","Ville/Arrêt  30",null,"JJ/MM/AAAA"]
[null,1,65,"Ville/Arrêt  16","…",null,"JJ/MM/AAAA"]
[null,1,66,"Ville/Arrêt  16",0,null,"JJ/MM/AAAA"]
[null,1,67,"Ville/Arrêt  16",1,null,"JJ/MM/AAAA"]
[null,1,68,"Ville/Arrêt  16",0,null,"JJ/MM/AAAA"]
[null,1,69,"Ville/Arrêt  16",null,null,"JJ/MM/AAAA"]
[null,1,70,"Ville/Arrêt  16",7,null,"JJ/MM/AAAA"]
[null,1,71,"Ville/Arrêt  16",31,null,"JJ/MM/AAAA"]
[null,1,72,"Ville/Arrêt  16",21,null,"JJ/MM/AAAA"]
[null,1,73,"Ville/Arrêt  16",null,null,"JJ/MM/AAAA"]
[null,1,74,"Ville/Arrêt  16",null,null,"JJ/MM/AAAA"]
[null,1,75,"Ville/Arrêt  16",null,null,"JJ/MM/AAAA"]
[null,1,76,"Ville/Arrêt  16",null,null,"JJ/MM/AAAA"]
[null,1,77,"Ville/Arrêt  16",null,null,"JJ/MM/AAAA"]
[null,1,78,"Ville/Arrêt  16",null,null,"JJ/MM/AAAA"]
[null,1,79,"Ville/Arrêt  16",null,null,"JJ/MM/AAAA"]
[null,1,80,"Ville/Arrêt  17","Ville/Arrêt  18",null,"JJ/MM/AAAA"]
[null,1,81,"Ville/Arrêt  17","Ville/Arrêt  19",null,"JJ/MM/AAAA"]
[null,1,82,"Ville/Arrêt  17","Ville/Arrêt  20",null,"JJ/MM/AAAA"]
[null,1,83,"Ville/Arrêt  17","Ville/Arrêt  21",null,"JJ/MM/AAAA"]
[null,1,84,"Ville/Arrêt  17","Ville/Arrêt  22",null,"JJ/MM/AAAA"]
[null,1,85,"Ville/Arrêt  17","Ville/Arrêt  23",null,"JJ/MM/AAAA"]
[null,1,86,"Ville/Arrêt  17","Ville/Arrêt  24",null,"JJ/MM/AAAA"]
[null,1,87,"Ville/Arrêt  17","Ville/Arrêt  25",null,"JJ/MM/AAAA"]
[null,1,88,"Ville/Arrêt  17","Ville/Arrêt  26",null,"JJ/MM/AAAA"]
[null,1,89,"Ville/Arrêt  17","Ville/Arrêt  27",null,"JJ/MM/AAAA"]
[null,1,90,"Ville/Arrêt  17","Ville/Arrêt  28",null,"JJ/MM/AAAA"]
[null,1,91,"Ville/Arrêt  17","Ville/Arrêt  29",null,"JJ/MM/AAAA"]
[null,1,92,"Ville/Arrêt  17","Ville/Arrêt  30",null,"JJ/MM/AAAA"]
[null,1,93,"Ville/Arrêt  17","…",null,"JJ/MM/AAAA"]
[null,1,94,"Ville/Arrêt  17",0,null,"JJ/MM/AAAA"]
[null,1,95,"Ville/Arrêt  17",1,null,"JJ/MM/AAAA"]
[null,1,96,"Ville/Arrêt  17",0,null,"JJ/MM/AAAA"]
[null,1,97,"Ville/Arrêt  17",null,null,"JJ/MM/AAAA"]
[null,1,98,"Ville/Arrêt  17",7,null,"JJ/MM/AAAA"]
[null,1,99,"Ville/Arrêt  17",31,null,"JJ/MM/AAAA"]
[null,1,100,"Ville/Arrêt  17",21,null,"JJ/MM/AAAA"]
[null,1,101,"Ville/Arrêt  17",null,null,"JJ/MM/AAAA"]
[null,1,102,"Ville/Arrêt  17",null,null,"JJ/MM/AAAA"]
[null,1,103,"Ville/Arrêt  17",null,null,"JJ/MM/AAAA"]
[null,1,104,"Ville/Arrêt  17",null,null,"JJ/MM/AAAA"]
[null,1,105,"Ville/Arrêt  17",null,null,"JJ/MM/AAAA"]
[null,1,106,"Ville/Arrêt  17",null,null,"JJ/MM/AAAA"]
[null,1,107,"Ville/Arrêt  17",null,null,"JJ/MM/AAAA"]
[null,1,108,"Ville/Arrêt  18","Ville/Arrêt  19",null,"JJ/MM/AAAA"]
[null,1,109,"Ville/Arrêt  18","Ville/Arrêt  20",null,"JJ/MM/AAAA"]
[null,1,110,"Ville/Arrêt  18","Ville/Arrêt  21",null,"JJ/MM/AAAA"]
[null,1,111,"Ville/Arrêt  18","Ville/Arrêt  22",null,"JJ/MM/AAAA"]
[null,1,112,"Ville/Arrêt  18","Ville/Arrêt  23",null,"JJ/MM/AAAA"]
[null,1,113,"Ville/Arrêt  18","Ville/Arrêt  24",null,"JJ/MM/AAAA"]
[null,1,114,"Ville/Arrêt  18","Ville/Arrêt  25",null,"JJ/MM/AAAA"]
[null,1,115,"Ville/Arrêt  18","Ville/Arrêt  26",null,"JJ/MM/AAAA"]
[null,1,116,"Ville/Arrêt  18","Ville/Arrêt  27",null,"JJ/MM/AAAA"]
[null,1,117,"Ville/Arrêt  18","Ville/Arrêt  28",null,"JJ/MM/AAAA"]
[null,1,118,"Ville/Arrêt  18","Ville/Arrêt  29",null,"JJ/MM/AAAA"]
[null,1,119,"Ville/Arrêt  18","Ville/Arrêt  30",null,"JJ/MM/AAAA"]
[null,1,120,"Ville/Arrêt  18","…",null,"JJ/MM/AAAA"]
[null,1,121,"Ville/Arrêt  18",0,null,"JJ/MM/AAAA"]
[null,1,122,"Ville/Arrêt  18",1,null,"JJ/MM/AAAA"]
[null,1,123,"Ville/Arrêt  18",0,null,"JJ/MM/AAAA"]
[null,1,124,"Ville/Arrêt  18",null,null,"JJ/MM/AAAA"]
[null,1,125,"Ville/Arrêt  18",7,null,"JJ/MM/AAAA"]
[null,1,126,"Ville/Arrêt  18",31,null,"JJ/MM/AAAA"]
[null,1,127,"Ville/Arrêt  18",21,null,"JJ/MM/AAAA"]
[null,1,128,"Ville/Arrêt  18",null,null,"JJ/MM/AAAA"]
[null,1,129,"Ville/Arrêt  18",null,null,"JJ/MM/AAAA"]
[null,1,130,"Ville/Arrêt  18",null,null,"JJ/MM/AAAA"]
[null,1,131,"Ville/Arrêt  18",null,null,"JJ/MM/AAAA"]
[null,1,132,"Ville/Arrêt  18",null,null,"JJ/MM/AAAA"]
[null,1,133,"Ville/Arrêt  18",null,null,"JJ/MM/AAAA"]
[null,1,134,"Ville/Arrêt  18",null,null,"JJ/MM/AAAA"]
[null,1,135,"Ville/Arrêt  19","Ville/Arrêt  20",null,"JJ/MM/AAAA"]
[null,1,136,"Ville/Arrêt  19","Ville/Arrêt  21",null,"JJ/MM/AAAA"]
[null,1,137,"Ville/Arrêt  19","Ville/Arrêt  22",null,"JJ/MM/AAAA"]
[null,1,138,"Ville/Arrêt  19","Ville/Arrêt  23",null,"JJ/MM/AAAA"]
[null,1,139,"Ville/Arrêt  19","Ville/Arrêt  24",null,"JJ/MM/AAAA"]
[null,1,140,"Ville/Arrêt  19","Ville/Arrêt  25",null,"JJ/MM/AAAA"]
[null,1,141,"Ville/Arrêt  19","Ville/Arrêt  26",null,"JJ/MM/AAAA"]
[null,1,142,"Ville/Arrêt  19","Ville/Arrêt  27",null,"JJ/MM/AAAA"]
[null,1,143,"Ville/Arrêt  19","Ville/Arrêt  28",null,"JJ/MM/AAAA"]
[null,1,144,"Ville/Arrêt  19","Ville/Arrêt  29",null,"JJ/MM/AAAA"]
[null,1,145,"Ville/Arrêt  19","Ville/Arrêt  30",null,"JJ/MM/AAAA"]
[null,1,146,"Ville/Arrêt  19","…",null,"JJ/MM/AAAA"]
[null,1,147,"Ville/Arrêt  19",0,null,"JJ/MM/AAAA"]
[null,1,148,"Ville/Arrêt  19",1,null,"JJ/MM/AAAA"]
[null,1,149,"Ville/Arrêt  19",0,null,"JJ/MM/AAAA"]
[null,1,150,"Ville/Arrêt  19",null,null,"JJ/MM/AAAA"]
[null,1,151,"Ville/Arrêt  19",7,null,"JJ/MM/AAAA"]
[null,1,152,"Ville/Arrêt  19",31,null,"JJ/MM/AAAA"]
[null,1,153,"Ville/Arrêt  19",21,null,"JJ/MM/AAAA"]
[null,1,154,"Ville/Arrêt  19",null,null,"JJ/MM/AAAA"]
[null,1,155,"Ville/Arrêt  19",null,null,"JJ/MM/AAAA"]
[null,1,156,"Ville/Arrêt  19",null,null,"JJ/MM/AAAA"]
[null,1,157,"Ville/Arrêt  19",null,null,"JJ/MM/AAAA"]
[null,1,158,"Ville/Arrêt  19",null,null,"JJ/MM/AAAA"]
[null,1,159,"Ville/Arrêt  19",null,null,"JJ/MM/AAAA"]
[null,1,160,"Ville/Arrêt  19",null,null,"JJ/MM/AAAA"]
[null,1,161,"Ville/Arrêt  20","Ville/Arrêt  21",null,"JJ/MM/AAAA"]
[null,1,162,"Ville/Arrêt  20","Ville/Arrêt  22",null,"JJ/MM/AAAA"]
[null,1,163,"Ville/Arrêt  20","Ville/Arrêt  23",null,"JJ/MM/AAAA"]
[null,1,164,"Ville/Arrêt  20","Ville/Arrêt  24",null,"JJ/MM/AAAA"]
[null,1,165,"Ville/Arrêt  20","Ville/Arrêt  25",null,"JJ/MM/AAAA"]
[null,1,166,"Ville/Arrêt  20","Ville/Arrêt  26",null,"JJ/MM/AAAA"]
[null,1,167,"Ville/Arrêt  20","Ville/Arrêt  27",null,"JJ/MM/AAAA"]
[null,1,168,"Ville/Arrêt  20","Ville/Arrêt  28",null,"JJ/MM/AAAA"]
[null,1,169,"Ville/Arrêt  20","Ville/Arrêt  29",null,"JJ/MM/AAAA"]
[null,1,170,"Ville/Arrêt  20","Ville/Arrêt  30",null,"JJ/MM/AAAA"]
[null,1,171,"Ville/Arrêt  20","…",null,"JJ/MM/AAAA"]
[null,1,172,"Ville/Arrêt  20",0,null,"JJ/MM/AAAA"]
[null,1,173,"Ville/Arrêt  20",1,null,"JJ/MM/AAAA"]
[null,1,174,"Ville/Arrêt  20",0,null,"JJ/MM/AAAA"]
[null,1,175,"Ville/Arrêt  20",null,null,"JJ/MM/AAAA"]
[null,1,176,"Ville/Arrêt  20",7,null,"JJ/MM/AAAA"]
[null,1,177,"Ville/Arrêt  20",31,null,"JJ/MM/AAAA"]
[null,1,178,"Ville/Arrêt  20",21,null,"JJ/MM/AAAA"]
[null,1,179,"Ville/Arrêt  20",null,null,"JJ/MM/AAAA"]
[null,1,180,"Ville/Arrêt  20",null,null,"JJ/MM/AAAA"]
[null,1,181,"Ville/Arrêt  20",null,null,"JJ/MM/AAAA"]
[null,1,182,"Ville/Arrêt  20",null,null,"JJ/MM/AAAA"]
[null,1,183,"Ville/Arrêt  20",null,null,"JJ/MM/AAAA"]
[null,1,184,"Ville/Arrêt  20",null,null,"JJ/MM/AAAA"]
[null,1,185,"Ville/Arrêt  20",null,null,"JJ/MM/AAAA"]
[null,1,186,"Ville/Arrêt  21","Ville/Arrêt  22",null,"JJ/MM/AAAA"]
[null,1,187,"Ville/Arrêt  21","Ville/Arrêt  23",null,"JJ/MM/AAAA"]
[null,1,188,"Ville/Arrêt  21","Ville/Arrêt  24",null,"JJ/MM/AAAA"]
[null,1,189,"Ville/Arrêt  21","Ville/Arrêt  25",null,"JJ/MM/AAAA"]
[null,1,190,"Ville/Arrêt  21","Ville/Arrêt  26",null,"JJ/MM/AAAA"]
[null,1,191,"Ville/Arrêt  21","Ville/Arrêt  27",null,"JJ/MM/AAAA"]
[null,1,192,"Ville/Arrêt  21","Ville/Arrêt  28",null,"JJ/MM/AAAA"]
[null,1,193,"Ville/Arrêt  21","Ville/Arrêt  29",null,"JJ/MM/AAAA"]
[null,1,194,"Ville/Arrêt  21","Ville/Arrêt  30",null,"JJ/MM/AAAA"]
[null,1,195,"Ville/Arrêt  21","…",null,"JJ/MM/AAAA"]
[null,1,196,"Ville/Arrêt  21",0,null,"JJ/MM/AAAA"]
[null,1,197,"Ville/Arrêt  21",1,null,"JJ/MM/AAAA"]
[null,1,198,"Ville/Arrêt  21",0,null,"JJ/MM/AAAA"]
[null,1,199,"Ville/Arrêt  21",null,null,"JJ/MM/AAAA"]
[null,1,200,"Ville/Arrêt  21",7,null,"JJ/MM/AAAA"]
[null,1,201,"Ville/Arrêt  21",31,null,"JJ/MM/AAAA"]
[null,1,202,"Ville/Arrêt  21",21,null,"JJ/MM/AAAA"]
[null,1,203,"Ville/Arrêt  21",null,null,"JJ/MM/AAAA"]
[null,1,204,"Ville/Arrêt  21",null,null,"JJ/MM/AAAA"]
[null,1,205,"Ville/Arrêt  21",null,null,"JJ/MM/AAAA"]
[null,1,206,"Ville/Arrêt  21",null,null,"JJ/MM/AAAA"]
[null,1,207,"Ville/Arrêt  21",null,null,"JJ/MM/AAAA"]
[null,1,208,"Ville/Arrêt  21",null,null,"JJ/MM/AAAA"]
[null,1,209,"Ville/Arrêt  21",null,null,"JJ/MM/AAAA"]
[null,1,210,"Ville/Arrêt  22","Ville/Arrêt  23",null,"JJ/MM/AAAA"]
[null,1,211,"Ville/Arrêt  22","Ville/Arrêt  24",null,"JJ/MM/AAAA"]
[null,1,212,"Ville/Arrêt  22","Ville/Arrêt  25",null,"JJ/MM/AAAA"]
[null,1,213,"Ville/Arrêt  22","Ville/Arrêt  26",null,"JJ/MM/AAAA"]
[null,1,214,"Ville/Arrêt  22","Ville/Arrêt  27",null,"JJ/MM/AAAA"]
[null,1,215,"Ville/Arrêt  22","Ville/Arrêt  28",null,"JJ/MM/AAAA"]
[null,1,216,"Ville/Arrêt  22","Ville/Arrêt  29",null,"JJ/MM/AAAA"]
[null,1,217,"Ville/Arrêt  22","Ville/Arrêt  30",null,"JJ/MM/AAAA"]
[null,1,218,"Ville/Arrêt  22","…",null,"JJ/MM/AAAA"]
[null,1,219,"Ville/Arrêt  22",0,null,"JJ/MM/AAAA"]
[null,1,220,"Ville/Arrêt  22",1,null,"JJ/MM/AAAA"]
[null,1,221,"Ville/Arrêt  22",0,null,"JJ/MM/AAAA"]
[null,1,222,"Ville/Arrêt  22",null,null,"JJ/MM/AAAA"]
[null,1,223,"Ville/Arrêt  22",7,null,"JJ/MM/AAAA"]
[null,1,224,"Ville/Arrêt  22",31,null,"JJ/MM/AAAA"]
[null,1,225,"Ville/Arrêt  22",21,null,"JJ/MM/AAAA"]
[null,1,226,"Ville/Arrêt  22",null,null,"JJ/MM/AAAA"]
[null,1,227,"Ville/Arrêt  22",null,null,"JJ/MM/AAAA"]
[null,1,228,"Ville/Arrêt  22",null,null,"JJ/MM/AAAA"]
[null,1,229,"Ville/Arrêt  22",null,null,"JJ/MM/AAAA"]
[null,1,230,"Ville/Arrêt  22",null,null,"JJ/MM/AAAA"]
[null,1,231,"Ville/Arrêt  22",null,null,"JJ/MM/AAAA"]
[null,1,232,"Ville/Arrêt  22",null,null,"JJ/MM/AAAA"]
[null,1,233,"Ville/Arrêt  23","Ville/Arrêt  24",null,"JJ/MM/AAAA"]
[null,1,234,"Ville/Arrêt  23","Ville/Arrêt  25",null,"JJ/MM/AAAA"]
[null,1,235,"Ville/Arrêt  23","Ville/Arrêt  26",null,"JJ/MM/AAAA"]
[null,1,236,"Ville/Arrêt  23","Ville/Arrêt  27",null,"JJ/MM/AAAA"]
[null,1,237,"Ville/Arrêt  23","Ville/Arrêt  28",null,"JJ/MM/AAAA"]
[null,1,238,"Ville/Arrêt  23","Ville/Arrêt  29",null,"JJ/MM/AAAA"]
[null,1,239,"Ville/Arrêt  23","Ville/Arrêt  30",null,"JJ/MM/AAAA"]
[null,1,240,"Ville/Arrêt  23","…",null,"JJ/MM/AAAA"]
[null,1,241,"Ville/Arrêt  23",0,null,"JJ/MM/AAAA"]
[null,1,242,"Ville/Arrêt  23",1,null,"JJ/MM/AAAA"]
[null,1,243,"Ville/Arrêt  23",0,null,"JJ/MM/AAAA"]
[null,1,244,"Ville/Arrêt  23",null,null,"JJ/MM/AAAA"]
[null,1,245,"Ville/Arrêt  23",7,null,"JJ/MM/AAAA"]
[null,1,246,"Ville/Arrêt  23",31,null,"JJ/MM/AAAA"]
[null,1,247,"Ville/Arrêt  23",21,null,"JJ/MM/AAAA"]
[null,1,248,"Ville/Arrêt  23",null,null,"JJ/MM/AAAA"]
[null,1,249,"Ville/Arrêt  23",null,null,"JJ/MM/AAAA"]
[null,1,250,"Ville/Arrêt  23",null,null,"JJ/MM/AAAA"]
[null,1,251,"Ville/Arrêt  23",null,null,"JJ/MM/AAAA"]
[null,1,252,"Ville/Arrêt  23",null,null,"JJ/MM/AAAA"]
[null,1,253,"Ville/Arrêt  23",null,null,"JJ/MM/AAAA"]
[null,1,254,"Ville/Arrêt  23",null,null,"JJ/MM/AAAA"]
[null,1,255,"Ville/Arrêt  24","Ville/Arrêt  25",null,"JJ/MM/AAAA"]
[null,1,256,"Ville/Arrêt  24","Ville/Arrêt  26",null,"JJ/MM/AAAA"]
[null,1,257,"Ville/Arrêt  24","Ville/Arrêt  27",null,"JJ/MM/AAAA"]
[null,1,258,"Ville/Arrêt  24","Ville/Arrêt  28",null,"JJ/MM/AAAA"]
[null,1,259,"Ville/Arrêt  24","Ville/Arrêt  29",null,"JJ/MM/AAAA"]
[null,1,260,"Ville/Arrêt  24","Ville/Arrêt  30",null,"JJ/MM/AAAA"]
[null,1,261,"Ville/Arrêt  24","…",null,"JJ/MM/AAAA"]
[null,1,262,"Ville/Arrêt  24",0,null,"JJ/MM/AAAA"]
[null,1,263,"Ville/Arrêt  24",1,null,"JJ/MM/AAAA"]
[null,1,264,"Ville/Arrêt  24",0,null,"JJ/MM/AAAA"]
[null,1,265,"Ville/Arrêt  24",null,null,"JJ/MM/AAAA"]
[null,1,266,"Ville/Arrêt  24",7,null,"JJ/MM/AAAA"]
[null,1,267,"Ville/Arrêt  24",31,null,"JJ/MM/AAAA"]
[null,1,268,"Ville/Arrêt  24",21,null,"JJ/MM/AAAA"]
[null,1,269,"Ville/Arrêt  24",null,null,"JJ/MM/AAAA"]
[null,1,270,"Ville/Arrêt  24",null,null,"JJ/MM/AAAA"]
[null,1,271,"Ville/Arrêt  24",null,null,"JJ/MM/AAAA"]
[null,1,272,"Ville/Arrêt  24",null,null,"JJ/MM/AAAA"]
[null,1,273,"Ville/Arrêt  24",null,null,"JJ/MM/AAAA"]
[null,1,274,"Ville/Arrêt  24",null,null,"JJ/MM/AAAA"]
[null,1,275,"Ville/Arrêt  24",null,null,"JJ/MM/AAAA"]
[null,1,276,"Ville/Arrêt  25","Ville/Arrêt  26",null,"JJ/MM/AAAA"]
[null,1,277,"Ville/Arrêt  25","Ville/Arrêt  27",null,"JJ/MM/AAAA"]
[null,1,278,"Ville/Arrêt  25","Ville/Arrêt  28",null,"JJ/MM/AAAA"]
[null,1,279,"Ville/Arrêt  25","Ville/Arrêt  29",null,"JJ/MM/AAAA"]
[null,1,280,"Ville/Arrêt  25","Ville/Arrêt  30",null,"JJ/MM/AAAA"]
[null,1,281,"Ville/Arrêt  25","…",null,"JJ/MM/AAAA"]
[null,1,282,"Ville/Arrêt  25",0,null,"JJ/MM/AAAA"]
[null,1,283,"Ville/Arrêt  25",1,null,"JJ/MM/AAAA"]
[null,1,284,"Ville/Arrêt  25",0,null,"JJ/MM/AAAA"]
[null,1,285,"Ville/Arrêt  25",null,null,"JJ/MM/AAAA"]
[null,1,286,"Ville/Arrêt  25",7,null,"JJ/MM/AAAA"]
[null,1,287,"Ville/Arrêt  25",31,null,"JJ/MM/AAAA"]
[null,1,288,"Ville/Arrêt  25",21,null,"JJ/MM/AAAA"]
[null,1,289,"Ville/Arrêt  25",null,null,"JJ/MM/AAAA"]
[null,1,290,"Ville/Arrêt  25",null,null,"JJ/MM/AAAA"]
[null,1,291,"Ville/Arrêt  25",null,null,"JJ/MM/AAAA"]
[null,1,292,"Ville/Arrêt  25",null,null,"JJ/MM/AAAA"]
[null,1,293,"Ville/Arrêt  25",null,null,"JJ/MM/AAAA"]
[null,1,294,"Ville/Arrêt  25",null,null,"JJ/MM/AAAA"]
[null,1,295,"Ville/Arrêt  25",null,null,"JJ/MM/AAAA"]
[null,1,296,"Ville/Arrêt  26","Ville/Arrêt  27",null,"JJ/MM/AAAA"]
[null,1,297,"Ville/Arrêt  26","Ville/Arrêt  28",null,"JJ/MM/AAAA"]
[null,1,298,"Ville/Arrêt  26","Ville/Arrêt  29",null,"JJ/MM/AAAA"]
[null,1,299,"Ville/Arrêt  26","Ville/Arrêt  30",null,"JJ/MM/AAAA"]
[null,1,300,"Ville/Arrêt  26","…",null,"JJ/MM/AAAA"]
[null,1,301,"Ville/Arrêt  26",0,null,"JJ/MM/AAAA"]
[null,1,302,"Ville/Arrêt  26",1,null,"JJ/MM/AAAA"]
[null,1,303,"Ville/Arrêt  26",0,null,"JJ/MM/AAAA"]
[null,1,304,"Ville/Arrêt  26",null,null,"JJ/MM/AAAA"]
[null,1,305,"Ville/Arrêt  26",7,null,"JJ/MM/AAAA"]
[null,1,306,"Ville/Arrêt  26",31,null,"JJ/MM/AAAA"]
[null,1,307,"Ville/Arrêt  26",21,null,"JJ/MM/AAAA"]
[null,1,308,"Ville/Arrêt  26",null,null,"JJ/MM/AAAA"]
[null,1,309,"Ville/Arrêt  26",null,null,"JJ/MM/AAAA"]
[null,1,310,"Ville/Arrêt  26",null,null,"JJ/MM/AAAA"]
[null,1,311,"Ville/Arrêt  26",null,null,"JJ/MM/AAAA"]
[null,1,312,"Ville/Arrêt  26",null,null,"JJ/MM/AAAA"]
[null,1,313,"Ville/Arrêt  26",null,null,"JJ/MM/AAAA"]
[null,1,314,"Ville/Arrêt  26",null,null,"JJ/MM/AAAA"]
[null,1,315,"Ville/Arrêt  27","Ville/Arrêt  28",null,"JJ/MM/AAAA"]
[null,1,316,"Ville/Arrêt  27","Ville/Arrêt  29",null,"JJ/MM/AAAA"]
[null,1,317,"Ville/Arrêt  27","Ville/Arrêt  30",null,"JJ/MM/AAAA"]
[null,1,318,"Ville/Arrêt  27","…",null,"JJ/MM/AAAA"]
[null,1,319,"Ville/Arrêt  27",0,null,"JJ/MM/AAAA"]
[null,1,320,"Ville/Arrêt  27",1,null,"JJ/MM/AAAA"]
[null,1,321,"Ville/Arrêt  27",0,null,"JJ/MM/AAAA"]
[null,1,322,"Ville/Arrêt  27",null,null,"JJ/MM/AAAA"]
[null,1,323,"Ville/Arrêt  27",7,null,"JJ/MM/AAAA"]
[null,1,324,"Ville/Arrêt  27",31,null,"JJ/MM/AAAA"]
[null,1,325,"Ville/Arrêt  27",21,null,"JJ/MM/AAAA"]
[null,1,326,"Ville/Arrêt  27",null,null,"JJ/MM/AAAA"]
[null,1,327,"Ville/Arrêt  27",null,null,"JJ/MM/AAAA"]
[null,1,328,"Ville/Arrêt  27",null,null,"JJ/MM/AAAA"]
[null,1,329,"Ville/Arrêt  27",null,null,"JJ/MM/AAAA"]
[null,1,330,"Ville/Arrêt  27",null,null,"JJ/MM/AAAA"]
[null,1,331,"Ville/Arrêt  27",null,null,"JJ/MM/AAAA"]
[null,1,332,"Ville/Arrêt  27",null,null,"JJ/MM/AAAA"]
[null,1,333,"Ville/Arrêt  28","Ville/Arrêt  29",null,"JJ/MM/AAAA"]
[null,1,334,"Ville/Arrêt  28","Ville/Arrêt  30",null,"JJ/MM/AAAA"]
[null,1,335,"Ville/Arrêt  28","…",null,"JJ/MM/AAAA"]
[null,1,336,"Ville/Arrêt  28",0,null,"JJ/MM/AAAA"]
[null,1,337,"Ville/Arrêt  28",1,null,"JJ/MM/AAAA"]
[null,1,338,"Ville/Arrêt  28",0,null,"JJ/MM/AAAA"]
[null,1,339,"Ville/Arrêt  28",null,null,"JJ/MM/AAAA"]
[null,1,340,"Ville/Arrêt  28",7,null,"JJ/MM/AAAA"]
[null,1,341,"Ville/Arrêt  28",31,null,"JJ/MM/AAAA"]
[null,1,342,"Ville/Arrêt  28",21,null,"JJ/MM/AAAA"]
[null,1,343,"Ville/Arrêt  28",null,null,"JJ/MM/AAAA"]
[null,1,344,"Ville/Arrêt  28",null,null,"JJ/MM/AAAA"]
[null,1,345,"Ville/Arrêt  28",null,null,"JJ/MM/AAAA"]
[null,1,346,"Ville/Arrêt  28",null,null,"JJ/MM/AAAA"]
[null,1,347,"Ville/Arrêt  28",null,null,"JJ/MM/AAAA"]
[null,1,348,"Ville/Arrêt  28",null,null,"JJ/MM/AAAA"]
[null,1,349,"Ville/Arrêt  28",null,null,"JJ/MM/AAAA"]
[null,1,350,"Ville/Arrêt  29","Ville/Arrêt  30",null,"JJ/MM/AAAA"]
[null,1,351,"Ville/Arrêt  29","…",null,"JJ/MM/AAAA"]
[null,1,352,"Ville/Arrêt  29",0,null,"JJ/MM/AAAA"]
[null,1,353,"Ville/Arrêt  29",1,null,"JJ/MM/AAAA"]
[null,1,354,"Ville/Arrêt  29",0,null,"JJ/MM/AAAA"]
[null,1,355,"Ville/Arrêt  29",null,null,"JJ/MM/AAAA"]
[null,1,356,"Ville/Arrêt  29",7,null,"JJ/MM/AAAA"]
[null,1,357,"Ville/Arrêt  29",31,null,"JJ/MM/AAAA"]
[null,1,358,"Ville/Arrêt  29",21,null,"JJ/MM/AAAA"]
[null,1,359,"Ville/Arrêt  29",null,null,"JJ/MM/AAAA"]
[null,1,360,"Ville/Arrêt  29",null,null,"JJ/MM/AAAA"]
[null,1,361,"Ville/Arrêt  29",null,null,"JJ/MM/AAAA"]
[null,1,362,"Ville/Arrêt  29",null,null,"JJ/MM/AAAA"]
[null,1,363,"Ville/Arrêt  29",null,null,"JJ/MM/AAAA"]
[null,1,364,"Ville/Arrêt  29",null,null,"JJ/MM/AAAA"]
[null,1,365,"Ville/Arrêt  29",null,null,"JJ/MM/AAAA"]
[null,1,366,"Ville/Arrêt  30","…",null,"JJ/MM/AAAA"]
[null,1,367,"Ville/Arrêt  30",0,null,"JJ/MM/AAAA"]
[null,1,368,"Ville/Arrêt  30",1,null,"JJ/MM/AAAA"]
[null,1,369,"Ville/Arrêt  30",0,null,"JJ/MM/AAAA"]
[null,1,370,"Ville/Arrêt  30",null,null,"JJ/MM/AAAA"]
[null,1,371,"Ville/Arrêt  30",7,null,"JJ/MM/AAAA"]
[null,1,372,"Ville/Arrêt  30",31,null,"JJ/MM/AAAA"]
[null,1,373,"Ville/Arrêt  30",21,null,"JJ/MM/AAAA"]
[null,1,374,"Ville/Arrêt  30",null,null,"JJ/MM/AAAA"]
[null,1,375,"Ville/Arrêt  30",null,null,"JJ/MM/AAAA"]
[null,1,376,"Ville/Arrêt  30",null,null,"JJ/MM/AAAA"]
[null,1,377,"Ville/Arrêt  30",null,null,"JJ/MM/AAAA"]
[null,1,378,"Ville/Arrêt  30",null,null,"JJ/MM/AAAA"]
[null,1,379,"Ville/Arrêt  30",null,null,"JJ/MM/AAAA"]
[null,1,380,"Ville/Arrêt  30",null,null,"JJ/MM/AAAA"]
[null,1,381,"…",0,null,"JJ/MM/AAAA"]
[null,1,382,"…",1,null,"JJ/MM/AAAA"]
[null,1,383,"…",0,null,"JJ/MM/AAAA"]
[null,1,384,"…",null,null,"JJ/MM/AAAA"]
[null,1,385,"…",7,null,"JJ/MM/AAAA"]
[null,1,386,"…",31,null,"JJ/MM/AAAA"]
[null,1,387,"…",21,null,"JJ/MM/AAAA"]
[null,1,388,"…",null,null,"JJ/MM/AAAA"]
[null,1,389,"…",null,null,"JJ/MM/AAAA"]
[null,1,390,"…",null,null,"JJ/MM/AAAA"]
[null,1,391,"…",null,null,"JJ/MM/AAAA"]
[null,1,392,"…",null,null,"JJ/MM/AAAA"]
[null,1,393,"…",null,null,"JJ/MM/AAAA"]
[null,1,394,"…",null,null,"JJ/MM/AAAA"]
[null,1,395,0,1,null,"JJ/MM/AAAA"]
[null,1,396,0,0,null,"JJ/MM/AAAA"]
[null,1,397,0,null,null,"JJ/MM/AAAA"]
[null,1,398,0,7,null,"JJ/MM/AAAA"]
[null,1,399,0,31,null,"JJ/MM/AAAA"]
[null,1,400,0,21,null,"JJ/MM/AAAA"]
[null,1,401,0,null,null,"JJ/MM/AAAA"]
[null,1,402,0,null,null,"JJ/MM/AAAA"]
[null,1,403,0,null,null,"JJ/MM/AAAA"]
[null,1,404,0,null,null,"JJ/MM/AAAA"]
[null,1,405,0,null,null,"JJ/MM/AAAA"]
[null,1,406,0,null,null,"JJ/MM/AAAA"]
[null,1,407,0,null,null,"JJ/MM/AAAA"]
[null,1,408,1,0,null,"JJ/MM/AAAA"]
[null,1,409,1,null,null,"JJ/MM/AAAA"]
[null,1,410,1,7,null,"JJ/MM/AAAA"]
[null,1,411,1,31,null,"JJ/MM/AAAA"]
[null,1,412,1,21,null,"JJ/MM/AAAA"]
[null,1,413,1,null,null,"JJ/MM/AAAA"]
[null,1,414,1,null,null,"JJ/MM/AAAA"]
[null,1,415,1,null,null,"JJ/MM/AAAA"]
[null,1,416,1,null,null,"JJ/MM/AAAA"]
[null,1,417,1,null,null,"JJ/MM/AAAA"]
[null,1,418,1,null,null,"JJ/MM/AAAA"]
[null,1,419,1,null,null,"JJ/MM/AAAA"]
[null,1,420,0,null,null,"JJ/MM/AAAA"]
[null,1,421,0,7,null,"JJ/MM/AAAA"]
[null,1,422,0,31,null,"JJ/MM/AAAA"]
[null,1,423,0,21,null,"JJ/MM/AAAA"]
[null,1,424,0,null,null,"JJ/MM/AAAA"]
[null,1,425,0,null,null,"JJ/MM/AAAA"]
[null,1,426,0,null,null,"JJ/MM/AAAA"]
[null,1,427,0,null,null,"JJ/MM/AAAA"]
[null,1,428,0,null,null,"JJ/MM/AAAA"]
[null,1,429,0,null,null,"JJ/MM/AAAA"]
[null,1,430,0,null,null,"JJ/MM/AAAA"]
[null,1,431,null,7,null,"JJ/MM/AAAA"]
[null,1,432,null,31,null,"JJ/MM/AAAA"]
[null,1,433,null,21,null,"JJ/MM/AAAA"]
[null,1,434,null,null,null,"JJ/MM/AAAA"]
[null,1,435,null,null,null,"JJ/MM/AAAA"]
[null,1,436,null,null,null,"JJ/MM/AAAA"]
[null,1,437,null,null,null,"JJ/MM/AAAA"]
[null,1,438,null,null,null,"JJ/MM/AAAA"]
[null,1,439,null,null,null,"JJ/MM/AAAA"]
[null,1,440,null,null,null,"JJ/MM/AAAA"]
[null,1,441,7,31,null,"JJ/MM/AAAA"]
[null,1,442,7,21,null,"JJ/MM/AAAA"]
[null,1,443,7,null,null,"JJ/MM/AAAA"]
[null,1,444,7,null,null,"JJ/MM/AAAA"]
[null,1,445,7,null,null,"JJ/MM/AAAA"]
[null,1,446,7,null,null,"JJ/MM/AAAA"]
[null,1,447,7,null,null,"JJ/MM/AAAA"]
[null,1,448,7,null,null,"JJ/MM/AAAA"]
[null,1,449,7,null,null,"JJ/MM/AAAA"]
[null,1,450,31,21,null,"JJ/MM/AAAA"]
[null,1,451,31,null,null,"JJ/MM/AAAA"]
[null,1,452,31,null,null,"JJ/MM/AAAA"]
[null,1,453,31,null,null,"JJ/MM/AAAA"]
[null,1,454,31,null,null,"JJ/MM/AAAA"]
[null,1,455,31,null,null,"JJ/MM/AAAA"]
[null,1,456,31,null,null,"JJ/MM/AAAA"]
[null,1,457,31,null,null,"JJ/MM/AAAA"]
[null,1,458,21,null,null,"JJ/MM/AAAA"]
[null,1,459,21,null,null,"JJ/MM/AAAA"]
[null,1,460,21,null,null,"JJ/MM/AAAA"]
[null,1,461,21,null,null,"JJ/MM/AAAA"]
[null,1,462,21,null,null,"JJ/MM/AAAA"]
[null,1,463,21,null,null,"JJ/MM/AAAA"]
[null,1,464,21,null,null,"JJ/MM/AAAA"]
[null,1,465,null,null,null,"JJ/MM/AAAA"]
[null,1,466,null,null,null,"JJ/MM/AAAA"]
[null,1,467,null,null,null,"JJ/MM/AAAA"]
[null,1,468,null,null,null,"JJ/MM/AAAA"]
[null,1,469,null,null,null,"JJ/MM/AAAA"]
[null,1,470,null,null,null,"JJ/MM/AAAA"]
[null,1,471,null,null,null,"JJ/MM/AAAA"]
[null,1,472,null,null,null,"JJ/MM/AAAA"]
[null,1,473,null,null,null,"JJ/MM/AAAA"]
[null,1,474,null,null,null,"JJ/MM/AAAA"]
[null,1,475,null,null,null,"JJ/MM/AAAA"]
[null,1,476,null,null,null,"JJ/MM/AAAA"]
[null,1,477,null,null,null,"JJ/MM/AAAA"]
[null,1,478,null,null,null,"JJ/MM/AAAA"]
[null,1,479,null,null,null,"JJ/MM/AAAA"]
[null,1,480,null,null,null,"JJ/MM/AAAA"]
[null,1,481,null,null,null,"JJ/MM/AAAA"]
[null,1,482,null,null,null,"JJ/MM/AAAA"]
[null,1,483,null,null,null,"JJ/MM/AAAA"]
[null,1,484,null,null,null,"JJ/MM/AAAA"]
[null,1,485,null,null,null,"JJ/MM/AAAA"]
[null,2,486,"Ville/Arrêt  15","Ville/Arrêt  16",null,"JJ/MM/AAAA"]
[null,2,487,"Ville/Arrêt  15","Ville/Arrêt  17",null,"JJ/MM/AAAA"]
[null,2,488,"Ville/Arrêt  15","Ville/Arrêt  18",null,"JJ/MM/AAAA"]
[null,2,489,"Ville/Arrêt  15","Ville/Arrêt  19",null,"JJ/MM/AAAA"]
[null,2,490,"Ville/Arrêt  15","Ville/Arrêt  20",null,"JJ/MM/AAAA"]
[null,2,491,"Ville/Arrêt  15","Ville/Arrêt  21",null,"JJ/MM/AAAA"]
[null,2,492,"Ville/Arrêt  15","Ville/Arrêt  22",null,"JJ/MM/AAAA"]
[null,2,493,"Ville/Arrêt  15","Ville/Arrêt  23",null,"JJ/MM/AAAA"]
[null,2,494,"Ville/Arrêt  15","Ville/Arrêt  24",null,"JJ/MM/AAAA"]
[null,2,495,"Ville/Arrêt  15","Ville/Arrêt  25",null,"JJ/MM/AAAA"]
[null,2,496,"Ville/Arrêt  15","Ville/Arrêt  26",null,"JJ/MM/AAAA"]
[null,2,497,"Ville/Arrêt  15","Ville/Arrêt  27",null,"JJ/MM/AAAA"]
[null,2,498,"Ville/Arrêt  15","Ville/Arrêt  28",null,"JJ/MM/AAAA"]
[null,2,499,"Ville/Arrêt  15","Ville/Arrêt  29",null,"JJ/MM/AAAA"]
[null,2,500,"Ville/Arrêt  15","Ville/Arrêt  30",null,"JJ/MM/AAAA"]
[null,2,501,"Ville/Arrêt  15","…",null,"JJ/MM/AAAA"]
[null,2,502,"Ville/Arrêt  15",0,null,"JJ/MM/AAAA"]
[null,2,503,"Ville/Arrêt  15",2,null,"JJ/MM/AAAA"]
[null,2,504,"Ville/Arrêt  15",0,null,"JJ/MM/AAAA"]
[null,2,505,"Ville/Arrêt  15",null,null,"JJ/MM/AAAA"]
[null,2,506,"Ville/Arrêt  15",null,null,"JJ/MM/AAAA"]
[null,2,507,"Ville/Arrêt  15",31,null,"JJ/MM/AAAA"]
[null,2,508,"Ville/Arrêt  15"]

{"sheet":"6. Qualité service","index":6,"n_rows":58,"n_cols":12,"rows_kept":58,"cut":false,"hidden":false,"merged":[[56,8,56,10],[57,8,57,10],[49,11,49,13],[50,11,50,13],[51,11,51,13],[52,11,52,13],[53,11,53,13],[54,11,54,13],[55,11,55,13],[56,11,56,13],[57,11,57,13],[51,8,51,10],[52,8,52,10],[53,8,53,10],[54,8,54,10],[55,8,55,10],[53,1,53,3],[48,4,48,6],[48,11,48,13],[49,8,49,10],[50,8,50,10],[38,1,38,10],[50,1,50,3],[51,1,51,3],[52,1,52,3],[14,1,15,1],[1,2,1,7],[2,2,2,7],[4,1,4,12],[6,1,6,12],[13,4,13,5],[8,1,8,9],[12,1,12,3],[12,4,12,5],[13,1,13,3],[10,1,10,10]]}
[]
[null,null,"INFORMATIONS SUR LA CONSISTANCE ET LES CARACTERISTIQUES DE L'OFFRE DE TRANSPORT"]
[null,null,"- Qualité de service du transport régional et longue-distance -"]
[]
[null,"Fréquence de collecte : \n- Annuelle pour l'exercice 2015 ;\n- Trimestrielle pour l'exercice 2016 \nEchéances d'envoi des informations :\n- le 15 juin 2016 pour la collecte annuelle portant sur l'exercice 2015 ;\n- le 15 juin 2016 pour le 1er trimestre 2016 ;\n- au plus tard le 15 du deuxième mois suivant la fin du trimestre concerné pour les informations relatives aux trimestres 2, 3 et 4 de l’exercice 2016.\nMerci de préciser les informations suivantes portant sur la qualité de service du transport de voyageurs de votre entreprise, en vous référant aux définitions fournies à l'onglet 1 de la présente annexe ainsi qu'aux définitions ci-dessous. "]
[]
[null,"Nombre d'arrivées retardées: Nombre de trains arrivés après l’horaire prévu au terminus de la ligne ferroviaire. Les retards sont ceux réellement perçus par les voyageurs et ne sont donc pas allégés des éventuelles neutralisations contractuelles pour raison externe exceptionnelle. \nLes seuils de retard retenus dépendent du temps de trajet optimal (i.e. le temps de trajet initialement prévu et annoncé aux voyageurs). Les retards comptabilisés sont les suivants :\n- Les retards supérieurs ou égaux à 5 minutes pour un temps de trajet optimal inférieur à 1h30\n- Les retards supérieurs ou égaux à 10 minutes pour un temps de trajet optimal compris entre 1h30 et 3h00\n- Les retards supérieurs ou égaux à 15 minutes pour un temps de trajet optimal supérieur à 3h00."]
[]
[null,"Les informations suivantes sont à renseigner trimestriellement, par ligne exploitée. La numérotation des lignes doit être conforme à celle définie à l'onglet 5 sur l'offre de transport ou être traçable à partir de la base d'arrêts et horaires fournie par l'entreprise."]
[]
[null,"Pour les trains sans réservation, l’entreprise ferroviaire doit fournir une estimation du nombre de passagers concernés par des annulations, déprogrammations ou retards et expliciter la méthode d’estimation retenue. A défaut, l’entreprise transmet l’identification des missions train en retard, déprogrammées ou annulées (n°train/date) permettant d’évaluer le niveau de ponctualité par période (période de pointe/hors pointe)"]
[]
[null,"Type de service (liste déroulante)",null,null,"N° convention (si applicable)"]
[]
[null,"N° de ligne","Origine","Destination","Trains annulés","Voyageurs concernés par les annulations","Trains déprogrammés","Voyageurs concernés par les déprogrammations","Trains en retard à l'arrivée ","Voyageurs concernés par les retards","Retard moyen à l'arrivée"]
[null,null,"Ville","Ville","Nombre","Nombre","Nombre","Nombre","Nombre","Nombre","Minutes"]
[null,1,"Ville","Ville"]
[null,2,"Ville","Ville"]
[null,3,"Ville","Ville"]
[null,4,"Ville","Ville"]
[null,5,"Ville","Ville"]
[null,6,"Ville","Ville"]
[null,7,"Ville","Ville"]
[null,8,"Ville","Ville"]
[null,9,"Ville","Ville"]
[null,10,"Ville","Ville"]
[null,11,"Ville","Ville"]
[null,12,"Ville","Ville"]
[null,13,"Ville","Ville"]
[null,14,"Ville","Ville"]
[null,15,"Ville","Ville"]
[null,16,"Ville","Ville"]
[null,17,"Ville","Ville"]
[null,18,"Ville","Ville"]
[null,19,"Ville","Ville"]
[null,20,"Ville","Ville"]
[]
[]
[null,"Les informations suivantes sont à renseigner annuellement. Les causes prévues par le système d'amélioration des performances de SNCF Réseau sont rappelées ci-dessous."]
[]
[]
[]
[]
[]
[]
[]
[]
[]
[null,null,null,null,"Minutes perdues",null,null,null,null,null,null,"Répartition des minutes perdues de cause EF (%)"]
[null,null,null,null,"Causes EF","Causes GI","Autres",null,"Préparation des trains"]
[null,"TAGV",null,null,null,null,null,null,"Défaillance de matériel roulant"]
[null,"Transport longue-distance hors TAGV",null,null,null,null,null,null,"Escale"]
[null,"Transport régional hors Ile-de-France",null,null,null,null,null,null,"Conduite des trains"]
[null,"Transport régional Ile-de-France",null,null,null,null,null,null,"Non-respect de marche tracée"]
[null,null,null,null,null,null,null,null,"Malveillance"]
[null,null,null,null,null,null,null,null,"Intempéries"]
[null,null,null,null,null,null,null,null,"Incidents liés à tiers"]
[null,null,null,null,null,null,null,null,"Autres causes externes"]

{"sheet":"7. Fréquentation","index":7,"n_rows":62,"n_cols":17,"rows_kept":62,"cut":false,"hidden":false,"merged":[[10,12,10,16],[10,11,11,11],[9,10,9,12],[8,10,8,12],[8,13,8,15],[9,13,9,15],[10,10,11,10],[1,2,1,8],[2,2,2,8],[4,1,4,15],[9,1,9,3],[6,1,6,5],[8,1,8,3],[8,4,8,5],[9,4,9,5],[10,4,10,8],[27,1,28,1],[27,2,28,2],[27,3,28,3],[27,4,28,4],[10,1,11,1],[10,2,11,2],[10,3,11,3],[26,1,26,3],[26,4,26,5],[25,1,25,3],[25,4,25,5]]}
[]
[null,null,"INFORMATIONS SUR LA FREQUENTATION DES SERVICES"]
[null,null,"- Transport régional et longue-distance -"]
[]
[null,"Fréquence de collecte : \n- Annuelle pour l'exercice 2015 ;\n- Trimestrielle pour l'exercice 2016 \nEchéances d'envoi des informations :\n- le 15 juin 2016 pour la collecte annuelle portant sur l'exercice 2015 ;\n- le 15 juin 2016 pour le 1er trimestre 2016 ;\n- au plus tard le 15 du deuxième mois suivant la fin du trimestre concerné pour les informations relatives aux trimestres 2, 3 et 4 de l’exercice 2016.\n\nMerci de préciser les informations suivantes portant sur la fréquentation des services de transport ferroviaire de voyageurs de votre entreprise, en vous référant aux définitions fournies à l'onglet 1 de la présente annexe. \nLes numéros de lignes et liaisons doivent être strictement identiques d'une collecte à l'autre et doivent correspondre aux numérotations attribuées à l'onglet 5 de la présente annexe ou être traçables à partir de la base des arrêts et horaires fournie par l'entreprise."]
[]
[null,"Merci de remplir chaque tableau par type de service/convention."]
[]
[null,"Type de service (liste déroulante)",null,null,"N° convention (si applicable)",null,null,null,null,null,"Type de service (liste déroulante)",null,null,"N° convention (si applicable)"]
[]
[null,"n° de ligne","Nombre total passagers","Nombre total passagers.km","Répartition du nombre de passagers.km",null,null,null,null,null,"n° de ligne","Recettes issues du trafic","Répartition des recettes"]
[null,null,null,null,"% billets","Dont % billets à tarification subventionnée (donnant lieu à compensations par une AO)","% abonnement travail","% abonnement élèves, étudiants, apprentis","% autres abonnements",null,null,null,"% billets","Dont % billets à tarification subventionnée (donnant lieu à compensations par une AO)","% abonnement travail","% abonnement élèves, étudiants, apprentis","% autres abonnements"]
[null,1,null,null,null,null,null,null,null,null,1]
[null,2,null,null,null,null,null,null,null,null,2]
[null,3,null,null,null,null,null,null,null,null,3]
[null,4,null,null,null,null,null,null,null,null,4]
[null,5,null,null,null,null,null,null,null,null,5]
[null,6,null,null,null,null,null,null,null,null,6]
[null,7,null,null,null,null,null,null,null,null,7]
[null,8,null,null,null,null,null,null,null,null,8]
[null,9,null,null,null,null,null,null,null,null,9]
[null,10,null,null,null,null,null,null,null,null,10]
[null,"_","_","_","_","…","_","_","_",null,"…","…","…","…","…","…","…"]
[]
[]
[null,"Type de service (liste déroulante)",null,null,"N° convention (si applicable)"]
[]
[null,"n° de ligne","n° de liaison","Origine","Destination","Passagers","Passager.km","Recettes issues du trafic"]
[null,null,null,null,null,"Nombre","Nombre","€"]
[null,{"$f":"'5. Offre de transport'!B67","v":1},{"$f":"'5. Offre de transport'!C67","v":1},{"$f":"'5. Offre de transport'!D67","v":"Ville/Arrêt  0"},{"$f":"'5. Offre de transport'!E67","v":"Ville/Arrêt  1"}]
[null,{"$f":"'5. Offre de transport'!B68","v":1},{"$f":"'5. Offre de transport'!C68","v":2},{"$f":"'5. Offre de transport'!D68","v":"Ville/Arrêt  0"},{"$f":"'5. Offre de transport'!E68","v":"Ville/Arrêt  2"}]
[null,{"$f":"'5. Offre de transport'!B69","v":1},{"$f":"'5. Offre de transport'!C69","v":3},{"$f":"'5. Offre de transport'!D69","v":"Ville/Arrêt  0"},{"$f":"'5. Offre de transport'!E69","v":"Ville/Arrêt  3"}]
[null,{"$f":"'5. Offre de transport'!B70","v":1},{"$f":"'5. Offre de transport'!C70","v":4},{"$f":"'5. Offre de transport'!D70","v":"Ville/Arrêt  0"},{"$f":"'5. Offre de transport'!E70","v":"Ville/Arrêt  4"}]
[null,{"$f":"'5. Offre de transport'!B71","v":1},{"$f":"'5. Offre de transport'!C71","v":5},{"$f":"'5. Offre de transport'!D71","v":"Ville/Arrêt  0"},{"$f":"'5. Offre de transport'!E71","v":"Ville/Arrêt  5"}]
[null,{"$f":"'5. Offre de transport'!B72","v":1},{"$f":"'5. Offre de transport'!C72","v":6},{"$f":"'5. Offre de transport'!D72","v":"Ville/Arrêt  0"},{"$f":"'5. Offre de transport'!E72","v":"Ville/Arrêt  6"}]
[null,{"$f":"'5. Offre de transport'!B73","v":1},{"$f":"'5. Offre de transport'!C73","v":7},{"$f":"'5. Offre de transport'!D73","v":"Ville/Arrêt  1"},{"$f":"'5. Offre de transport'!E73","v":"Ville/Arrêt  2"}]
[null,{"$f":"'5. Offre de transport'!B74","v":1},{"$f":"'5. Offre de transport'!C74","v":8},{"$f":"'5. Offre de transport'!D74","v":"Ville/Arrêt  1"},{"$f":"'5. Offre de transport'!E74","v":"Ville/Arrêt  3"}]
[null,{"$f":"'5. Offre de transport'!B75","v":1},{"$f":"'5. Offre de transport'!C75","v":9},{"$f":"'5. Offre de transport'!D75","v":"Ville/Arrêt  1"},{"$f":"'5. Offre de transport'!E75","v":"Ville/Arrêt  4"}]
[null,{"$f":"'5. Offre de transport'!B76","v":1},{"$f":"'5. Offre de transport'!C76","v":10},{"$f":"'5. Offre de transport'!D76","v":"Ville/Arrêt  1"},{"$f":"'5. Offre de transport'!E76","v":"Ville/Arrêt  5"}]
[null,{"$f":"'5. Offre de transport'!B77","v":1},{"$f":"'5. Offre de transport'!C77","v":11},{"$f":"'5. Offre de transport'!D77","v":"Ville/Arrêt  1"},{"$f":"'5. Offre de transport'!E77","v":"Ville/Arrêt  6"}]
[null,{"$f":"'5. Offre de transport'!B78","v":1},{"$f":"'5. Offre de transport'!C78","v":12},{"$f":"'5. Offre de transport'!D78","v":"Ville/Arrêt  2"},{"$f":"'5. Offre de transport'!E78","v":"Ville/Arrêt  3"}]
[null,{"$f":"'5. Offre de transport'!B79","v":1},{"$f":"'5. Offre de transport'!C79","v":13},{"$f":"'5. Offre de transport'!D79","v":"Ville/Arrêt  2"},{"$f":"'5. Offre de transport'!E79","v":"Ville/Arrêt  4"}]
[null,{"$f":"'5. Offre de transport'!B80","v":1},{"$f":"'5. Offre de transport'!C80","v":14},{"$f":"'5. Offre de transport'!D80","v":"Ville/Arrêt  2"},{"$f":"'5. Offre de transport'!E80","v":"Ville/Arrêt  5"}]
[null,{"$f":"'5. Offre de transport'!B81","v":1},{"$f":"'5. Offre de transport'!C81","v":15},{"$f":"'5. Offre de transport'!D81","v":"Ville/Arrêt  2"},{"$f":"'5. Offre de transport'!E81","v":"Ville/Arrêt  6"}]
[null,{"$f":"'5. Offre de transport'!B82","v":1},{"$f":"'5. Offre de transport'!C82","v":16},{"$f":"'5. Offre de transport'!D82","v":"Ville/Arrêt  3"},{"$f":"'5. Offre de transport'!E82","v":"Ville/Arrêt  4"}]
[null,{"$f":"'5. Offre de transport'!B83","v":1},{"$f":"'5. Offre de transport'!C83","v":17},{"$f":"'5. Offre de transport'!D83","v":"Ville/Arrêt  3"},{"$f":"'5. Offre de transport'!E83","v":"Ville/Arrêt  5"}]
[null,{"$f":"'5. Offre de transport'!B84","v":1},{"$f":"'5. Offre de transport'!C84","v":18},{"$f":"'5. Offre de transport'!D84","v":"Ville/Arrêt  3"},{"$f":"'5. Offre de transport'!E84","v":"Ville/Arrêt  6"}]
[null,{"$f":"'5. Offre de transport'!B85","v":1},{"$f":"'5. Offre de transport'!C85","v":19},{"$f":"'5. Offre de transport'!D85","v":"Ville/Arrêt  4"},{"$f":"'5. Offre de transport'!E85","v":"Ville/Arrêt  5"}]
[null,{"$f":"'5. Offre de transport'!B86","v":1},{"$f":"'5. Offre de transport'!C86","v":20},{"$f":"'5. Offre de transport'!D86","v":"Ville/Arrêt  4"},{"$f":"'5. Offre de transport'!E86","v":"Ville/Arrêt  6"}]
[null,{"$f":"'5. Offre de transport'!B87","v":1},{"$f":"'5. Offre de transport'!C87","v":21},{"$f":"'5. Offre de transport'!D87","v":"Ville/Arrêt  5"},{"$f":"'5. Offre de transport'!E87","v":"Ville/Arrêt  6"}]
[null,{"$f":"'5. Offre de transport'!B88","v":"…"},{"$f":"'5. Offre de transport'!C88","v":"…"},{"$f":"'5. Offre de transport'!D88","v":"…"},{"$f":"'5. Offre de transport'!E88","v":"…"}]
[null,{"$f":"'5. Offre de transport'!B89","v":2},{"$f":"'5. Offre de transport'!C89","v":22},{"$f":"'5. Offre de transport'!D89","v":"Ville/Arrêt  0"},{"$f":"'5. Offre de transport'!E89","v":"Ville/Arrêt  1"}]
[null,{"$f":"'5. Offre de transport'!B90","v":2},{"$f":"'5. Offre de transport'!C90","v":23},{"$f":"'5. Offre de transport'!D90","v":"Ville/Arrêt  0"},{"$f":"'5. Offre de transport'!E90","v":"Ville/Arrêt  2"}]
[null,{"$f":"'5. Offre de transport'!B91","v":2},{"$f":"'5. Offre de transport'!C91","v":24},{"$f":"'5. Offre de transport'!D91","v":"Ville/Arrêt  0"},{"$f":"'5. Offre de transport'!E91","v":"Ville/Arrêt  3"}]
[null,{"$f":"'5. Offre de transport'!B92","v":2},{"$f":"'5. Offre de transport'!C92","v":25},{"$f":"'5. Offre de transport'!D92","v":"Ville/Arrêt  0"},{"$f":"'5. Offre de transport'!E92","v":"Ville/Arrêt  4"}]
[null,{"$f":"'5. Offre de transport'!B93","v":2},{"$f":"'5. Offre de transport'!C93","v":26},{"$f":"'5. Offre de transport'!D93","v":"Ville/Arrêt  1"},{"$f":"'5. Offre de transport'!E93","v":"Ville/Arrêt  2"}]
[null,{"$f":"'5. Offre de transport'!B94","v":2},{"$f":"'5. Offre de transport'!C94","v":27},{"$f":"'5. Offre de transport'!D94","v":"Ville/Arrêt  1"},{"$f":"'5. Offre de transport'!E94","v":"Ville/Arrêt  3"}]
[null,{"$f":"'5. Offre de transport'!B95","v":2},{"$f":"'5. Offre de transport'!C95","v":28},{"$f":"'5. Offre de transport'!D95","v":"Ville/Arrêt  1"},{"$f":"'5. Offre de transport'!E95","v":"Ville/Arrêt  4"}]
[null,{"$f":"'5. Offre de transport'!B96","v":2},{"$f":"'5. Offre de transport'!C96","v":29},{"$f":"'5. Offre de transport'!D96","v":"Ville/Arrêt  2"},{"$f":"'5. Offre de transport'!E96","v":"Ville/Arrêt  3"}]
[null,{"$f":"'5. Offre de transport'!B97","v":2},{"$f":"'5. Offre de transport'!C97","v":30},{"$f":"'5. Offre de transport'!D97","v":"Ville/Arrêt  2"},{"$f":"'5. Offre de transport'!E97","v":"Ville/Arrêt  4"}]
[null,{"$f":"'5. Offre de transport'!B98","v":2},{"$f":"'5. Offre de transport'!C98","v":31},{"$f":"'5. Offre de transport'!D98","v":"Ville/Arrêt  3"},{"$f":"'5. Offre de transport'!E98","v":"Ville/Arrêt  4"}]
[null,{"$f":"'5. Offre de transport'!B99","v":"…"},{"$f":"'5. Offre de transport'!C99","v":"…"},{"$f":"'5. Offre de transport'!D99","v":"…"},{"$f":"'5. Offre de transport'!E99","v":"…"}]

{"sheet":"8. REF","index":8,"n_rows":121,"n_cols":24,"rows_kept":121,"cut":false,"hidden":false,"merged":[[6,8,6,9],[48,1,48,5],[17,4,17,6],[40,1,40,3],[35,1,35,3],[3,1,3,5],[5,1,5,6],[6,1,6,6],[7,1,8,6],[22,1,22,3],[22,4,22,6],[29,12,29,20],[1,2,1,9],[32,1,32,3],[33,1,33,3],[34,1,34,3],[36,1,36,3],[37,1,37,3],[38,1,38,3],[39,1,39,3],[39,12,39,15],[31,19,32,19],[31,20,32,20],[31,16,32,16],[31,17,32,17],[31,18,32,18],[14,4,14,5],[18,1,18,3],[18,4,18,6],[19,1,19,3],[19,4,19,6],[20,1,20,3],[20,4,20,6],[21,1,21,3],[21,4,21,6],[40,12,40,15],[11,1,11,9],[15,1,15,3],[15,4,15,6],[15,7,15,8],[16,1,16,3],[16,4,16,6],[17,1,17,3],[41,12,41,15],[33,12,33,14],[34,12,34,15],[36,12,36,15],[37,12,37,15],[38,12,38,15],[35,12,35,15],[23,1,23,3],[23,4,23,6],[24,1,24,2],[24,4,24,6],[26,1,26,3],[26,4,26,6],[13,1,13,3],[13,4,13,5],[14,1,14,3],[56,1,56,5],[63,5,63,6],[64,1,64,4],[64,5,64,6],[42,12,42,15],[43,12,43,15],[55,1,55,5],[54,1,54,5],[53,1,53,5],[45,1,45,9],[49,1,49,5],[50,1,50,5],[51,1,51,5],[52,1,52,5],[56,8,56,14],[56,15,56,20],[61,21,62,21],[61,9,62,9],[61,10,62,10],[61,11,62,11],[61,12,62,12],[61,13,62,13],[61,14,62,14],[65,1,65,4],[59,1,59,9],[61,5,62,6],[61,7,62,7],[61,8,62,8],[68,1,68,4],[68,5,68,6],[69,1,69,4],[69,5,69,6],[70,1,70,4],[70,5,70,6],[66,1,66,4],[66,5,66,6],[67,1,67,4],[67,5,67,6],[82,1,82,3],[81,1,81,3],[80,1,80,3],[73,1,73,5],[73,6,73,14],[74,1,74,5],[74,6,74,14],[71,1,71,4],[71,5,71,6],[89,19,90,19],[89,6,90,7],[89,8,90,8],[89,9,90,9],[89,10,90,10],[89,11,90,11],[85,1,85,4],[89,1,90,1],[87,1,87,3],[87,4,87,5],[88,1,88,3],[88,4,88,5],[89,17,90,17],[89,18,90,18],[89,4,90,5],[89,2,90,3],[89,23,90,23],[91,6,91,7],[92,6,92,7],[93,6,93,7],[94,6,94,7],[95,6,95,7],[29,1,29,10],[61,22,62,22],[78,4,78,13],[76,1,76,11],[61,15,62,15],[61,16,62,16],[61,17,62,17],[61,18,62,18],[61,19,62,19],[89,20,90,20],[89,22,90,22],[89,12,90,12],[89,13,90,13],[89,14,90,14],[61,20,62,20],[89,21,90,21],[89,15,90,15],[89,16,90,16],[96,6,96,7],[97,6,97,7],[98,6,98,7],[99,6,99,7],[100,6,100,7],[101,6,101,7],[102,6,102,7],[103,6,103,7],[104,6,104,7],[120,6,120,7],[105,6,105,7],[106,6,106,7],[107,6,107,7],[108,6,108,7],[109,6,109,7],[110,6,110,7],[111,6,111,7],[112,6,112,7],[113,6,113,7],[107,4,107,5],[108,4,108,5],[114,6,114,7],[115,6,115,7],[116,6,116,7],[117,6,117,7],[118,6,118,7],[119,6,119,7],[119,4,119,5],[120,4,120,5],[91,4,91,5],[92,4,92,5],[93,4,93,5],[94,4,94,5],[95,4,95,5],[96,4,96,5],[97,4,97,5],[98,4,98,5],[99,4,99,5],[109,4,109,5],[110,4,110,5],[111,4,111,5],[112,4,112,5],[113,4,113,5],[114,4,114,5],[115,4,115,5],[100,4,100,5],[101,4,101,5],[102,4,102,5],[103,4,103,5],[104,4,104,5],[105,4,105,5],[106,4,106,5],[112,2,112,3],[114,2,114,3],[115,2,115,3],[116,2,116,3],[116,4,116,5],[117,4,117,5],[118,4,118,5],[117,2,117,3],[118,2,118,3],[119,2,119,3],[120,2,120,3],[91,2,91,3],[92,2,92,3],[93,2,93,3],[94,2,94,3],[95,2,95,3],[96,2,96,3],[97,2,97,3],[98,2,98,3],[99,2,99,3],[100,2,100,3],[101,2,101,3],[102,2,102,3],[103,2,103,3],[104,2,104,3],[105,2,105,3],[106,2,106,3],[107,2,107,3],[113,2,113,3],[108,2,108,3],[109,2,109,3],[110,2,110,3],[111,2,111,3]]}
[]
[null,null,"INFORMATIONS SUR LES RESULTATS ECONOMIQUES ET FINANCIERS"]
[]
[null,"Fréquence de collecte : Annuelle\nPériode couverte : Exercice 2015\nEchéance d'envoi des informations : 15 juin 2016"]
[]
[null,"Documents à fournir :"]
[null,"- Le compte de résultat de l'entreprise",null,null,null,null,null,null,"Norme comptable : Norme française"]
[null,"- Le bilan de l'entreprise\n- Le rapport des commissaires aux comptes sur les comptes de l'entreprise"]
[]
[]
[]
[null,"Merci d'indiquer les informations suivantes concernant les canaux de distribution. Le total doit être égal à 100%.\nLes ventes de billets doivent concerner les trajets O/D France.\nL'information est détaillée par type de trafic et le cas échant par convention."]
[]
[null,"Type de service (liste déroulante)",null,null,"N° convention (si applicable)"]
[]
[null,"Répartition des billets vendus en % de passagers"]
[null,"Site internet de votre entreprise"]
[null,"Site(s) internet de votre Groupe"]
[null,"Autres sites internet (comparateurs…)"]
[null,"Centrale téléphonique"]
[null,"Agence de voyage"]
[null,"Guichet en gare ferroviaire et/ou routière"]
[null,"Achat dans le train"]
[null,"Autre (1)"]
[null,"Total",null,null,{"$f":"SUM(E17:G24)","v":0}]
[]
[null,"(1) Préciser les autres modes \nde distribution :"]
[]
[]
[null,"Les éléments de bilan à compléter ci-dessous concernent le périmètre global de l'activité de transport voyageurs et sont à fournir en norme sociale française ou en norme IFRS selon les usages de l'entreprise",null,null,null,null,null,null,null,null,null,null,"Les informations ci-dessous sont à spécifier par type de trafic: "]
[]
[null,"au 31/12/2015",null,null,null,null,null,null,null,null,null,null,null,null,null,null,"Redevances d'accès","Redevances de réservation","Redevances de circulation","Redevances de circulation électrique","Redevances quai"]
[null,"Capitaux propres"]
[null,"Dont capital social",null,null,null,null,null,null,null,null,null,null,"Trains commerciaux"]
[null,"Dont résultat net",null,null,null,null,null,null,null,null,null,null,"Transport régional"]
[null,"Dette financière nette (1)+(2)-(3)+(4)+(5)",null,null,{"$f":"E37+E38-E39+E40+E41","v":0},null,null,null,null,null,null,null,"Dont Ile-de-France (Transilien)"]
[null,"Dettes financières (1)",null,null,null,null,null,null,null,null,null,null,"Transport longue-distance",null,null,null,{"$f":"Q38+Q39","v":0},{"$f":"R38+R39","v":0},{"$f":"S38+S39","v":0},{"$f":"T38+T39","v":0},{"$f":"U38+U39","v":0}]
[null,"Concours bancaires courants (2)",null,null,null,null,null,null,null,null,null,null,"Dont Conventionné"]
[null,"Autres dettes CT * (3)",null,null,null,null,null,null,null,null,null,null,"Dont non conventionné",null,null,null,{"$f":"Q40+Q41","v":0},{"$f":"R40+R41","v":0},{"$f":"S40+S41","v":0},{"$f":"T40+T41","v":0},{"$f":"U40+U41","v":0}]
[null,"Disponibilités (4)",null,null,null,null,null,null,null,null,null,null,"Dont grande-vitesse"]
[null,"Valeurs mobilières de placement (5)",null,null,null,null,null,null,null,null,null,null,"Dont vitesse classique"]
[null,"(*) engagements de crédit-bail, comptes courants d'associés, provisions pour charges, participation des salariés.",null,null,null,null,null,null,null,null,null,null,"Total transport commercial",null,null,null,{"$f":"Q35+Q37","v":0},{"$f":"R35+R37","v":0},{"$f":"S35+S37","v":0},{"$f":"T35+T37","v":0},{"$f":"U35+U37","v":0}]
[null,null,null,null,null,null,null,null,null,null,null,null,"Trains non-commerciaux"]
[null,null,null,null,null,null,null,null,null,null,null,null,"TOTAL",null,null,null,{"$f":"Q42+Q43","v":0},{"$f":"R42+R43","v":0},0,0,0]
[]
[null,"Les informations relatives aux charges d'accès aux installations de service à compléter ci-dessous concernent le périmètre global de l'activité de transport voyageurs:"]
[]
[null,"Année 2015",null,null,null,null,"Euros"]
[null,"Redevances gares de voyageurs (hors redevances quai)"]
[null,"      Dont Gares catégorie A"]
[null,"      Dont Gares catégorie B"]
[null,"      Dont Gares catégorie C"]
[null,"Redevances d'accès aux sites d'approvisionnement en combustible"]
[null,"Redevances pour les centres de maintenance"]
[null,"Redevances d'accès aux sites d'approvisionnement en sable"]
[null,"Redevances d'usage des voies de service "]
[null,"Autres charges d'accès aux installations de service (le cas échéant)",null,null,null,null,null,null,"Préciser la nature des autres charges d'accès aux installations de service, le cas échéant :"]
[]
[]
[null,"Les informations ci-dessous sont à détailler par type de service :"]
[]
[null,null,null,null,null,"Recettes directes du trafic",null,"Compensations tarifaires","Contributions (hors compensations)","Autres recettes ","Chiffre d'affaires","Autres produits d'exploitation","Total des Produits","Total des achats et charges externes","Dont Péages","Dont location matériels et engins","Dont achat d'énergie et de matières","Charges de personnel","Impôts et taxes","Autres charges d'exploitation","Total des charges d'exploitation ","Marge opérationnelle (Mop)","Effectif moyen \n(en ETP)"]
[]
[null,null,null,null,null,"(1)",null,"(2)","(3)","(4)","(5)=(1)+(2)+(3)+(4)","(6)","(7)=(5)+(6)","(8)",null,null,null,"(9)","(10)","(11)","(12)=(8)+(9)+(10)+(11)","(13)=(7)-(12)"]
[null,"Transport régional",null,null,null,null,null,null,null,null,{"$f":"F65+H65+I65+J65","v":0},null,{"$f":"K65+L65","v":0},null,null,null,null,null,null,null,{"$f":"+N65+R65+S65+T65","v":0},{"$f":"+M65-U65","v":0}]
[null,"Dont Ile-de-France (Transilien)"]
[null,"Transport longue-distance",null,null,null,{"$f":"F68+F69","v":0},null,{"$f":"H68+H69","v":0},0,0,0,0,0,0,{"$f":"O68+O69","v":0},{"$f":"P68+P69","v":0},{"$f":"Q68+Q69","v":0},{"$f":"R68+R69","v":0},0,0,0,0,{"$f":"W68+W69","v":0}]
[null,"Dont Conventionné",null,null,null,null,null,null,null,null,{"$f":"F68+H68+I68+J68","v":0},null,{"$f":"K68+L68","v":0},null,null,null,null,null,null,null,0,0]
[null,"Dont non conventionné",null,null,null,{"$f":"F70+F71","v":0},null,{"$f":"H70+H71","v":0},0,0,0,0,0,0,0,0,{"$f":"Q70+Q71","v":0},{"$f":"R70+R71","v":0},0,0,0,0,{"$f":"W70+W71","v":0}]
[null,"Dont grande-vitesse",null,null,null,null,null,null,null,null,{"$f":"F70+H70+I70+J70","v":0},null,{"$f":"K70+L70","v":0},null,null,null,null,null,null,null,0,0]
[null,"Dont vitesse classique",null,null,null,null,null,null,null,null,{"$f":"F71+H71+I71+J71","v":0},null,{"$f":"K71+L71","v":0},null,null,null,null,null,null,null,0,0]
[null,"Total",null,null,null,{"$f":"F65+F67","v":0},null,{"$f":"H65+H67","v":0},0,0,0,0,0,0,{"$f":"O65+O67","v":0},{"$f":"P65+P67","v":0},{"$f":"Q65+Q67","v":0},{"$f":"R65+R67","v":0},0,0,0,0,{"$f":"W65+W67","v":0}]
[]
[null,"Préciser la nature des \"autres recettes\" (4):"]
[null,"Préciser la nature des \"autres produits d'exploitation\" (6):"]
[]
[null,"Les informations relatives aux subventions reçues concernent le périmètre global de l'activité de transport voyageurs:"]
[]
[null,null,null,null,"Détail des subventions (ex: compensation, contribution) reçues pour l'activité de transport de voyageurs. Décrire le type de subvention perçu et fournir le montant correspondant"]
[null,null,null,null,"Subvention 1","Montant 1","Subvention 2","Montant 2","Subvention 3","Montant 3","Subvention 4","Montant 4","Subvention 5","Montant 5"]
[null,"En provenance des AOT Régionales"]
[null,"En provenance de l'Etat"]
[null,"Autres provenances (préciser)"]
[]
[]
[null,"Merci de remplir un tableau par type de service/convention."]
[]
[null,"Type de service (liste déroulante)",null,null,"N° convention (si applicable)"]
[]
[null,"N° de ligne","Origine",null,"Destination",null,"Recettes directes du trafic",null,"Compensations tarifaires","Contributions (hors compensations)","Autres recettes ","Chiffre d'affaires","Autres produits d'exploitation","Total des Produits","Total des achats et charges externes","Dont Péages","Dont location matériels et engins","Dont achat d'énergie et de matières","Charges de personnel","Impôts et taxes","Autres charges d'exploitation ","Total des charges d'exploitation","Marge opérationnelle (Mop)","Effectif moyen \n(en ETP)"]
[]
[null,1,"Ville 1",null,"Ville 2",null,null,null,null,null,null,{"$f":"G92+I92+J92+K92","v":0},null,{"$f":"L92+M92","v":0},null,null,null,null,null,null,null,{"$f":"+O92+S92+T92+U92","v":0},{"$f":"+N92-V92","v":0}]
[null,2,"Ville 1",null,"Ville 2",null,null,null,null,null,null,{"$f":"G93+I93+J93+K93","v":0},null,{"$f":"L93+M93","v":0},null,null,null,null,null,null,null,{"$f":"+O93+S93+T93+U93","v":0},{"$f":"+N93-V93","v":0}]
[null,3,"Ville 1",null,"Ville 2",null,null,null,null,null,null,0,null,0,null,null,null,null,null,null,null,0,0]
[null,4,"Ville 1",null,"Ville 2",null,null,null,null,null,null,0,null,0,null,null,null,null,null,null,null,0,0]
[null,5,"Ville 1",null,"Ville 2",null,null,null,null,null,null,0,null,0,null,null,null,null,null,null,null,0,0]
[null,6,"Ville 1",null,"Ville 2",null,null,null,null,null,null,0,null,0,null,null,null,null,null,null,null,0,0]
[null,7,"Ville 1",null,"Ville 2",null,null,null,null,null,null,0,null,0,null,null,null,null,null,null,null,0,0]
[null,8,"Ville 1",null,"Ville 2",null,null,null,null,null,null,0,null,0,null,null,null,null,null,null,null,0,0]
[null,9,"Ville 1",null,"Ville 2",null,null,null,null,null,null,0,null,0,null,null,null,null,null,null,null,0,0]
[null,10,"Ville 1",null,"Ville 2",null,null,null,null,null,null,0,null,0,null,null,null,null,null,null,null,0,0]
[null,11,"Ville 1",null,"Ville 2",null,null,null,null,null,null,0,null,0,null,null,null,null,null,null,null,0,0]
[null,12,"Ville 1",null,"Ville 2",null,null,null,null,null,null,0,null,0,null,null,null,null,null,null,null,0,0]
[null,13,"Ville 1",null,"Ville 2",null,null,null,null,null,null,0,null,0,null,null,null,null,null,null,null,0,0]
[null,14,"Ville 1",null,"Ville 2",null,null,null,null,null,null,0,null,0,null,null,null,null,null,null,null,0,0]
[null,15,"Ville 1",null,"Ville 2",null,null,null,null,null,null,0,null,0,null,null,null,null,null,null,null,0,0]
[null,16,"Ville 1",null,"Ville 2",null,null,null,null,null,null,0,null,0,null,null,null,null,null,null,null,0,0]
[null,17,"Ville 1",null,"Ville 2",null,null,null,null,null,null,0,null,0,null,null,null,null,null,null,null,0,0]
[null,18,"Ville 1",null,"Ville 2",null,null,null,null,null,null,0,null,0,null,null,null,null,null,null,null,0,0]
[null,19,"Ville 1",null,"Ville 2",null,null,null,null,null,null,0,null,0,null,null,null,null,null,null,null,0,0]
[null,20,"Ville 1",null,"Ville 2",null,null,null,null,null,null,0,null,0,null,null,null,null,null,null,null,0,0]
[null,21,"Ville 1",null,"Ville 2",null,null,null,null,null,null,0,null,0,null,null,null,null,null,null,null,0,0]
[null,22,"Ville 1",null,"Ville 2",null,null,null,null,null,null,0,null,0,null,null,null,null,null,null,null,0,0]
[null,23,"Ville 1",null,"Ville 2",null,null,null,null,null,null,0,null,0,null,null,null,null,null,null,null,0,0]
[null,24,"Ville 1",null,"Ville 2",null,null,null,null,null,null,0,null,0,null,null,null,null,null,null,null,0,0]
[null,25,"Ville 1",null,"Ville 2",null,null,null,null,null,null,0,null,0,null,null,null,null,null,null,null,0,0]
[null,26,"Ville 1",null,"Ville 2",null,null,null,null,null,null,0,null,0,null,null,null,null,null,null,null,0,0]
[null,27,"Ville 1",null,"Ville 2",null,null,null,null,null,null,0,null,0,null,null,null,null,null,null,null,0,0]
[null,28,"Ville 1",null,"Ville 2",null,null,null,null,null,null,0,null,0,null,null,null,null,null,null,null,0,0]
[null,29,"Ville 1",null,"Ville 2",null,null,null,null,null,null,0,null,0,null,null,null,null,null,null,null,0,0]
[null,"…","…",null,"…",null,null,null,null,null,null,0,null,0,null,null,null,null,null,null,null,0,0]